BEGIN:VCALENDAR
VERSION:2.0
PRODID:-//High Desert B.I.T.S. - ECPv6.15.20//NONSGML v1.0//EN
CALSCALE:GREGORIAN
METHOD:PUBLISH
X-ORIGINAL-URL:https://highdesertbits.com
X-WR-CALDESC:Events for High Desert B.I.T.S.
REFRESH-INTERVAL;VALUE=DURATION:PT1H
X-Robots-Tag:noindex
X-PUBLISHED-TTL:PT1H
BEGIN:VTIMEZONE
TZID:UTC
BEGIN:STANDARD
TZOFFSETFROM:+0000
TZOFFSETTO:+0000
TZNAME:UTC
DTSTART:20250101T000000
END:STANDARD
END:VTIMEZONE
BEGIN:VEVENT
DTSTART;TZID=UTC:20260508T180000
DTEND;TZID=UTC:20260508T190000
DTSTAMP:20260423T191842
CREATED:20260316T130818Z
LAST-MODIFIED:20260316T130818Z
UID:2449-1778263200-1778266800@highdesertbits.com
SUMMARY:BEAT Childrens Theatre presents THE SECRET GARDEN
DESCRIPTION:BEAT Childrens Theatre presents THE SECRET GARDEN \nAdapted by Tim Kelly \nMay 8-17\, specific dates to follow \nAt Open Space Event Studio
URL:https://highdesertbits.com/event/beat-childrens-theatre-presents-the-secret-garden/
LOCATION:Open Space Event Studio\, 220 NE Lafayette Ave\, Bend\, OR\, 97701
END:VEVENT
BEGIN:VEVENT
DTSTART;TZID=UTC:20260508T193000
DTEND;TZID=UTC:20260508T213000
DTSTAMP:20260423T191842
CREATED:20250908T132353Z
LAST-MODIFIED:20250908T132353Z
UID:2046-1778268600-1778275800@highdesertbits.com
SUMMARY:Cascade Theatrical Company presents AMERICAN BUFFALO
DESCRIPTION:Cascade Theatrical Company presents AMERICAN BUFFALO \nBy David Mamet \nFri.\, 5/8 @ 7:30pm \nSat.\, 5/9 @ 7:30pm \nSun.\, 5/10 @ 2pm
URL:https://highdesertbits.com/event/cascade-theatrical-company-presents-american-buffalo-9/
LOCATION:CTC Cascade Theatrical Company\, 148 NW Greenwood Ave\, Bend\, OR\, 97703
ORGANIZER;CN="CTC Cascade Theatrical Company":MAILTO:ctcinfo@cascadestheatrical.org
END:VEVENT
END:VCALENDAR