BEGIN:VCALENDAR
VERSION:2.0
PRODID:-//High Desert B.I.T.S. - ECPv6.15.20//NONSGML v1.0//EN
CALSCALE:GREGORIAN
METHOD:PUBLISH
X-WR-CALNAME:High Desert B.I.T.S.
X-ORIGINAL-URL:https://highdesertbits.com
X-WR-CALDESC:Events for High Desert B.I.T.S.
REFRESH-INTERVAL;VALUE=DURATION:PT1H
X-Robots-Tag:noindex
X-PUBLISHED-TTL:PT1H
BEGIN:VTIMEZONE
TZID:UTC
BEGIN:STANDARD
TZOFFSETFROM:+0000
TZOFFSETTO:+0000
TZNAME:UTC
DTSTART:20240101T000000
END:STANDARD
END:VTIMEZONE
BEGIN:VEVENT
DTSTART;TZID=UTC:20250830T193000
DTEND;TZID=UTC:20250830T213000
DTSTAMP:20260424T095026
CREATED:20250718T132321Z
LAST-MODIFIED:20250718T132321Z
UID:1689-1756582200-1756589400@highdesertbits.com
SUMMARY:CTC presents "Under the Stars"
DESCRIPTION:CTC presents “Under the Stars” \n  \nUnder the Stars is a dazzling musical theater cabaret that celebrates the vibrant spirit of live performance in an intimate\, cabaret-style setting. A fabulous lineup of Central Oregon talent\, Cascade Cabaret brings the glamour of Broadway with the warmth of local artistry. Audiences can expect powerful vocals\, heartfelt monologues\, unexpected comedic turns\, live accompaniment and inventive staging. Whether it’s a soulful ballad\, a show-stopping duet\, or a cheeky parody\, each performance will be an unforgettable experience \n  \nFri.\, 8/22 at 7:30pm \nSat.\, 8/23  at 7:30pm \nFri.\, 8/29 at 7:30pm \nSat.\, 8/30 at 7:30pm
URL:https://highdesertbits.com/event/ctc-presents-under-the-stars-3/
LOCATION:CTC Cascade Theatrical Company\, 148 NW Greenwood Ave\, Bend\, OR\, 97703
ORGANIZER;CN="CTC Cascade Theatrical Company":MAILTO:ctcinfo@cascadestheatrical.org
END:VEVENT
BEGIN:VEVENT
DTSTART;TZID=UTC:20250829T193000
DTEND;TZID=UTC:20250829T213000
DTSTAMP:20260424T095026
CREATED:20250718T132118Z
LAST-MODIFIED:20250718T132151Z
UID:1686-1756495800-1756503000@highdesertbits.com
SUMMARY:CTC presents "Under the Stars"
DESCRIPTION:CTC presents “Under the Stars” \n  \nUnder the Stars is a dazzling musical theater cabaret that celebrates the vibrant spirit of live performance in an intimate\, cabaret-style setting. A fabulous lineup of Central Oregon talent\, Cascade Cabaret brings the glamour of Broadway with the warmth of local artistry. Audiences can expect powerful vocals\, heartfelt monologues\, unexpected comedic turns\, live accompaniment and inventive staging. Whether it’s a soulful ballad\, a show-stopping duet\, or a cheeky parody\, each performance will be an unforgettable experience \n  \nFri.\, 8/22 at 7:30pm \nSat.\, 8/23  at 7:30pm \nFri.\, 8/29 at 7:30pm \nSat.\, 8/30 at 7:30pm
URL:https://highdesertbits.com/event/1686/
LOCATION:CTC Cascade Theatrical Company\, 148 NW Greenwood Ave\, Bend\, OR\, 97703
ORGANIZER;CN="CTC Cascade Theatrical Company":MAILTO:ctcinfo@cascadestheatrical.org
END:VEVENT
BEGIN:VEVENT
DTSTART;TZID=UTC:20250826T180000
DTEND;TZID=UTC:20250826T210000
DTSTAMP:20260424T095026
CREATED:20250825T134715Z
LAST-MODIFIED:20250825T141831Z
UID:1734-1756231200-1756242000@highdesertbits.com
SUMMARY:AUDITIONS for CTC's HAUNTING OF HILL HOUSE
DESCRIPTION:AUDITONS for CTC’s HAUNTING OF HILL HOUSE \nAug 25 and 26 from 6-9pm \nDeschutes Children’s Foundation \nEast Bend Campus
URL:https://highdesertbits.com/event/auditons-for-ctcs-haunting-of-hill-house/
LOCATION:Deschutes Children’s Foundation\, 2125 NE Daggett\, Bend\, OR\, 97701
ORGANIZER;CN="CTC Cascade Theatrical Company":MAILTO:ctcinfo@cascadestheatrical.org
END:VEVENT
BEGIN:VEVENT
DTSTART;TZID=UTC:20250825T180000
DTEND;TZID=UTC:20250825T210000
DTSTAMP:20260424T095026
CREATED:20250825T134454Z
LAST-MODIFIED:20250825T134454Z
UID:1731-1756144800-1756155600@highdesertbits.com
SUMMARY:AUDITIONS for CTC's HAUNTING OF HILL HOUSE
DESCRIPTION:AUDITiONS for CTC’s HAUNTING OF HILL HOUSE \nAug 25 and 26 from 6-9pm \nDeschutes Children’s Foundation \nEast Bend Campus
URL:https://highdesertbits.com/event/auditions-for-ctcs-haunting-of-hill-house/
LOCATION:Deschutes Children’s Foundation\, 2125 NE Daggett\, Bend\, OR\, 97701
ORGANIZER;CN="CTC Cascade Theatrical Company":MAILTO:ctcinfo@cascadestheatrical.org
END:VEVENT
BEGIN:VEVENT
DTSTART;TZID=UTC:20250824T193000
DTEND;TZID=UTC:20250824T213000
DTSTAMP:20260424T095026
CREATED:20250812T181544Z
LAST-MODIFIED:20250812T181544Z
UID:1727-1756063800-1756071000@highdesertbits.com
SUMMARY:Greenhouse Cabaret presents THE WOLVES
DESCRIPTION:Greenhouse Cabaret presents THE WOLVES \nby Sarah DeLappe \nWed.\, 8/13 @ 7:30pm \nThu.\, 8/14 @ 7:30pm \nFri.\, 8/15 @ 7:30pm \nSat.\, 8/16 @ 7:30pm \nSun.\, 8/17 @ 7:30pm \n  \nWed.\, 8/20 @ 7:30pm \nThu.\, 8/21 @ 7:30pm \nFri.\, 8/22 @ 7:30pm \nSat.\, 8/23 @ 7:30pm \nSun.\, 8/24 @ 7:30pm
URL:https://highdesertbits.com/event/greenhouse-cabaret-presents-the-wolves-10/
LOCATION:Greenhouse Cabaret\, 1017 NE 2nd St.\, Bend\, OR\, 97701\, United States
END:VEVENT
BEGIN:VEVENT
DTSTART;TZID=UTC:20250824T150000
DTEND;TZID=UTC:20250824T170000
DTSTAMP:20260424T095026
CREATED:20250604T134313Z
LAST-MODIFIED:20250604T134313Z
UID:1567-1756047600-1756054800@highdesertbits.com
SUMMARY:Meadow Sky Productions presents THE LIGHTNING THIEF
DESCRIPTION:Meadow Sky Productions presents THE LIGHTNING THIEF \nBook by Joe Tracz\, music and lyrics by Rob Rokicki\, adapted from the book by Rick Riordan \nThu.\, 8/14 @ 7pm \nFri.\, 8/15 @ 7pm \n  \nThu.\, 8/21 @ 7pm \nFri.\, 8/22 @ 7pm \nSat.\, 8/23 @ 2pm and 7pm \nSun.\, 8/24 @ 3pm
URL:https://highdesertbits.com/event/meadow-sky-productions-presents-the-lightning-thief-6/
LOCATION:High Desert Music Hall\, 818 SW Forest Ave\, Redmond\, OR\, 97756
END:VEVENT
BEGIN:VEVENT
DTSTART;TZID=UTC:20250823T193000
DTEND;TZID=UTC:20250823T213000
DTSTAMP:20260424T095026
CREATED:20250812T181354Z
LAST-MODIFIED:20250812T181354Z
UID:1725-1755977400-1755984600@highdesertbits.com
SUMMARY:Greenhouse Cabaret presents THE WOLVES
DESCRIPTION:Greenhouse Cabaret presents THE WOLVES \nby Sarah DeLappe \nWed.\, 8/13 @ 7:30pm \nThu.\, 8/14 @ 7:30pm \nFri.\, 8/15 @ 7:30pm \nSat.\, 8/16 @ 7:30pm \nSun.\, 8/17 @ 7:30pm \n  \nWed.\, 8/20 @ 7:30pm \nThu.\, 8/21 @ 7:30pm \nFri.\, 8/22 @ 7:30pm \nSat.\, 8/23 @ 7:30pm \nSun.\, 8/24 @ 7:30pm
URL:https://highdesertbits.com/event/greenhouse-cabaret-presents-the-wolves-9/
LOCATION:Greenhouse Cabaret\, 1017 NE 2nd St.\, Bend\, OR\, 97701\, United States
END:VEVENT
BEGIN:VEVENT
DTSTART;TZID=UTC:20250823T193000
DTEND;TZID=UTC:20250823T213000
DTSTAMP:20260424T095026
CREATED:20250718T132009Z
LAST-MODIFIED:20250718T132009Z
UID:1684-1755977400-1755984600@highdesertbits.com
SUMMARY:CTC presents "Under the Stars"
DESCRIPTION:CTC presents “Under the Stars” \n  \nUnder the Stars is a dazzling musical theater cabaret that celebrates the vibrant spirit of live performance in an intimate\, cabaret-style setting. A fabulous lineup of Central Oregon talent\, Cascade Cabaret brings the glamour of Broadway with the warmth of local artistry. Audiences can expect powerful vocals\, heartfelt monologues\, unexpected comedic turns\, live accompaniment and inventive staging. Whether it’s a soulful ballad\, a show-stopping duet\, or a cheeky parody\, each performance will be an unforgettable experience \n  \nFri.\, 8/22 at 7:30pm \nSat.\, 8/23  at 7:30pm \nFri.\, 8/29 at 7:30pm \nSat.\, 8/30 at 7:30pm
URL:https://highdesertbits.com/event/ctc-presents-under-the-stars-2/
LOCATION:OR
END:VEVENT
BEGIN:VEVENT
DTSTART;TZID=UTC:20250823T190000
DTEND;TZID=UTC:20250823T210000
DTSTAMP:20260424T095026
CREATED:20250604T134206Z
LAST-MODIFIED:20250604T134206Z
UID:1565-1755975600-1755982800@highdesertbits.com
SUMMARY:Meadow Sky Productions presents THE LIGHTNING THIEF
DESCRIPTION:Meadow Sky Productions presents THE LIGHTNING THIEF \nBook by Joe Tracz\, music and lyrics by Rob Rokicki\, adapted from the book by Rick Riordan \nThu.\, 8/14 @ 7pm \nFri.\, 8/15 @ 7pm \n  \nThu.\, 8/21 @ 7pm \nFri.\, 8/22 @ 7pm \nSat.\, 8/23 @ 2pm and 7pm \nSun.\, 8/24 @ 3pm
URL:https://highdesertbits.com/event/meadow-sky-productions-presents-the-lightning-thief-5/
LOCATION:High Desert Music Hall\, 818 SW Forest Ave\, Redmond\, OR\, 97756
END:VEVENT
BEGIN:VEVENT
DTSTART;TZID=UTC:20250823T140000
DTEND;TZID=UTC:20250823T160000
DTSTAMP:20260424T095026
CREATED:20250604T134047Z
LAST-MODIFIED:20250604T134047Z
UID:1563-1755957600-1755964800@highdesertbits.com
SUMMARY:Meadow Sky Productions presents THE LIGHTNING THIEF
DESCRIPTION:Meadow Sky Productions presents THE LIGHTNING THIEF \nBook by Joe Tracz\, music and lyrics by Rob Rokicki\, adapted from the book by Rick Riordan \nThu.\, 8/14 @ 7pm \nFri.\, 8/15 @ 7pm \n  \nThu.\, 8/21 @ 7pm \nFri.\, 8/22 @ 7pm \nSat.\, 8/23 @ 2pm and 7pm \nSun.\, 8/24 @ 3pm
URL:https://highdesertbits.com/event/meadow-sky-productions-presents-the-lightning-thief-4/
LOCATION:High Desert Music Hall\, 818 SW Forest Ave\, Redmond\, OR\, 97756
END:VEVENT
BEGIN:VEVENT
DTSTART;TZID=UTC:20250822T193000
DTEND;TZID=UTC:20250822T213000
DTSTAMP:20260424T095026
CREATED:20250718T131748Z
LAST-MODIFIED:20250718T131748Z
UID:1681-1755891000-1755898200@highdesertbits.com
SUMMARY:CTC presents 'Under the Stars"
DESCRIPTION:CTC presents “Under the Stars” \n  \nUnder the Stars is a dazzling musical theater cabaret that celebrates the vibrant spirit of live performance in an intimate\, cabaret-style setting. A fabulous lineup of Central Oregon talent\, Cascade Cabaret brings the glamour of Broadway with the warmth of local artistry. Audiences can expect powerful vocals\, heartfelt monologues\, unexpected comedic turns\, live accompaniment and inventive staging. Whether it’s a soulful ballad\, a show-stopping duet\, or a cheeky parody\, each performance will be an unforgettable experience \n  \nFri.\, 8/22 at 7:30pm \nSat.\, 8/23  at 7:30pm \nFri.\, 8/29 at 7:30pm \nSat.\, 8/30 at 7:30pm
URL:https://highdesertbits.com/event/ctc-presents-under-the-stars/
LOCATION:CTC Cascade Theatrical Company\, 148 NW Greenwood Ave\, Bend\, OR\, 97703
END:VEVENT
BEGIN:VEVENT
DTSTART;TZID=UTC:20250822T193000
DTEND;TZID=UTC:20250822T210000
DTSTAMP:20260424T095026
CREATED:20250812T181227Z
LAST-MODIFIED:20250812T181227Z
UID:1723-1755891000-1755896400@highdesertbits.com
SUMMARY:Greenhouse Cabaret presents THE WOLVES
DESCRIPTION:Greenhouse Cabaret presents THE WOLVES \nby Sarah DeLappe \nWed.\, 8/13 @ 7:30pm \nThu.\, 8/14 @ 7:30pm \nFri.\, 8/15 @ 7:30pm \nSat.\, 8/16 @ 7:30pm \nSun.\, 8/17 @ 7:30pm \n  \nWed.\, 8/20 @ 7:30pm \nThu.\, 8/21 @ 7:30pm \nFri.\, 8/22 @ 7:30pm \nSat.\, 8/23 @ 7:30pm \nSun.\, 8/24 @ 7:30pm
URL:https://highdesertbits.com/event/greenhouse-cabaret-presents-the-wolves-8/
LOCATION:Greenhouse Cabaret\, 1017 NE 2nd St.\, Bend\, OR\, 97701\, United States
END:VEVENT
BEGIN:VEVENT
DTSTART;TZID=UTC:20250822T190000
DTEND;TZID=UTC:20250822T210000
DTSTAMP:20260424T095026
CREATED:20250604T133923Z
LAST-MODIFIED:20250604T133923Z
UID:1561-1755889200-1755896400@highdesertbits.com
SUMMARY:Meadow Sky Productions presents THE LIGHTNING THIEF
DESCRIPTION:Meadow Sky Productions presents THE LIGHTNING THIEF \nBook by Joe Tracz\, music and lyrics by Rob Rokicki\, adapted from the book by Rick Riordan \nThu.\, 8/14 @ 7pm \nFri.\, 8/15 @ 7pm \n  \nThu.\, 8/21 @ 7pm \nFri.\, 8/22 @ 7pm \nSat.\, 8/23 @ 2pm and 7pm \nSun.\, 8/24 @ 3pm
URL:https://highdesertbits.com/event/meadow-sky-productions-presents-the-lightning-thief-3/
LOCATION:High Desert Music Hall\, 818 SW Forest Ave\, Redmond\, OR\, 97756
END:VEVENT
BEGIN:VEVENT
DTSTART;TZID=UTC:20250821T193000
DTEND;TZID=UTC:20250821T213000
DTSTAMP:20260424T095026
CREATED:20250812T181103Z
LAST-MODIFIED:20250812T181103Z
UID:1721-1755804600-1755811800@highdesertbits.com
SUMMARY:Greenhouse Cabaret presents THE WOLVES
DESCRIPTION:Greenhouse Cabaret presents THE WOLVES \nby Sarah DeLappe \nWed.\, 8/13 @ 7:30pm \nThu.\, 8/14 @ 7:30pm \nFri.\, 8/15 @ 7:30pm \nSat.\, 8/16 @ 7:30pm \nSun.\, 8/17 @ 7:30pm \n  \nWed.\, 8/20 @ 7:30pm \nThu.\, 8/21 @ 7:30pm \nFri.\, 8/22 @ 7:30pm \nSat.\, 8/23 @ 7:30pm \nSun.\, 8/24 @ 7:30pm
URL:https://highdesertbits.com/event/greenhouse-cabaret-presents-the-wolves-7/
LOCATION:Greenhouse Cabaret\, 1017 NE 2nd St.\, Bend\, OR\, 97701\, United States
END:VEVENT
BEGIN:VEVENT
DTSTART;TZID=UTC:20250821T190000
DTEND;TZID=UTC:20250821T210000
DTSTAMP:20260424T095026
CREATED:20250604T133810Z
LAST-MODIFIED:20250604T133810Z
UID:1559-1755802800-1755810000@highdesertbits.com
SUMMARY:Meadow Sky Productions presents THE LIGHTNING THIEF
DESCRIPTION:Meadow Sky Productions presents THE LIGHTNING THIEF \nBook by Joe Tracz\, music and lyrics by Rob Rokicki\, adapted from the book by Rick Riordan \nThu.\, 8/14 @ 7pm \nFri.\, 8/15 @ 7pm \n  \nThu.\, 8/21 @ 7pm \nFri.\, 8/22 @ 7pm \nSat.\, 8/23 @ 2pm and 7pm \nSun.\, 8/24 @ 3pm
URL:https://highdesertbits.com/event/meadow-sky-productions-presents-the-lightning-thief-2/
LOCATION:High Desert Music Hall\, 818 SW Forest Ave\, Redmond\, OR\, 97756
END:VEVENT
BEGIN:VEVENT
DTSTART;TZID=UTC:20250821T080000
DTEND;TZID=UTC:20250824T170000
DTSTAMP:20260424T095026
CREATED:20250217T062413Z
LAST-MODIFIED:20250217T062413Z
UID:1225-1755763200-1756054800@highdesertbits.com
SUMMARY:TMP presents JOSEPH AND THE AMAZING TECHNICOLOR DREAMCOAT
DESCRIPTION:TMP presents JOSEPH AND THE AMAZING TECHNICOLOR DREAMCOAT \nLyrics by Tim Rice\, music by Andrew Lloyd Webber \nAugust 21-24 at the Tower Theatre
URL:https://highdesertbits.com/event/tmp-presents-joseph-and-the-amazing-technicolor-dreamcoat/
LOCATION:Tower Theatre\, 835 NW Wall St\, Bend\, OR\, 97703\, United States
ORGANIZER;CN="TMP Thoroughly Modern Productions":MAILTO:tmpbend@gmail.com
END:VEVENT
BEGIN:VEVENT
DTSTART;TZID=UTC:20250820T193000
DTEND;TZID=UTC:20250820T213000
DTSTAMP:20260424T095026
CREATED:20250812T180943Z
LAST-MODIFIED:20250812T180943Z
UID:1719-1755718200-1755725400@highdesertbits.com
SUMMARY:Greenhouse Cabaret presents THE WOLVES
DESCRIPTION:Greenhouse Cabaret presents THE WOLVES \nby Sarah DeLappe \nWed.\, 8/13 @ 7:30pm \nThu.\, 8/14 @ 7:30pm \nFri.\, 8/15 @ 7:30pm \nSat.\, 8/16 @ 7:30pm \nSun.\, 8/17 @ 7:30pm \n  \nWed.\, 8/20 @ 7:30pm \nThu.\, 8/21 @ 7:30pm \nFri.\, 8/22 @ 7:30pm \nSat.\, 8/23 @ 7:30pm \nSun.\, 8/24 @ 7:30pm
URL:https://highdesertbits.com/event/greenhouse-cabaret-presents-the-wolves-6/
LOCATION:Greenhouse Cabaret\, 1017 NE 2nd St.\, Bend\, OR\, 97701\, United States
END:VEVENT
BEGIN:VEVENT
DTSTART;TZID=UTC:20250817T193000
DTEND;TZID=UTC:20250817T213000
DTSTAMP:20260424T095026
CREATED:20250812T180824Z
LAST-MODIFIED:20250812T180824Z
UID:1717-1755459000-1755466200@highdesertbits.com
SUMMARY:Greenhouse Cabaret presents THE WOLVES
DESCRIPTION:Greenhouse Cabaret presents THE WOLVES \nby Sarah DeLappe \nWed.\, 8/13 @ 7:30pm \nThu.\, 8/14 @ 7:30pm \nFri.\, 8/15 @ 7:30pm \nSat.\, 8/16 @ 7:30pm \nSun.\, 8/17 @ 7:30pm \n  \nWed.\, 8/20 @ 7:30pm \nThu.\, 8/21 @ 7:30pm \nFri.\, 8/22 @ 7:30pm \nSat.\, 8/23 @ 7:30pm \nSun.\, 8/24 @ 7:30pm
URL:https://highdesertbits.com/event/greenhouse-cabaret-presents-the-wolves-5/
LOCATION:Greenhouse Cabaret\, 1017 NE 2nd St.\, Bend\, OR\, 97701\, United States
END:VEVENT
BEGIN:VEVENT
DTSTART;TZID=UTC:20250816T193000
DTEND;TZID=UTC:20250816T213000
DTSTAMP:20260424T095026
CREATED:20250812T180708Z
LAST-MODIFIED:20250812T180708Z
UID:1715-1755372600-1755379800@highdesertbits.com
SUMMARY:Greenhouse Cabaret presents THE WOLVES
DESCRIPTION:Greenhouse Cabaret presents THE WOLVES \nby Sarah DeLappe \nWed.\, 8/13 @ 7:30pm \nThu.\, 8/14 @ 7:30pm \nFri.\, 8/15 @ 7:30pm \nSat.\, 8/16 @ 7:30pm \nSun.\, 8/17 @ 7:30pm \n  \nWed.\, 8/20 @ 7:30pm \nThu.\, 8/21 @ 7:30pm \nFri.\, 8/22 @ 7:30pm \nSat.\, 8/23 @ 7:30pm \nSun.\, 8/24 @ 7:30pm
URL:https://highdesertbits.com/event/greenhouse-cabaret-presents-the-wolves-4/
LOCATION:Greenhouse Cabaret\, 1017 NE 2nd St.\, Bend\, OR\, 97701\, United States
END:VEVENT
BEGIN:VEVENT
DTSTART;TZID=UTC:20250816T193000
DTEND;TZID=UTC:20250816T213000
DTSTAMP:20260424T095026
CREATED:20250707T185351Z
LAST-MODIFIED:20250707T185351Z
UID:1675-1755372600-1755379800@highdesertbits.com
SUMMARY:Deschutes Theater Co. presents DEATHTRAP
DESCRIPTION:Deschutes Theater Co. presents DEATHTRAP by Ira Levin \nFri.\, 8/1 @ 7:30pm \nSat.\, 8/2 @ 7:30pm \nFri.\, 8/8 @ 7:30pm \nSat.\, 8/9 @ 7:30pm \nFri.\, 8/15 @ 7:30pm \nSat.\, 8/16 @ 7:30pm \nUnity Spiritual Community of Central Oregon
URL:https://highdesertbits.com/event/deschutes-theater-co-presents-deathtrap-6/
LOCATION:Unity Community Central Oregon\, 63645 Scenic Dr\, Bend\, OR\, 97701
ORGANIZER;CN="Deschutes Community Theater":MAILTO:deschutestheatercompany@gmail.com
END:VEVENT
BEGIN:VEVENT
DTSTART;TZID=UTC:20250816T190000
DTEND;TZID=UTC:20250816T210000
DTSTAMP:20260424T095026
CREATED:20250621T012001Z
LAST-MODIFIED:20250621T012001Z
UID:1655-1755370800-1755378000@highdesertbits.com
SUMMARY:Theater in the Park presents ROCK OF AGES
DESCRIPTION:Theater in the Park presents ROCK OF AGES \nBook by Chris D’Arienzo Arrangement and Orchestrations by Ethan Popp \nFri.\, Aug 15 @ 7pm \nSat.\, Aug 16 @ 7pm \nAt Drake Park
URL:https://highdesertbits.com/event/theater-in-the-park-presents-rock-of-ages-2/
LOCATION:Drake Park\, 777 NW Riverside Park\, Bend\, Oregon\, 97701
ORGANIZER;CN="Theatre in the Park":MAILTO:info@layitoutevents.com
END:VEVENT
BEGIN:VEVENT
DTSTART;TZID=UTC:20250815T193000
DTEND;TZID=UTC:20250815T213000
DTSTAMP:20260424T095026
CREATED:20250812T180552Z
LAST-MODIFIED:20250812T180552Z
UID:1713-1755286200-1755293400@highdesertbits.com
SUMMARY:Greenhouse Cabaret presents THE WOLVES
DESCRIPTION:Greenhouse Cabaret presents THE WOLVES \nby Sarah DeLappe \nWed.\, 8/13 @ 7:30pm \nThu.\, 8/14 @ 7:30pm \nFri.\, 8/15 @ 7:30pm \nSat.\, 8/16 @ 7:30pm \nSun.\, 8/17 @ 7:30pm \n  \nWed.\, 8/20 @ 7:30pm \nThu.\, 8/21 @ 7:30pm \nFri.\, 8/22 @ 7:30pm \nSat.\, 8/23 @ 7:30pm \nSun.\, 8/24 @ 7:30pm
URL:https://highdesertbits.com/event/greenhouse-cabaret-presents-the-wolves-3/
LOCATION:Greenhouse Cabaret\, 1017 NE 2nd St.\, Bend\, OR\, 97701\, United States
END:VEVENT
BEGIN:VEVENT
DTSTART;TZID=UTC:20250815T193000
DTEND;TZID=UTC:20250815T213000
DTSTAMP:20260424T095026
CREATED:20250707T185159Z
LAST-MODIFIED:20250707T185159Z
UID:1673-1755286200-1755293400@highdesertbits.com
SUMMARY:Deschutes Theater Co. presents DEATHTRAP
DESCRIPTION:Deschutes Theater Co. presents DEATHTRAP by Ira Levin \nFri.\, 8/1 @ 7:30pm \nSat.\, 8/2 @ 7:30pm \nFri.\, 8/8 @ 7:30pm \nSat.\, 8/9 @ 7:30pm \nFri.\, 8/15 @ 7:30pm \nSat.\, 8/16 @ 7:30pm \nUnity Spiritual Community of Central Oregon
URL:https://highdesertbits.com/event/deschutes-theater-co-presents-deathtrap-5/
LOCATION:Unity Community Central Oregon\, 63645 Scenic Dr\, Bend\, OR\, 97701
ORGANIZER;CN="Deschutes Community Theater":MAILTO:deschutestheatercompany@gmail.com
END:VEVENT
BEGIN:VEVENT
DTSTART;TZID=UTC:20250815T190000
DTEND;TZID=UTC:20250815T210000
DTSTAMP:20260424T095026
CREATED:20250621T011831Z
LAST-MODIFIED:20250621T011831Z
UID:1652-1755284400-1755291600@highdesertbits.com
SUMMARY:Theater in the Park presents ROCK OF AGES
DESCRIPTION:Theater in the Park presents ROCK OF AGES \nBook by Chris D’Arienzo Arrangement and Orchestrations by Ethan Popp \nFri.\, Aug 15 @ 7pm \nSat.\, Aug 16 @ 7pm \nAt Drake Park
URL:https://highdesertbits.com/event/theater-in-the-park-presents-rock-of-ages/
LOCATION:Drake Park\, 777 NW Riverside Park\, Bend\, Oregon\, 97701
ORGANIZER;CN="Theatre in the Park":MAILTO:info@layitoutevents.com
END:VEVENT
BEGIN:VEVENT
DTSTART;TZID=UTC:20250815T190000
DTEND;TZID=UTC:20250815T210000
DTSTAMP:20260424T095026
CREATED:20250604T133647Z
LAST-MODIFIED:20250604T133647Z
UID:1557-1755284400-1755291600@highdesertbits.com
SUMMARY:Meadow Sky pPoductions presents THE LIGHTNING THIEF
DESCRIPTION:Meadow Sky pPoductions presents THE LIGHTNING THIEF \nBook by Joe Tracz\, music and lyrics by Rob Rokicki\, adapted from the book by Rick Riordan \nThu.\, 8/14 @ 7pm \nFri.\, 8/15 @ 7pm \n  \nThu.\, 8/21 @ 7pm \nFri.\, 8/22 @ 7pm \nSat.\, 8/23 @ 2pm and 7pm \nSun.\, 8/24 @ 3pm
URL:https://highdesertbits.com/event/meadow-sky-ppoductions-presents-the-lightning-thief/
LOCATION:High Desert Music Hall\, 818 SW Forest Ave\, Redmond\, OR\, 97756
END:VEVENT
BEGIN:VEVENT
DTSTART;TZID=UTC:20250814T193000
DTEND;TZID=UTC:20250814T213000
DTSTAMP:20260424T095026
CREATED:20250812T180340Z
LAST-MODIFIED:20250812T180340Z
UID:1711-1755199800-1755207000@highdesertbits.com
SUMMARY:Greenhouse Cabaret presents THE WOLVES
DESCRIPTION:Greenhouse Cabaret presents THE WOLVES \nby Sarah DeLappe \nWed.\, 8/13 @ 7:30pm \nThu.\, 8/14 @ 7:30pm \nFri.\, 8/15 @ 7:30pm \nSat.\, 8/16 @ 7:30pm \nSun.\, 8/17 @ 7:30pm \n  \nWed.\, 8/20 @ 7:30pm \nThu.\, 8/21 @ 7:30pm \nFri.\, 8/22 @ 7:30pm \nSat.\, 8/23 @ 7:30pm \nSun.\, 8/24 @ 7:30pm
URL:https://highdesertbits.com/event/greenhouse-cabaret-presents-the-wolves-2/
LOCATION:Greenhouse Cabaret\, 1017 NE 2nd St.\, Bend\, OR\, 97701\, United States
END:VEVENT
BEGIN:VEVENT
DTSTART;TZID=UTC:20250814T190000
DTEND;TZID=UTC:20250814T210000
DTSTAMP:20260424T095026
CREATED:20250604T133528Z
LAST-MODIFIED:20250604T133528Z
UID:1555-1755198000-1755205200@highdesertbits.com
SUMMARY:Meadow Sky Productions presents THE LIGHTNING THIEF
DESCRIPTION:Meadow Sky pPoductions presents THE LIGHTNING THIEF \nBook by Joe Tracz\, music and lyrics by Rob Rokicki\, adapted from the book by Rick Riordan \nThu.\, 8/14 @ 7pm \nFri.\, 8/15 @ 7pm \n  \nThu.\, 8/21 @ 7pm \nFri.\, 8/22 @ 7pm \nSat.\, 8/23 @ 2pm and 7pm \nSun.\, 8/24 @ 3pm
URL:https://highdesertbits.com/event/meadow-sky-productions-presents-the-lightning-thief/
LOCATION:High Desert Music Hall\, 818 SW Forest Ave\, Redmond\, OR\, 97756
END:VEVENT
BEGIN:VEVENT
DTSTART;TZID=UTC:20250813T193000
DTEND;TZID=UTC:20250813T213000
DTSTAMP:20260424T095026
CREATED:20250812T180227Z
LAST-MODIFIED:20250812T180227Z
UID:1709-1755113400-1755120600@highdesertbits.com
SUMMARY:Greenhouse Cabaret presents THE WOLVES
DESCRIPTION:Greenhouse Cabaret presents THE WOLVES \nby Sarah DeLappe \nWed.\, 8/13 @ 7:30pm \nThu.\, 8/14 @ 7:30pm \nFri.\, 8/15 @ 7:30pm \nSat.\, 8/16 @ 7:30pm \nSun.\, 8/17 @ 7:30pm \n  \nWed.\, 8/20 @ 7:30pm \nThu.\, 8/21 @ 7:30pm \nFri.\, 8/22 @ 7:30pm \nSat.\, 8/23 @ 7:30pm \nSun.\, 8/24 @ 7:30pm
URL:https://highdesertbits.com/event/greenhouse-cabaret-presents-the-wolves/
LOCATION:Greenhouse Cabaret\, 1017 NE 2nd St.\, Bend\, OR\, 97701\, United States
END:VEVENT
BEGIN:VEVENT
DTSTART;TZID=UTC:20250809T193000
DTEND;TZID=UTC:20250809T213000
DTSTAMP:20260424T095026
CREATED:20250707T184946Z
LAST-MODIFIED:20250707T184946Z
UID:1671-1754767800-1754775000@highdesertbits.com
SUMMARY:Deschutes Theater Co. presents DEATHTRAP
DESCRIPTION:Deschutes Theater Co. presents DEATHTRAP by Ira Levin \nFri.\, 8/1 @ 7:30pm \nSat.\, 8/2 @ 7:30pm \nFri.\, 8/8 @ 7:30pm \nSat.\, 8/9 @ 7:30pm \nFri.\, 8/15 @ 7:30pm \nSat.\, 8/16 @ 7:30pm \nUnity Spiritual Community of Central Oregon
URL:https://highdesertbits.com/event/deschutes-theater-co-presents-deathtrap-4/
LOCATION:Unity Community Central Oregon\, 63645 Scenic Dr\, Bend\, OR\, 97701
ORGANIZER;CN="Deschutes Community Theater":MAILTO:deschutestheatercompany@gmail.com
END:VEVENT
BEGIN:VEVENT
DTSTART;TZID=UTC:20250808T193000
DTEND;TZID=UTC:20250808T213000
DTSTAMP:20260424T095026
CREATED:20250707T184828Z
LAST-MODIFIED:20250707T184828Z
UID:1669-1754681400-1754688600@highdesertbits.com
SUMMARY:Deschutes Theater Co. presents DEATHTRAP
DESCRIPTION:Deschutes Theater Co. presents DEATHTRAP by Ira Levin \nFri.\, 8/1 @ 7:30pm \nSat.\, 8/2 @ 7:30pm \nFri.\, 8/8 @ 7:30pm \nSat.\, 8/9 @ 7:30pm \nFri.\, 8/15 @ 7:30pm \nSat.\, 8/16 @ 7:30pm \nUnity Spiritual Community of Central Oregon
URL:https://highdesertbits.com/event/deschutes-theater-co-presents-deathtrap-3/
LOCATION:Unity Community Central Oregon\, 63645 Scenic Dr\, Bend\, OR\, 97701
END:VEVENT
END:VCALENDAR