BEGIN:VCALENDAR
VERSION:2.0
PRODID:-//High Desert B.I.T.S. - ECPv6.15.20//NONSGML v1.0//EN
CALSCALE:GREGORIAN
METHOD:PUBLISH
X-WR-CALNAME:High Desert B.I.T.S.
X-ORIGINAL-URL:https://highdesertbits.com
X-WR-CALDESC:Events for High Desert B.I.T.S.
REFRESH-INTERVAL;VALUE=DURATION:PT1H
X-Robots-Tag:noindex
X-PUBLISHED-TTL:PT1H
BEGIN:VTIMEZONE
TZID:UTC
BEGIN:STANDARD
TZOFFSETFROM:+0000
TZOFFSETTO:+0000
TZNAME:UTC
DTSTART:20240101T000000
END:STANDARD
END:VTIMEZONE
BEGIN:VEVENT
DTSTART;TZID=UTC:20260111T150000
DTEND;TZID=UTC:20260111T170000
DTSTAMP:20260424T031928
CREATED:20251219T234415Z
LAST-MODIFIED:20251219T234415Z
UID:2337-1768143600-1768150800@highdesertbits.com
SUMMARY:Ovation Performing Arts presents Dreamworks PRINCE OF EGYPT\, THE MUSICAL
DESCRIPTION:Ovation Performing Arts presents Dreamworks PRINCE OF EGYPT\, THE MUSICAL \nMusic and lyrics by Stephen Schwartz\, book by Philip LaZebnik  and based on The Dreamworks Animation Film \nAt Ridgeview High School \nSun.\, Jan 11 @ 3pm
URL:https://highdesertbits.com/event/ovation-performing-arts-presents-dreamworks-prince-of-egypt-the-musical-6/
LOCATION:Ridgeview High School\, 4555 SW Elkhorn Ave\, Redmond\, OR\, 97756
ORGANIZER;CN="Ovation Performing Arts":MAILTO:theatre@ovationpa.com
END:VEVENT
BEGIN:VEVENT
DTSTART;TZID=UTC:20260111T140000
DTEND;TZID=UTC:20260111T160000
DTSTAMP:20260424T031928
CREATED:20250908T050144Z
LAST-MODIFIED:20250908T050144Z
UID:1974-1768140000-1768147200@highdesertbits.com
SUMMARY:Cascades Theatrical Company presents BRING IT ON: THE MUSICAL
DESCRIPTION:Cascades Theatrical Company presents BRING IT ON: THE MUSICAL \nMusic by Tom Kitt\, Lin-Manuel Miranda / Libretto by Jeff Whitty / Lyrics by Amanda Green\, Lin-Manuel Miranda / Inspired by the motion picture\, Bring It On\, released by Universal Pictures and written by Jessica Bendingere \nSun.\, Jan 11 @ 2pm \n  \nThu.\, Jan 15 @ 7:30pm \nFri.\, Jan 16 @ 7:30pm \nSat.\, Jan 17 @ 7:30pm \nSun.\, Jan 18 @ 2pm
URL:https://highdesertbits.com/event/cascades-theatrical-company-presents-bring-it-on-the-musical-4/
LOCATION:OR
ORGANIZER;CN="CTC Cascade Theatrical Company":MAILTO:ctcinfo@cascadestheatrical.org
END:VEVENT
BEGIN:VEVENT
DTSTART;TZID=UTC:20260110T193000
DTEND;TZID=UTC:20260110T213000
DTSTAMP:20260424T031928
CREATED:20250908T050015Z
LAST-MODIFIED:20250908T050015Z
UID:1972-1768073400-1768080600@highdesertbits.com
SUMMARY:Cascades Theatrical Company presents BRING IT ON: THE MUSICAL
DESCRIPTION:Cascades Theatrical Company presents BRING IT ON: THE MUSICAL \nMusic by Tom Kitt\, Lin-Manuel Miranda / Libretto by Jeff Whitty / Lyrics by Amanda Green\, Lin-Manuel Miranda / Inspired by the motion picture\, Bring It On\, released by Universal Pictures and written by Jessica Bendingere \nSat.\, Jan 10 @ 7:30pm \nSun.\, Jan 11 @ 2pm \n  \nThu.\, Jan 15 @ 7:30pm \nFri.\, Jan 16 @ 7:30pm \nSat.\, Jan 17 @ 7:30pm \nSun.\, Jan 18 @ 2pm
URL:https://highdesertbits.com/event/cascades-theatrical-company-presents-bring-it-on-the-musical-3/
LOCATION:OR
ORGANIZER;CN="CTC Cascade Theatrical Company":MAILTO:ctcinfo@cascadestheatrical.org
END:VEVENT
BEGIN:VEVENT
DTSTART;TZID=UTC:20260110T183000
DTEND;TZID=UTC:20260110T203000
DTSTAMP:20260424T031928
CREATED:20251219T234256Z
LAST-MODIFIED:20251219T234256Z
UID:2335-1768069800-1768077000@highdesertbits.com
SUMMARY:Ovation Performing Arts presents Dreamworks PRINCE OF EGYPT\, THE MUSICAL
DESCRIPTION:Ovation Performing Arts presents Dreamworks PRINCE OF EGYPT\, THE MUSICAL \nMusic and lyrics by Stephen Schwartz\, book by Philip LaZebnik  and based on The Dreamworks Animation Film \nAt Ridgeview High School \nSat.\, Jan 10 @ 6:30pm \nSun.\, Jan 11 @ 3pm
URL:https://highdesertbits.com/event/ovation-performing-arts-presents-dreamworks-prince-of-egypt-the-musical-5/
LOCATION:Ridgeview High School\, 4555 SW Elkhorn Ave\, Redmond\, OR\, 97756
ORGANIZER;CN="Ovation Performing Arts":MAILTO:theatre@ovationpa.com
END:VEVENT
BEGIN:VEVENT
DTSTART;TZID=UTC:20260109T193000
DTEND;TZID=UTC:20260109T213000
DTSTAMP:20260424T031928
CREATED:20250908T045844Z
LAST-MODIFIED:20250908T045844Z
UID:1970-1767987000-1767994200@highdesertbits.com
SUMMARY:Cascades Theatrical Company presents BRING IT ON: THE MUSICAL
DESCRIPTION:Cascades Theatrical Company presents BRING IT ON: THE MUSICAL \nMusic by Tom Kitt\, Lin-Manuel Miranda / Libretto by Jeff Whitty / Lyrics by Amanda Green\, Lin-Manuel Miranda / Inspired by the motion picture\, Bring It On\, released by Universal Pictures and written by Jessica Bendingere \nFri.\, Jan 9 @ 7:30pm \nSat.\, Jan 10 @ 7:30pm \nSun.\, Jan 11 @ 2pm \n  \nThu.\, Jan 15 @ 7:30pm \nFri.\, Jan 16 @ 7:30pm \nSat.\, Jan 17 @ 7:30pm \nSun.\, Jan 18 @ 2pm
URL:https://highdesertbits.com/event/cascades-theatrical-company-presents-bring-it-on-the-musical-2/
LOCATION:CTC Cascade Theatrical Company\, 148 NW Greenwood Ave\, Bend\, OR\, 97703
END:VEVENT
BEGIN:VEVENT
DTSTART;TZID=UTC:20260109T183000
DTEND;TZID=UTC:20260109T203000
DTSTAMP:20260424T031928
CREATED:20251219T234145Z
LAST-MODIFIED:20251219T234145Z
UID:2333-1767983400-1767990600@highdesertbits.com
SUMMARY:Ovation Performing Arts presents Dreamworks PRINCE OF EGYPT\, THE MUSICAL
DESCRIPTION:Ovation Performing Arts presents Dreamworks PRINCE OF EGYPT\, THE MUSICAL \nMusic and lyrics by Stephen Schwartz\, book by Philip LaZebnik  and based on The Dreamworks Animation Film \nAt Ridgeview High School \nFri.\,  Jan 9 @ 6:30pm \nSat.\, Jan 10 @ 6:30pm \nSun.\, Jan 11 @ 3pm
URL:https://highdesertbits.com/event/ovation-performing-arts-presents-dreamworks-prince-of-egypt-the-musical-4/
LOCATION:Ridgeview High School\, 4555 SW Elkhorn Ave\, Redmond\, OR\, 97756
ORGANIZER;CN="Ovation Performing Arts":MAILTO:theatre@ovationpa.com
END:VEVENT
BEGIN:VEVENT
DTSTART;TZID=UTC:20260108T193000
DTEND;TZID=UTC:20260108T213000
DTSTAMP:20260424T031928
CREATED:20250908T045635Z
LAST-MODIFIED:20250908T045635Z
UID:1968-1767900600-1767907800@highdesertbits.com
SUMMARY:Cascades Theatrical Company presents BRING IT ON: THE MUSICAL
DESCRIPTION:Cascades Theatrical Company presents BRING IT ON: THE MUSICAL \nMusic by Tom Kitt\, Lin-Manuel Miranda / Libretto by Jeff Whitty / Lyrics by Amanda Green\, Lin-Manuel Miranda / Inspired by the motion picture\, Bring It On\, released by Universal Pictures and written by Jessica Bendingere \nThu.\, Jan 8 @ 7:30pm \nFri.\, Jan 9 @ 7:30pm \nSat.\, Jan 10 @ 7:30pm \nSun.\, Jan 11 @ 2pm \n  \nThu.\, Jan 15 @ 7:30pm \nFri.\, Jan 16 @ 7:30pm \nSat.\, Jan 17 @ 7:30pm \nSun.\, Jan 18 @ 2pm
URL:https://highdesertbits.com/event/cascades-theatrical-company-presents-bring-it-on-the-musical/
LOCATION:CTC Cascade Theatrical Company\, 148 NW Greenwood Ave\, Bend\, OR\, 97703
ORGANIZER;CN="CTC Cascade Theatrical Company":MAILTO:ctcinfo@cascadestheatrical.org
END:VEVENT
BEGIN:VEVENT
DTSTART;TZID=UTC:20260104T150000
DTEND;TZID=UTC:20260104T170000
DTSTAMP:20260424T031928
CREATED:20251219T233937Z
LAST-MODIFIED:20251219T233937Z
UID:2331-1767538800-1767546000@highdesertbits.com
SUMMARY:Ovation Performing Arts presents Dreamworks PRINCE OF EGYPT\, THE MUSICAL
DESCRIPTION:Ovation Performing Arts presents Dreamworks PRINCE OF EGYPT\, THE MUSICAL \nMusic and lyrics by Stephen Schwartz\, book by Philip LaZebnik  and based on The Dreamworks Animation Film \nAt Ridgeview High School \nSun.\, Jan 4 @ 3pm \nFri.\,  Jan 9 @ 6:30pm \nSat.\, Jan 10 @ 6:30pm \nSun.\, Jan 11 @ 3pm
URL:https://highdesertbits.com/event/ovation-performing-arts-presents-dreamworks-prince-of-egypt-the-musical-3/
LOCATION:Ridgeview High School\, 4555 SW Elkhorn Ave\, Redmond\, OR\, 97756
ORGANIZER;CN="Ovation Performing Arts":MAILTO:theatre@ovationpa.com
END:VEVENT
BEGIN:VEVENT
DTSTART;TZID=UTC:20260103T080000
DTEND;TZID=UTC:20260103T170000
DTSTAMP:20260424T031928
CREATED:20251219T233819Z
LAST-MODIFIED:20251219T233819Z
UID:2329-1767427200-1767459600@highdesertbits.com
SUMMARY:Ovation Performing Arts presents Dreamworks PRINCE OF EGYPT\, THE MUSICAL
DESCRIPTION:Ovation Performing Arts presents Dreamworks PRINCE OF EGYPT\, THE MUSICAL \nMusic and lyrics by Stephen Schwartz\, book by Philip LaZebnik  and based on The Dreamworks Animation Film \nAt Ridgeview High School \nSat.\, Jan 3 @ 6:30pm \nSun.\, Jan 4 @ 3pm \nFri.\,  Jan 9 @ 6:30pm \nSat.\, Jan 10 @ 6:30pm \nSun.\, Jan 11 @ 3pm
URL:https://highdesertbits.com/event/ovation-performing-arts-presents-dreamworks-prince-of-egypt-the-musical-2/
LOCATION:Ridgeview High School\, 4555 SW Elkhorn Ave\, Redmond\, OR\, 97756
ORGANIZER;CN="Ovation Performing Arts":MAILTO:theatre@ovationpa.com
END:VEVENT
BEGIN:VEVENT
DTSTART;TZID=UTC:20260102T183000
DTEND;TZID=UTC:20260102T203000
DTSTAMP:20260424T031928
CREATED:20251219T233650Z
LAST-MODIFIED:20251219T233650Z
UID:2327-1767378600-1767385800@highdesertbits.com
SUMMARY:Ovation Performing Arts presents Dreamworks PRINCE OF EGYPT\, THE MUSICAL
DESCRIPTION:Ovation Performing Arts presents Dreamworks PRINCE OF EGYPT\, THE MUSICAL \nMusic and lyrics by Stephen Schwartz\, book by Philip LaZebnik  and based on The Dreamworks Animation Film \nAt Ridgeview High School \nFri.\, Jan. 2 @ 6:30pm \nSat.\, Jan 3 @ 6:30pm \nSun.\, Jan 4 @ 3pm \nFri.\,  Jan 9 @ 6:30pm \nSat.\, Jan 10 @ 6:30pm \nSun.\, Jan 11 @ 3pm
URL:https://highdesertbits.com/event/ovation-performing-arts-presents-dreamworks-prince-of-egypt-the-musical/
LOCATION:Ridgeview High School\, 4555 SW Elkhorn Ave\, Redmond\, OR\, 97756
ORGANIZER;CN="Ovation Performing Arts":MAILTO:theatre@ovationpa.com
END:VEVENT
BEGIN:VEVENT
DTSTART;TZID=UTC:20251221T140000
DTEND;TZID=UTC:20251221T170000
DTSTAMP:20260424T031928
CREATED:20250907T171302Z
LAST-MODIFIED:20250907T171302Z
UID:1966-1766325600-1766336400@highdesertbits.com
SUMMARY:Cascade Theatrical present EBENEZER SCROOGE'S BIG BEND CHRISTMAS SHOW
DESCRIPTION:Cascade Theatrical present EBENEZER SCROOGE’S BIG BEND CHRISTMAS SHOW \nby Gordon Greenberg and Steven Rosen \nSun.\, 12/21 @ 2pm
URL:https://highdesertbits.com/event/cascade-theatrical-present-ebenezer-scrooges-big-bend-christmas-show-13/
LOCATION:CTC Cascade Theatrical Company\, 148 NW Greenwood Ave\, Bend\, OR\, 97703
ORGANIZER;CN="CTC Cascade Theatrical Company":MAILTO:ctcinfo@cascadestheatrical.org
END:VEVENT
BEGIN:VEVENT
DTSTART;TZID=UTC:20251220T140000
DTEND;TZID=UTC:20251220T170000
DTSTAMP:20260424T031928
CREATED:20250907T171036Z
LAST-MODIFIED:20251124T143617Z
UID:1962-1766239200-1766250000@highdesertbits.com
SUMMARY:Cascade Theatrical present EBENEZER SCROOGE'S BIG BEND CHRISTMAS SHOW
DESCRIPTION:Cascade Theatrical present EBENEZER SCROOGE’S BIG BEND CHRISTMAS SHOW \nby Gordon Greenberg and Steven Rosen \nSat.\, 12/20 @ 2pm \nSun.\, 12/21 @ 2pm
URL:https://highdesertbits.com/event/cascade-theatrical-present-ebenezer-scrooges-big-bend-christmas-show-11/
LOCATION:CTC Cascade Theatrical Company\, 148 NW Greenwood Ave\, Bend\, OR\, 97703
ORGANIZER;CN="CTC Cascade Theatrical Company":MAILTO:ctcinfo@cascadestheatrical.org
END:VEVENT
BEGIN:VEVENT
DTSTART;TZID=UTC:20251219T193000
DTEND;TZID=UTC:20251219T213000
DTSTAMP:20260424T031928
CREATED:20250907T170934Z
LAST-MODIFIED:20250907T170934Z
UID:1960-1766172600-1766179800@highdesertbits.com
SUMMARY:Cascade Theatrical present EBENEZER SCROOGE'S BIG BEND CHRISTMAS SHOW
DESCRIPTION:Cascade Theatrical present EBENEZER SCROOGE’S BIG BEND CHRISTMAS SHOW \nby Gordon Greenberg and Steven Rosen \nFri.\, 12/19 @ 7:30pm \nSat.\, 12/20 @ 2pm and 7:30pm \nSun.\, 12/21 @ 2pm
URL:https://highdesertbits.com/event/cascade-theatrical-present-ebenezer-scrooges-big-bend-christmas-show-10/
LOCATION:CTC Cascade Theatrical Company\, 148 NW Greenwood Ave\, Bend\, OR\, 97703
ORGANIZER;CN="CTC Cascade Theatrical Company":MAILTO:ctcinfo@cascadestheatrical.org
END:VEVENT
BEGIN:VEVENT
DTSTART;TZID=UTC:20251218T193000
DTEND;TZID=UTC:20251218T213000
DTSTAMP:20260424T031928
CREATED:20250907T170752Z
LAST-MODIFIED:20250907T170752Z
UID:1958-1766086200-1766093400@highdesertbits.com
SUMMARY:
DESCRIPTION:Cascade Theatrical present EBENEZER SCROOGE’S BIG BEND CHRISTMAS SHOW \nby Gordon Greenberg and Steven Rosen \nThu.\, 12/18 @ 7:30pm \nFri.\, 12/19 @ 7:30pm \nSat.\, 12/20 @ 2pm and 7:30pm \nSun.\, 12/21 @ 2pm
URL:https://highdesertbits.com/event/1958/
LOCATION:CTC Cascade Theatrical Company\, 148 NW Greenwood Ave\, Bend\, OR\, 97703
ORGANIZER;CN="CTC Cascade Theatrical Company":MAILTO:ctcinfo@cascadestheatrical.org
END:VEVENT
BEGIN:VEVENT
DTSTART;TZID=UTC:20251215T180000
DTEND;TZID=UTC:20251215T200000
DTSTAMP:20260424T031928
CREATED:20250825T140701Z
LAST-MODIFIED:20250825T140701Z
UID:1751-1765821600-1765828800@highdesertbits.com
SUMMARY:AUDITIONS for CTC's 39 STEPS
DESCRIPTION:AUDITIONS for CTC’s 39 STEPS \nSun.\, 12/14 from 10-4pm \nMon.\, 12/15 6-8pm \nAt Deschutes Chidren’s Foundation
URL:https://highdesertbits.com/event/auditions-for-ctcs-39-steps-2/
LOCATION:Deschutes Children’s Foundation\, 2125 NE Daggett\, Bend\, OR\, 97701
ORGANIZER;CN="CTC Cascade Theatrical Company":MAILTO:ctcinfo@cascadestheatrical.org
END:VEVENT
BEGIN:VEVENT
DTSTART;TZID=UTC:20251214T140000
DTEND;TZID=UTC:20251214T170000
DTSTAMP:20260424T031928
CREATED:20250907T170644Z
LAST-MODIFIED:20251124T143520Z
UID:1956-1765720800-1765731600@highdesertbits.com
SUMMARY:Cascade Theatrical present EBENEZER SCROOGE'S BIG BEND CHRISTMAS SHOW
DESCRIPTION:Cascade Theatrical present EBENEZER SCROOGE’S BIG BEND CHRISTMAS SHOW \nby Gordon Greenberg and Steven Rosen \nSun.\, 12/14 @ 2pm \n  \nSat.\, 12/20 @ 2pm \nSun.\, 12/21 @ 2pm
URL:https://highdesertbits.com/event/cascade-theatrical-present-ebenezer-scrooges-big-bend-christmas-show-9/
LOCATION:OR
ORGANIZER;CN="CTC Cascade Theatrical Company":MAILTO:ctcinfo@cascadestheatrical.org
END:VEVENT
BEGIN:VEVENT
DTSTART;TZID=UTC:20251214T100000
DTEND;TZID=UTC:20251214T160000
DTSTAMP:20260424T031928
CREATED:20250825T140505Z
LAST-MODIFIED:20250825T140505Z
UID:1749-1765706400-1765728000@highdesertbits.com
SUMMARY:AUDITIONS for CTC's 39 STEPS
DESCRIPTION:AUDITIONS for CTC’s 39 STEPS \nSun.\, 12/14 from 10-4pm \nMon.\, 12/15 6-8pm \nAt Deschutes Chidren’s Foundation
URL:https://highdesertbits.com/event/auditions-for-ctcs-39-steps/
LOCATION:Deschutes Children’s Foundation\, 2125 NE Daggett\, Bend\, OR\, 97701
ORGANIZER;CN="CTC Cascade Theatrical Company":MAILTO:ctcinfo@cascadestheatrical.org
END:VEVENT
BEGIN:VEVENT
DTSTART;TZID=UTC:20251213T193000
DTEND;TZID=UTC:20251213T213000
DTSTAMP:20260424T031928
CREATED:20250907T170510Z
LAST-MODIFIED:20251124T143247Z
UID:1954-1765654200-1765661400@highdesertbits.com
SUMMARY:Cascade Theatrical present EBENEZER SCROOGE'S BIG BEND CHRISTMAS SHOW
DESCRIPTION:Cascade Theatrical present EBENEZER SCROOGE’S BIG BEND CHRISTMAS SHOW \nby Gordon Greenberg and Steven Rosen \nSat.\, 12/13 @  7:30pm \nSun.\, 12/14 @ 2pm \n  \n  \nSat.\, 12/20 @ 2pm \nSun.\, 12/21 @ 2pm
URL:https://highdesertbits.com/event/cascade-theatrical-present-ebenezer-scrooges-big-bend-christmas-show-8/
LOCATION:CTC Cascade Theatrical Company\, 148 NW Greenwood Ave\, Bend\, OR\, 97703
ORGANIZER;CN="CTC Cascade Theatrical Company":MAILTO:ctcinfo@cascadestheatrical.org
END:VEVENT
BEGIN:VEVENT
DTSTART;TZID=UTC:20251213T190000
DTEND;TZID=UTC:20251213T210000
DTSTAMP:20260424T031928
CREATED:20251105T175912Z
LAST-MODIFIED:20251105T175912Z
UID:2274-1765652400-1765659600@highdesertbits.com
SUMMARY:Meadow Sky presents LITTLE WOMEN
DESCRIPTION:Meadow Sky presents LITTLE WOMEN \nAdapted by Marisha Chamberlain\, from the novel by Louisa May Alcott \nSat.\,Dec 13 @  7pm \nAt OPEN SPACE
URL:https://highdesertbits.com/event/meadow-sky-presents-little-women-8/
LOCATION:Open Space Event Studio\, 220 NE Lafayette Ave\, Bend\, OR\, 97701
END:VEVENT
BEGIN:VEVENT
DTSTART;TZID=UTC:20251213T190000
DTEND;TZID=UTC:20251213T210000
DTSTAMP:20260424T031928
CREATED:20251105T175644Z
LAST-MODIFIED:20251105T175644Z
UID:2272-1765652400-1765659600@highdesertbits.com
SUMMARY:Meadow Sky presents LITTLE WOMEN
DESCRIPTION:Meadow Sky presents LITTLE WOMEN \nAdapted by Marisha Chamberlain\, from the novel by Louisa May Alcott \nSat.\,Dec 13 @  2pm and 7pm \nAt OPEN SPACE
URL:https://highdesertbits.com/event/meadow-sky-presents-little-women-7/
LOCATION:Open Space Event Studio\, 220 NE Lafayette Ave\, Bend\, OR\, 97701
END:VEVENT
BEGIN:VEVENT
DTSTART;TZID=UTC:20251213T140000
DTEND;TZID=UTC:20251213T160000
DTSTAMP:20260424T031928
CREATED:20251124T143437Z
LAST-MODIFIED:20251124T143437Z
UID:2316-1765634400-1765641600@highdesertbits.com
SUMMARY:Cascade Theatrical present EBENEZER SCROOGE'S BIG BEND CHRISTMAS SHOW
DESCRIPTION:Cascade Theatrical present EBENEZER SCROOGE’S BIG BEND CHRISTMAS SHOW \nby Gordon Greenberg and Steven Rosen \nSat.\, 12/13 @  2pm and 7:30pm \nSun.\, 12/14 @ 2pm \n  \nSat.\, 12/20 @ 2pm \nSun.\, 12/21 @ 2pm
URL:https://highdesertbits.com/event/cascade-theatrical-present-ebenezer-scrooges-big-bend-christmas-show-19/
LOCATION:CTC Cascade Theatrical Company\, 148 NW Greenwood Ave\, Bend\, OR\, 97703
ORGANIZER;CN="CTC Cascade Theatrical Company":MAILTO:ctcinfo@cascadestheatrical.org
END:VEVENT
BEGIN:VEVENT
DTSTART;TZID=UTC:20251213T140000
DTEND;TZID=UTC:20251213T160000
DTSTAMP:20260424T031928
CREATED:20251105T170713Z
LAST-MODIFIED:20251105T170713Z
UID:2258-1765634400-1765641600@highdesertbits.com
SUMMARY:Redmond High School presents THE LION\, THE WITCH AND THE WARDROBE
DESCRIPTION:Redmond High School presents THE LION\, THE WITCH AND THE WARDROBE \nSat.\, Dec 13 @ 2pm \nRedmond High School
URL:https://highdesertbits.com/event/redmond-high-school-presents-the-lion-the-witch-and-the-wardrobe-3/
LOCATION:Redmond High School\, 675 SW Rimrock Way\, Redmond\, OR\, 97756
END:VEVENT
BEGIN:VEVENT
DTSTART;TZID=UTC:20251212T193000
DTEND;TZID=UTC:20251212T213000
DTSTAMP:20260424T031928
CREATED:20250907T170203Z
LAST-MODIFIED:20251124T143115Z
UID:1950-1765567800-1765575000@highdesertbits.com
SUMMARY:Cascade Theatrical present EBENEZER SCROOGE'S BIG BEND CHRISTMAS SHOW
DESCRIPTION:Cascade Theatrical present EBENEZER SCROOGE’S BIG BEND CHRISTMAS SHOW \nby Gordon Greenberg and Steven Rosen \nFri.\, 12/12 @ 7:30pm \nSat.\, 12/13 @ 2pm and 7:30pm \nSun.\, 12/14 @ 2pm \n  \nSat.\, 12/20 @ 2pm \nSun.\, 12/21 @ 2pm
URL:https://highdesertbits.com/event/cascade-theatrical-present-ebenezer-scrooges-big-bend-christmas-show-6/
LOCATION:OR
END:VEVENT
BEGIN:VEVENT
DTSTART;TZID=UTC:20251212T190000
DTEND;TZID=UTC:20251212T210000
DTSTAMP:20260424T031928
CREATED:20251105T175514Z
LAST-MODIFIED:20251105T175514Z
UID:2270-1765566000-1765573200@highdesertbits.com
SUMMARY:Meadow Sky presents LITTLE WOMEN
DESCRIPTION:Meadow Sky presents LITTLE WOMEN \nAdapted by Marisha Chamberlain\, from the novel by Louisa May Alcott \nFri.\, Dec 12 @ 7pm \nSat.\,Dec 13 @  2pm and 7pm \nAt OPEN SPACE
URL:https://highdesertbits.com/event/meadow-sky-presents-little-women-6/
LOCATION:Open Space Event Studio\, 220 NE Lafayette Ave\, Bend\, OR\, 97701
END:VEVENT
BEGIN:VEVENT
DTSTART;TZID=UTC:20251212T190000
DTEND;TZID=UTC:20251212T210000
DTSTAMP:20260424T031928
CREATED:20251105T170605Z
LAST-MODIFIED:20251105T170605Z
UID:2256-1765566000-1765573200@highdesertbits.com
SUMMARY:Redmond High School presents THE LION\, THE WITCH AND THE WARDROBE
DESCRIPTION:Redmond High School presents THE LION\, THE WITCH AND THE WARDROBE \nFri.\, Dec 12 @ 7pm \nSat.\, Dec 13 @ 2pm \nRedmond High School
URL:https://highdesertbits.com/event/redmond-high-school-presents-the-lion-the-witch-and-the-wardrobe-2/
LOCATION:Redmond High School\, 675 SW Rimrock Way\, Redmond\, OR\, 97756
END:VEVENT
BEGIN:VEVENT
DTSTART;TZID=UTC:20251212T190000
DTEND;TZID=UTC:20251212T210000
DTSTAMP:20260424T031928
CREATED:20250620T132233Z
LAST-MODIFIED:20250620T132233Z
UID:1630-1765566000-1765573200@highdesertbits.com
SUMMARY:Summit High School presents HEADS OVER HEELS: High School Edition
DESCRIPTION:Summit High School presents HEADS OVER HEELS: High School Edition \nSongs by the Go-Go’s\, based on ‘The Arcadia’ by Sir Philip Sidney\, Conceived and original book by Jeff Whitty\, adapted by James Magruder \nFri.\, Dec. 5 @ 7pm \nSat.\, Dec. 6 @ 7pm \nMon.\, Dec. 8 @ 2pm \nThu.\, Dec. 11 @ 7pm \nFri.\, Dec. 12 @ 7pm \nSat.\, Dec. 13. @ 7pm
URL:https://highdesertbits.com/event/summit-high-school-presents-heads-over-heels-high-school-edition-5/
LOCATION:Summit High School\, 2855 NW Clearwater Dr\,\, Bend\, OR\, 97703\, United States
END:VEVENT
BEGIN:VEVENT
DTSTART;TZID=UTC:20251211T193000
DTEND;TZID=UTC:20251211T213000
DTSTAMP:20260424T031928
CREATED:20250907T170042Z
LAST-MODIFIED:20251124T143009Z
UID:1948-1765481400-1765488600@highdesertbits.com
SUMMARY:Cascade Theatrical present EBENEZER SCROOGE'S BIG BEND CHRISTMAS SHOW
DESCRIPTION:Cascade Theatrical present EBENEZER SCROOGE’S BIG BEND CHRISTMAS SHOW \nby Gordon Greenberg and Steven Rosen \nThu.\, 12/11 @ 7:30pm \nFri.\, 12/12 @ 7:30pm \nSat.\, 12/13 @ 2pm and 7:30pm \nSun.\, 12/14 @ 2pm \n  \nSat.\, 12/20 @ 2pm \nSun.\, 12/21 @ 2pm
URL:https://highdesertbits.com/event/cascade-theatrical-present-ebenezer-scrooges-big-bend-christmas-show-5/
LOCATION:CTC Cascade Theatrical Company\, 148 NW Greenwood Ave\, Bend\, OR\, 97703
ORGANIZER;CN="CTC Cascade Theatrical Company":MAILTO:ctcinfo@cascadestheatrical.org
END:VEVENT
BEGIN:VEVENT
DTSTART;TZID=UTC:20251211T190000
DTEND;TZID=UTC:20251211T210000
DTSTAMP:20260424T031928
CREATED:20251105T175347Z
LAST-MODIFIED:20251105T175347Z
UID:2268-1765479600-1765486800@highdesertbits.com
SUMMARY:Meadow Sky presents LITTLE WOMEN
DESCRIPTION:Meadow Sky presents LITTLE WOMEN \nAdapted by Marisha Chamberlain\, from the novel by Louisa May Alcott \nThu.\, Dec 11 @ 7pm \nFri.\, Dec 12 @ 7pm \nSat.\,Dec 13 @  2pm and 7pm \nAt OPEN SPACE
URL:https://highdesertbits.com/event/meadow-sky-presents-little-women-5/
LOCATION:Open Space Event Studio\, 220 NE Lafayette Ave\, Bend\, OR\, 97701
END:VEVENT
BEGIN:VEVENT
DTSTART;TZID=UTC:20251211T190000
DTEND;TZID=UTC:20251211T210000
DTSTAMP:20260424T031928
CREATED:20251105T170506Z
LAST-MODIFIED:20251105T170506Z
UID:2254-1765479600-1765486800@highdesertbits.com
SUMMARY:Redmond High School presents THE LION\, THE WITCH AND THE WARDROBE
DESCRIPTION:Redmond High School presents THE LION\, THE WITCH AND THE WARDROBE \nThu.\, Dec. 11 @ 7pm \nFri.\, Dec 12 @ 7pm \nSat.\, Dec 13 @ 2pm \nRedmond High School \n 
URL:https://highdesertbits.com/event/redmond-high-school-presents-the-lion-the-witch-and-the-wardrobe/
LOCATION:Redmond High School\, 675 SW Rimrock Way\, Redmond\, OR\, 97756
END:VEVENT
BEGIN:VEVENT
DTSTART;TZID=UTC:20251211T190000
DTEND;TZID=UTC:20251211T210000
DTSTAMP:20260424T031928
CREATED:20250620T130833Z
LAST-MODIFIED:20250620T132058Z
UID:1625-1765479600-1765486800@highdesertbits.com
SUMMARY:Summit High School presents HEADS OVER HEELS: High School Edition
DESCRIPTION:Summit High School presents HEADS OVER HEELS: High School Edition \nSongs by the Go-Go’s\, based on ‘The Arcadia’ by Sir Philip Sidney\, Conceived and original book by Jeff Whitty\, adapted by James Magruder \nFri.\, Dec. 5 @ 7pm \nSat.\, Dec. 6 @ 7pm \nMon.\, Dec. 8 @ 2pm \nThu.\, Dec. 11 @ 7pm \nFri.\, Dec. 12 @ 7pm \nSat.\, Dec. 13. @ 7pm
URL:https://highdesertbits.com/event/summit-high-school-presents-heads-over-heels-high-school-edition-4/
LOCATION:Summit High School\, 2855 NW Clearwater Dr\,\, Bend\, OR\, 97703\, United States
END:VEVENT
END:VCALENDAR