BEGIN:VCALENDAR
VERSION:2.0
PRODID:-//High Desert B.I.T.S. - ECPv6.15.20//NONSGML v1.0//EN
CALSCALE:GREGORIAN
METHOD:PUBLISH
X-WR-CALNAME:High Desert B.I.T.S.
X-ORIGINAL-URL:https://highdesertbits.com
X-WR-CALDESC:Events for High Desert B.I.T.S.
REFRESH-INTERVAL;VALUE=DURATION:PT1H
X-Robots-Tag:noindex
X-PUBLISHED-TTL:PT1H
BEGIN:VTIMEZONE
TZID:UTC
BEGIN:STANDARD
TZOFFSETFROM:+0000
TZOFFSETTO:+0000
TZNAME:UTC
DTSTART:20250101T000000
END:STANDARD
END:VTIMEZONE
BEGIN:VEVENT
DTSTART;TZID=UTC:20260228T193000
DTEND;TZID=UTC:20260228T213000
DTSTAMP:20260423T211401
CREATED:20260216T174543Z
LAST-MODIFIED:20260216T174612Z
UID:2409-1772307000-1772314200@highdesertbits.com
SUMMARY:Thoroughly Modern Productions presents PETER PAN at the Tower Theatre
DESCRIPTION:Thoroughly Modern Productions presents PETER PAN at the Tower Theatre \n  \nSat.\, 2/28 @ 7:30pm \nSun.\, 3/1 @ 2pm and 7:30pm
URL:https://highdesertbits.com/event/2409/
LOCATION:Tower Theatre\, 835 NW Wall St\, Bend\, OR\, 97703\, United States
ORGANIZER;CN="TMP Thoroughly Modern Productions":MAILTO:tmpbend@gmail.com
END:VEVENT
BEGIN:VEVENT
DTSTART;TZID=UTC:20260228T190000
DTEND;TZID=UTC:20260228T220000
DTSTAMP:20260423T211401
CREATED:20250907T141710Z
LAST-MODIFIED:20250907T151008Z
UID:1873-1772305200-1772316000@highdesertbits.com
SUMMARY:Ponderosa Players present SPRING AWAKENING
DESCRIPTION:Ponderosa Players present SPRING AWAKENING \nMusic by Duncan Sheik\, book and lyrics by Steven Slater .  It is based on the 1891 German play by Frank Wedekind. \nThu.\, Feb 19 @ 7pm \nFri.\, Feb 20 @ 7pm \nSat.\, Feb 21 @ 2 pm and 7pm \nSun.\, Feb 22 @ 2pm \n  \nThu.\, Feb 26 @ 7pm \nFri.\, Feb 27 @ 7pm \nSat.\, Feb 28 @ 2pm and 7pm
URL:https://highdesertbits.com/event/ponderosa-players-present-spring-awakening-10/
LOCATION:Ponderosa Playhouse\, 211 NE Revere Ave\, Suite #4\, Bend\, OR
END:VEVENT
BEGIN:VEVENT
DTSTART;TZID=UTC:20260228T190000
DTEND;TZID=UTC:20260228T210000
DTSTAMP:20260423T211401
CREATED:20260127T140759Z
LAST-MODIFIED:20260127T140759Z
UID:2379-1772305200-1772312400@highdesertbits.com
SUMMARY:Ridgeview High School presents GREASE
DESCRIPTION:Ridgeview High School presents GREASE \nBook\, music and lyrics by Jim Jacobs and Warren Casey with arrangements for Sandy\, You’re the One That I Want and Hopelessly Devoted To you by Robert Stigwood \nSat.\, 2/28 @ 7pm \nTickets at https://Ridgeviewhs.seatyourself.biz
URL:https://highdesertbits.com/event/ridgeview-high-school-presents-grease-8/
LOCATION:Ridgeview High School\, 4555 SW Elkhorn Ave\, Redmond\, OR\, 97756
END:VEVENT
BEGIN:VEVENT
DTSTART;TZID=UTC:20260228T190000
DTEND;TZID=UTC:20260228T210000
DTSTAMP:20260423T211401
CREATED:20250919T221732Z
LAST-MODIFIED:20250919T221732Z
UID:2113-1772305200-1772312400@highdesertbits.com
SUMMARY:Mountain View High School presents LITTLE WOMEN\, THE MUSICAL
DESCRIPTION:Mountain View High School presents LITTLE WOMEN\, THE MUSICAL \nBook by Allan Knee\, lyrics by Mindi Dickstein and music by Jason Howland\, based on the novel by Louisa May Alcott \nSat.\, Feb 28 @ 7pm \nSun.\, Mar 1 @ 2pm \nFri.\, Mar 6 @ 7pm \nSat.\, Mar 7 @ 7pm \nSun.\, Mar 8 @ 2pm
URL:https://highdesertbits.com/event/mountain-view-high-school-presents-little-women-the-musical-2/
LOCATION:Mountain View High School\, 2755 NE 27th St\, Bend\, OR\, 97701
END:VEVENT
BEGIN:VEVENT
DTSTART;TZID=UTC:20260228T140000
DTEND;TZID=UTC:20260228T170000
DTSTAMP:20260423T211401
CREATED:20250907T141531Z
LAST-MODIFIED:20250907T141531Z
UID:1871-1772287200-1772298000@highdesertbits.com
SUMMARY:Ponderosa Players present SPRING AWAKENING
DESCRIPTION:Ponderosa Players present SPRING AWAKENING \nMusic by Duncan Sheik\, book and lyrics by Steven Slater .  It is based on the 1891 German play by Frank Wedekind. \nThu.\, Feb 19 @ 7pm \nFri.\, Feb 20 @ 7pm \nSat.\, Feb 21 @ 2 pm and 7pm \nSun.\, Feb 22 @ 2pm \n  \nThu.\, Feb 26 @ 7pm \nFri.\, Feb 27 @ 7pm \nSat.\, Feb 28 @ 2pm and 7pm
URL:https://highdesertbits.com/event/ponderosa-players-present-spring-awakening-9/
LOCATION:Ponderosa Playhouse\, 211 NE Revere Ave\, Suite #4\, Bend\, OR
END:VEVENT
BEGIN:VEVENT
DTSTART;TZID=UTC:20260228T140000
DTEND;TZID=UTC:20260228T160000
DTSTAMP:20260423T211401
CREATED:20260216T174411Z
LAST-MODIFIED:20260216T174411Z
UID:2407-1772287200-1772294400@highdesertbits.com
SUMMARY:Thoroughly Modern Productions presents PETER PAN at the Tower Theatre
DESCRIPTION:Thoroughly Modern Productions presents PETER PAN at the Tower Theatre \n  \nSat.\, 2/28 @ 2pm and 7:30pm \nSun.\, 3/1 @ 2pm and 7:30pm
URL:https://highdesertbits.com/event/thoroughly-modern-productions-presents-peter-pan-at-the-tower-theatre-6/
LOCATION:Tower Theatre\, 835 NW Wall St\, Bend\, OR\, 97703\, United States
ORGANIZER;CN="TMP Thoroughly Modern Productions":MAILTO:tmpbend@gmail.com
END:VEVENT
BEGIN:VEVENT
DTSTART;TZID=UTC:20260228T140000
DTEND;TZID=UTC:20260228T160000
DTSTAMP:20260423T211401
CREATED:20260127T140632Z
LAST-MODIFIED:20260127T140632Z
UID:2377-1772287200-1772294400@highdesertbits.com
SUMMARY:Ridgeview High School presents GREASE
DESCRIPTION:Ridgeview High School presents GREASE \nBook\, music and lyrics by Jim Jacobs and Warren Casey with arrangements for Sandy\, You’re the One That I Want and Hopelessly Devoted To you by Robert Stigwood \nSat.\, 2/28 @ 2pm and 7pm \nTickets at https://Ridgeviewhs.seatyourself.biz
URL:https://highdesertbits.com/event/ridgeview-high-school-presents-grease-7/
LOCATION:Ridgeview High School\, 4555 SW Elkhorn Ave\, Redmond\, OR\, 97756
END:VEVENT
BEGIN:VEVENT
DTSTART;TZID=UTC:20260227T193000
DTEND;TZID=UTC:20260227T213000
DTSTAMP:20260423T211401
CREATED:20260216T174254Z
LAST-MODIFIED:20260216T174254Z
UID:2405-1772220600-1772227800@highdesertbits.com
SUMMARY:Thoroughly Modern Productions presents PETER PAN at the Tower Theatre
DESCRIPTION:Thoroughly Modern Productions presents PETER PAN at the Tower Theatre \nFri.\, 2/27 @ 7:30pm \nSat.\, 2/28 @ 2pm and 7:30pm \nSun.\, 3/1 @ 2pm and 7:30pm
URL:https://highdesertbits.com/event/thoroughly-modern-productions-presents-peter-pan-at-the-tower-theatre-5/
LOCATION:Tower Theatre\, 835 NW Wall St\, Bend\, OR\, 97703\, United States
ORGANIZER;CN="TMP Thoroughly Modern Productions":MAILTO:tmpbend@gmail.com
END:VEVENT
BEGIN:VEVENT
DTSTART;TZID=UTC:20260227T190000
DTEND;TZID=UTC:20260227T220000
DTSTAMP:20260423T211401
CREATED:20250907T141411Z
LAST-MODIFIED:20250907T141411Z
UID:1869-1772218800-1772229600@highdesertbits.com
SUMMARY:Ponderosa Players present SPRING AWAKENING
DESCRIPTION:Ponderosa Players present SPRING AWAKENING \nMusic by Duncan Sheik\, book and lyrics by Steven Slater .  It is based on the 1891 German play by Frank Wedekind. \nThu.\, Feb 19 @ 7pm \nFri.\, Feb 20 @ 7pm \nSat.\, Feb 21 @ 2 pm and 7pm \nSun.\, Feb 22 @ 2pm \n  \nThu.\, Feb 26 @ 7pm \nFri.\, Feb 27 @ 7pm \nSat.\, Feb 28 @ 2pm and 7pm
URL:https://highdesertbits.com/event/ponderosa-players-present-spring-awakening-8/
LOCATION:Ponderosa Playhouse\, 211 NE Revere Ave\, Suite #4\, Bend\, OR
END:VEVENT
BEGIN:VEVENT
DTSTART;TZID=UTC:20260227T190000
DTEND;TZID=UTC:20260227T210000
DTSTAMP:20260423T211401
CREATED:20260127T140301Z
LAST-MODIFIED:20260127T140301Z
UID:2375-1772218800-1772226000@highdesertbits.com
SUMMARY:Ridgeview High School presents GREASE
DESCRIPTION:Ridgeview High School presents GREASE \nBook\, music and lyrics by Jim Jacobs and Warren Casey with arrangements for Sandy\, You’re the One That I Want and Hopelessly Devoted To you by Robert Stigwood \nFri.\, 2/27 @ 7pm \nSat.\, 2/28 @ 2pm and 7pm \nTickets at https://Ridgeviewhs.seatyourself.biz
URL:https://highdesertbits.com/event/ridgeview-high-school-presents-grease-6/
LOCATION:Ridgeview High School\, 4555 SW Elkhorn Ave\, Redmond\, OR\, 97756
END:VEVENT
BEGIN:VEVENT
DTSTART;TZID=UTC:20260227T190000
DTEND;TZID=UTC:20260227T210000
DTSTAMP:20260423T211401
CREATED:20250919T221621Z
LAST-MODIFIED:20250919T221621Z
UID:2111-1772218800-1772226000@highdesertbits.com
SUMMARY:Mountain View High School presents LITTLE WOMEN\, THE MUSICAL
DESCRIPTION:Mountain View High School presents LITTLE WOMEN\, THE MUSICAL \nBook by Allan Knee\, lyrics by Mindi Dickstein and music by Jason Howland\, based on the novel by Louisa May Alcott \nFri.\, Feb 27 @ 7pm \nSat.\, Feb 28 @ 7pm \nSun.\, Mar 1 @ 2pm \nFri.\, Mar 6 @ 7pm \nSat.\, Mar 7 @ 7pm \nSun.\, Mar 8 @ 2pm
URL:https://highdesertbits.com/event/mountain-view-high-school-presents-little-women-the-musical/
LOCATION:Mountain View High School\, 2755 NE 27th St\, Bend\, OR\, 97701
END:VEVENT
BEGIN:VEVENT
DTSTART;TZID=UTC:20260226T193000
DTEND;TZID=UTC:20260226T213000
DTSTAMP:20260423T211401
CREATED:20260216T174130Z
LAST-MODIFIED:20260216T174130Z
UID:2403-1772134200-1772141400@highdesertbits.com
SUMMARY:Thoroughly Modern Productions presents PETER PAN at the Tower Theatre
DESCRIPTION:Thoroughly Modern Productions presents PETER PAN at the Tower Theatre \nThu.\, 2/26 @ 7:30pm \nFri.\, 2/27 @ 7:30pm \nSat.\, 2/28 @ 2pm and 7:30pm \nSun.\, 3/1 @ 2pm and 7:30pm
URL:https://highdesertbits.com/event/thoroughly-modern-productions-presents-peter-pan-at-the-tower-theatre-4/
LOCATION:Tower Theatre\, 835 NW Wall St\, Bend\, OR\, 97703\, United States
ORGANIZER;CN="TMP Thoroughly Modern Productions":MAILTO:tmpbend@gmail.com
END:VEVENT
BEGIN:VEVENT
DTSTART;TZID=UTC:20260226T190000
DTEND;TZID=UTC:20260226T220000
DTSTAMP:20260423T211401
CREATED:20250907T141228Z
LAST-MODIFIED:20250907T141228Z
UID:1867-1772132400-1772143200@highdesertbits.com
SUMMARY:Ponderosa Players present SPRING AWAKENING
DESCRIPTION:Ponderosa Players present SPRING AWAKENING \nMusic by Duncan Sheik\, book and lyrics by Steven Slater .  It is based on the 1891 German play by Frank Wedekind. \nThu.\, Feb 19 @ 7pm \nFri.\, Feb 20 @ 7pm \nSat.\, Feb 21 @ 2 pm and 7pm \nSun.\, Feb 22 @ 2pm \n  \nThu.\, Feb 26 @ 7pm \nFri.\, Feb 27 @ 7pm \nSat.\, Feb 28 @ 2pm and 7pm
URL:https://highdesertbits.com/event/ponderosa-players-present-spring-awakening-7/
LOCATION:Ponderosa Playhouse\, 211 NE Revere Ave\, Suite #4\, Bend\, OR
END:VEVENT
BEGIN:VEVENT
DTSTART;TZID=UTC:20260226T190000
DTEND;TZID=UTC:20260226T210000
DTSTAMP:20260423T211401
CREATED:20260127T140141Z
LAST-MODIFIED:20260127T140141Z
UID:2373-1772132400-1772139600@highdesertbits.com
SUMMARY:Ridgeview High School presents GREASE
DESCRIPTION:Ridgeview High School presents GREASE \nBook\, music and lyrics by Jim Jacobs and Warren Casey with arrangements for Sandy\, You’re the One That I Want and Hopelessly Devoted To you by Robert Stigwood \nThu.\, 2/26 @ 7pm \nFri.\, 2/27 @ 7pm \nSat.\, 2/28 @ 2pm and 7pm \nTickets at https://Ridgeviewhs.seatyourself.biz
URL:https://highdesertbits.com/event/ridgeview-high-school-presents-grease-5/
LOCATION:Ridgeview High School\, 4555 SW Elkhorn Ave\, Redmond\, OR\, 97756
END:VEVENT
BEGIN:VEVENT
DTSTART;TZID=UTC:20260226T170000
DTEND;TZID=UTC:20260226T200000
DTSTAMP:20260423T211401
CREATED:20260209T141331Z
LAST-MODIFIED:20260209T141331Z
UID:2391-1772125200-1772136000@highdesertbits.com
SUMMARY:Crook County Foundation fundraiser: PINT NIGHT FOR THE ARTS
DESCRIPTION:Crook County Foundation fundraiser: PINT NIGHT FOR THE ARTS \nThu.\, 2/26 from 5-8pm at Wild Ride in Prineville \nProceeds help CCHS students attend OSF performances this spring! \n 
URL:https://highdesertbits.com/event/crook-county-foundation-fundraiser-pint-night-for-the-arts/
LOCATION:Wild Ride Brewing Prineville\, 1500 NE 3rd\, Prineville\, OR\, 97754\, United States
END:VEVENT
BEGIN:VEVENT
DTSTART;TZID=UTC:20260222T140000
DTEND;TZID=UTC:20260222T170000
DTSTAMP:20260423T211401
CREATED:20250907T141053Z
LAST-MODIFIED:20250907T141053Z
UID:1865-1771768800-1771779600@highdesertbits.com
SUMMARY:Ponderosa Players present SPRING AWAKENING
DESCRIPTION:Ponderosa Players present SPRING AWAKENING \nMusic by Duncan Sheik\, book and lyrics by Steven Slater .  It is based on the 1891 German play by Frank Wedekind. \nThu.\, Feb 19 @ 7pm \nFri.\, Feb 20 @ 7pm \nSat.\, Feb 21 @ 2 pm and 7pm \nSun.\, Feb 22 @ 2pm \n  \nThu.\, Feb 26 @ 7pm \nFri.\, Feb 27 @ 7pm \nSat.\, Feb 28 @ 2pm and 7pm
URL:https://highdesertbits.com/event/ponderosa-players-present-spring-awakening-6/
LOCATION:Ponderosa Playhouse\, 211 NE Revere Ave\, Suite #4\, Bend\, OR
END:VEVENT
BEGIN:VEVENT
DTSTART;TZID=UTC:20260222T140000
DTEND;TZID=UTC:20260222T160000
DTSTAMP:20260423T211401
CREATED:20260216T173925Z
LAST-MODIFIED:20260216T173925Z
UID:2401-1771768800-1771776000@highdesertbits.com
SUMMARY:Thoroughly Modern Productions presents PETER PAN at the Tower Theatre
DESCRIPTION:Thoroughly Modern Productions presents PETER PAN at the Tower Theatre \nSun.\, 2/22 @ 2pm \n  \nThu.\, 2/26 @ 7:30pm \nFri.\, 2/27 @ 7:30pm \nSat.\, 2/28 @ 2pm and 7:30pm \nSun.\, 3/1 @ 2pm and 7:30pm
URL:https://highdesertbits.com/event/thoroughly-modern-productions-presents-peter-pan-at-the-tower-theatre-3/
LOCATION:Tower Theatre\, 835 NW Wall St\, Bend\, OR\, 97703\, United States
ORGANIZER;CN="TMP Thoroughly Modern Productions":MAILTO:tmpbend@gmail.com
END:VEVENT
BEGIN:VEVENT
DTSTART;TZID=UTC:20260222T140000
DTEND;TZID=UTC:20260222T160000
DTSTAMP:20260423T211401
CREATED:20260216T173600Z
LAST-MODIFIED:20260216T173600Z
UID:2397-1771768800-1771776000@highdesertbits.com
SUMMARY:Thoroughly Modern Productions presents PETER PAN at the Tower Theatre
DESCRIPTION:Thoroughly Modern Productions presents PETER PAN at the Tower Theatre \nSat.\, 2/21 @ 2pm and 7:30pm \nSun.\, 2/22 @ 2pm \n  \nThu.\, 2/26 @ 7:30pm \nFri.\, 2/27 @ 7:30pm \nSat.\, 2/28 @ 2pm and 7:30pm \nSun.\, 3/1 @ 2pm and 7:30pm
URL:https://highdesertbits.com/event/thoroughly-modern-productions-presents-peter-pan-at-the-tower-theatre/
LOCATION:Tower Theatre\, 835 NW Wall St\, Bend\, OR\, 97703\, United States
ORGANIZER;CN="TMP Thoroughly Modern Productions":MAILTO:tmpbend@gmail.com
END:VEVENT
BEGIN:VEVENT
DTSTART;TZID=UTC:20260222T140000
DTEND;TZID=UTC:20260222T160000
DTSTAMP:20260423T211401
CREATED:20260127T142526Z
LAST-MODIFIED:20260127T142526Z
UID:2389-1771768800-1771776000@highdesertbits.com
SUMMARY:BEAT Childrens Theatre presents SHREK Jr.
DESCRIPTION:BEAT Childrens Theatre presents SHREK Jr. \nBook and lyrics by David Lindsay-Abaire\, Music by Jeanin Tesori \nSun.\, 2/22 @ 2pm \n  \nAt Summit High School
URL:https://highdesertbits.com/event/beat-childrens-theatre-presents-shrek-jr-4/
LOCATION:Summit High School\, 2855 NW Clearwater Dr\,\, Bend\, OR\, 97703\, United States
END:VEVENT
BEGIN:VEVENT
DTSTART;TZID=UTC:20260222T140000
DTEND;TZID=UTC:20260222T160000
DTSTAMP:20260423T211401
CREATED:20250908T054052Z
LAST-MODIFIED:20250908T054052Z
UID:2005-1771768800-1771776000@highdesertbits.com
SUMMARY:Cascades Theatrical Company presents BOEING\, BOEING
DESCRIPTION:Cascades Theatrical Company presents BOEING\, BOEING \nBy Marc Camoletti \nSun.\, Feb 22 8 @ 2pm
URL:https://highdesertbits.com/event/cascades-theatrical-company-presents-boeing-boeing-10/
LOCATION:CTC Cascade Theatrical Company\, 148 NW Greenwood Ave\, Bend\, OR\, 97703
ORGANIZER;CN="CTC Cascade Theatrical Company":MAILTO:ctcinfo@cascadestheatrical.org
END:VEVENT
BEGIN:VEVENT
DTSTART;TZID=UTC:20260221T193000
DTEND;TZID=UTC:20260221T213000
DTSTAMP:20260423T211401
CREATED:20260216T173752Z
LAST-MODIFIED:20260216T173752Z
UID:2399-1771702200-1771709400@highdesertbits.com
SUMMARY:Thoroughly Modern Productions presents PETER PAN at the Tower Theatre
DESCRIPTION:Thoroughly Modern Productions presents PETER PAN at the Tower Theatre \nSat.\, 2/21 @ 7:30pm \nSun.\, 2/22 @ 2pm \n  \nThu.\, 2/26 @ 7:30pm \nFri.\, 2/27 @ 7:30pm \nSat.\, 2/28 @ 2pm and 7:30pm \nSun.\, 3/1 @ 2pm and 7:30pm
URL:https://highdesertbits.com/event/thoroughly-modern-productions-presents-peter-pan-at-the-tower-theatre-2/
LOCATION:Tower Theatre\, 835 NW Wall St\, Bend\, OR\, 97703\, United States
ORGANIZER;CN="TMP Thoroughly Modern Productions":MAILTO:tmpbend@gmail.com
END:VEVENT
BEGIN:VEVENT
DTSTART;TZID=UTC:20260221T193000
DTEND;TZID=UTC:20260221T213000
DTSTAMP:20260423T211401
CREATED:20250908T053809Z
LAST-MODIFIED:20250908T053809Z
UID:2003-1771702200-1771709400@highdesertbits.com
SUMMARY:Cascades Theatrical Company presents BOEING\, BOEING
DESCRIPTION:Cascades Theatrical Company presents BOEING\, BOEING \nBy Marc Camoletti \nSat.\, Feb 21 @ 7:30pm \nSun.\, Feb 22 8 @ 2pm
URL:https://highdesertbits.com/event/cascades-theatrical-company-presents-boeing-boeing-9/
LOCATION:CTC Cascade Theatrical Company\, 148 NW Greenwood Ave\, Bend\, OR\, 97703
ORGANIZER;CN="CTC Cascade Theatrical Company":MAILTO:ctcinfo@cascadestheatrical.org
END:VEVENT
BEGIN:VEVENT
DTSTART;TZID=UTC:20260221T190000
DTEND;TZID=UTC:20260221T210000
DTSTAMP:20260423T211401
CREATED:20260127T142256Z
LAST-MODIFIED:20260127T142256Z
UID:2387-1771700400-1771707600@highdesertbits.com
SUMMARY:BEAT Childrens Theatre presents SHREK Jr.
DESCRIPTION:BEAT Childrens Theatre presents SHREK Jr. \nBook and lyrics by David Lindsay-Abaire\, Music by Jeanin Tesori \nSat.\, 2/21 @ 7pm \nSun.\, 2/22 @ 2pm \n  \nAt Summit High School
URL:https://highdesertbits.com/event/beat-childrens-theatre-presents-shrek-jr-3/
LOCATION:Summit High School\, 2855 NW Clearwater Dr\,\, Bend\, OR\, 97703\, United States
END:VEVENT
BEGIN:VEVENT
DTSTART;TZID=UTC:20260221T190000
DTEND;TZID=UTC:20260221T210000
DTSTAMP:20260423T211401
CREATED:20260127T135902Z
LAST-MODIFIED:20260127T135902Z
UID:2371-1771700400-1771707600@highdesertbits.com
SUMMARY:Ridgeview High School presents GREASE
DESCRIPTION:Ridgeview High School presents GREASE \nBook\, music and lyrics by Jim Jacobs and Warren Casey with arrangements for Sandy\, You’re the One That I Want and Hopelessly Devoted To you by Robert Stigwood \nSat.\, 2/21 @ 7pm \n  \nThu.\, 2/26 @ 7pm \nFri.\, 2/27 @ 7pm \nSat.\, 2/28 @ 2pm and 7pm \nTickets at https://Ridgeviewhs.seatyourself.biz
URL:https://highdesertbits.com/event/ridgeview-high-school-presents-grease-4/
LOCATION:Ridgeview High School\, 4555 SW Elkhorn Ave\, Redmond\, OR\, 97756
END:VEVENT
BEGIN:VEVENT
DTSTART;TZID=UTC:20260221T190000
DTEND;TZID=UTC:20260221T210000
DTSTAMP:20260423T211401
CREATED:20250907T140919Z
LAST-MODIFIED:20250907T140919Z
UID:1863-1771700400-1771707600@highdesertbits.com
SUMMARY:Ponderosa Players present SPRING AWAKENING
DESCRIPTION:Ponderosa Players present SPRING AWAKENING \nMusic by Duncan Sheik\, book and lyrics by Steven Slater .  It is based on the 1891 German play by Frank Wedekind. \nThu.\, Feb 19 @ 7pm \nFri.\, Feb 20 @ 7pm \nSat.\, Feb 21 @ 2 pm and 7pm \nSun.\, Feb 22 @ 2pm \n  \nThu.\, Feb 26 @ 7pm \nFri.\, Feb 27 @ 7pm \nSat.\, Feb 28 @ 2pm and 7pm
URL:https://highdesertbits.com/event/ponderosa-players-present-spring-awakening-5/
LOCATION:Ponderosa Playhouse\, 211 NE Revere Ave\, Suite #4\, Bend\, OR
END:VEVENT
BEGIN:VEVENT
DTSTART;TZID=UTC:20260221T140000
DTEND;TZID=UTC:20260221T170000
DTSTAMP:20260423T211401
CREATED:20250907T140233Z
LAST-MODIFIED:20250907T140733Z
UID:1859-1771682400-1771693200@highdesertbits.com
SUMMARY:Ponderosa Players present SPRING AWAKENING
DESCRIPTION:Ponderosa Players present SPRING AWAKENING \nMusic by Duncan Sheik\, book and lyrics by Steven Slater .  It is based on the 1891 German play by Frank Wedekind. \nThu.\, Feb 19 @ 7pm \nFri.\, Feb 20 @ 7pm \nSat.\, Feb 21 @ 2 pm and 7pm \nSun.\, Feb 22 @ 2pm \n  \nThu.\, Feb 26 @ 7pm \nFri.\, Feb 27 @ 7pm \nSat.\, Feb 28 @ 2pm and 7pm
URL:https://highdesertbits.com/event/ponderosa-players-present-spring-awakening-4/
LOCATION:Ponderosa Playhouse\, 211 NE Revere Ave\, Suite #4\, Bend\, OR
END:VEVENT
BEGIN:VEVENT
DTSTART;TZID=UTC:20260221T140000
DTEND;TZID=UTC:20260221T160000
DTSTAMP:20260423T211401
CREATED:20260127T142139Z
LAST-MODIFIED:20260127T142139Z
UID:2385-1771682400-1771689600@highdesertbits.com
SUMMARY:BEAT Childrens Theatre presents SHREK Jr.
DESCRIPTION:BEAT Childrens Theatre presents SHREK Jr. \nBook and lyrics by David Lindsay-Abaire\, Music by Jeanin Tesori \nSat.\, 2/21 @ 2pm and 7pm \nSun.\, 2/22 @ 2pm \n  \nAt Summit High School
URL:https://highdesertbits.com/event/beat-childrens-theatre-presents-shrek-jr-2/
LOCATION:Summit High School\, 2855 NW Clearwater Dr\,\, Bend\, OR\, 97703\, United States
END:VEVENT
BEGIN:VEVENT
DTSTART;TZID=UTC:20260221T140000
DTEND;TZID=UTC:20260221T160000
DTSTAMP:20260423T211401
CREATED:20260127T135709Z
LAST-MODIFIED:20260127T135709Z
UID:2369-1771682400-1771689600@highdesertbits.com
SUMMARY:Ridgeview High School presents GREASE
DESCRIPTION:Ridgeview High School presents GREASE \nBook\, music and lyrics by Jim Jacobs and Warren Casey with arrangements for Sandy\, You’re the One That I Want and Hopelessly Devoted To you by Robert Stigwood \nSat.\, 2/21 @ 2pm and 7pm \n  \nThu.\, 2/26 @ 7pm \nFri.\, 2/27 @ 7pm \nSat.\, 2/28 @ 2pm and 7pm \nTickets at https://Ridgeviewhs.seatyourself.biz
URL:https://highdesertbits.com/event/ridgeview-high-school-presents-grease-3/
LOCATION:Ridgeview High School\, 4555 SW Elkhorn Ave\, Redmond\, OR\, 97756
END:VEVENT
BEGIN:VEVENT
DTSTART;TZID=UTC:20260220T193000
DTEND;TZID=UTC:20260220T213000
DTSTAMP:20260423T211401
CREATED:20250908T053616Z
LAST-MODIFIED:20250908T053616Z
UID:2001-1771615800-1771623000@highdesertbits.com
SUMMARY:Cascades Theatrical Company presents BOEING\, BOEING
DESCRIPTION:Cascades Theatrical Company presents BOEING\, BOEING \nBy Marc Camoletti \nFri.\, Feb 20 @ 7:30pm \nSat.\, Feb 21 @ 7:30pm \nSun.\, Feb 22 8 @ 2pm
URL:https://highdesertbits.com/event/cascades-theatrical-company-presents-boeing-boeing-8/
LOCATION:CTC Cascade Theatrical Company\, 148 NW Greenwood Ave\, Bend\, OR\, 97703
ORGANIZER;CN="CTC Cascade Theatrical Company":MAILTO:ctcinfo@cascadestheatrical.org
END:VEVENT
BEGIN:VEVENT
DTSTART;TZID=UTC:20260220T190000
DTEND;TZID=UTC:20260220T220000
DTSTAMP:20260423T211401
CREATED:20250907T135742Z
LAST-MODIFIED:20250907T140600Z
UID:1857-1771614000-1771624800@highdesertbits.com
SUMMARY:Ponderosa Players present SPRING AWAKENING
DESCRIPTION:Ponderosa Players present SPRING AWAKENING \nMusic by Duncan Sheik\, book and lyrics by Steven Slater .  It is based on the 1891 German play by Frank Wedekind. \nThu.\, Feb 19 @ 7pm \nFri.\, Feb 20 @ 7pm \nSat.\, Feb 21 @ 2 pm and 7pm \nSun.\, Feb 22 @ 2pm \n  \nThu.\, Feb 26 @ 7pm \nFri.\, Feb 27 @ 7pm \nSat.\, Feb 28 @ 2pm and 7pm
URL:https://highdesertbits.com/event/ponderosa-players-present-spring-awakening-3/
LOCATION:Ponderosa Playhouse\, 211 NE Revere Ave\, Suite #4\, Bend\, OR
END:VEVENT
END:VCALENDAR