BEGIN:VCALENDAR
VERSION:2.0
PRODID:-//High Desert B.I.T.S. - ECPv6.15.20//NONSGML v1.0//EN
CALSCALE:GREGORIAN
METHOD:PUBLISH
X-ORIGINAL-URL:https://highdesertbits.com
X-WR-CALDESC:Events for High Desert B.I.T.S.
REFRESH-INTERVAL;VALUE=DURATION:PT1H
X-Robots-Tag:noindex
X-PUBLISHED-TTL:PT1H
BEGIN:VTIMEZONE
TZID:UTC
BEGIN:STANDARD
TZOFFSETFROM:+0000
TZOFFSETTO:+0000
TZNAME:UTC
DTSTART:20240101T000000
END:STANDARD
END:VTIMEZONE
BEGIN:VEVENT
DTSTART;TZID=UTC:20250926T190000
DTEND;TZID=UTC:20251019T170000
DTSTAMP:20260424T045336
CREATED:20250604T142154Z
LAST-MODIFIED:20250923T183801Z
UID:1599-1758913200-1760893200@highdesertbits.com
SUMMARY:Ellipse Theater Community presents ALMOST\, MAINE
DESCRIPTION:Ellipse Theater Community presents ALMOST\, MAINE \nWritten by John Cariani \nThu.\, Sept 26 @ 7pm  \nFri.\, Sept 27 @ 2pm and 7pm @ Open Space \n  \nSat.\, 9/28 @ 2pm and 7pm @ High Desert Music Hall \n  \nSat.\,10/4 @ 6pm @ LaPine Activity Center \n  \nFri.\, 10/10 @ 7pm At Sunriver Christian Fellowship \n  \nSun.\, 10/12 @ 2pm @ Prineville’s Bowman Museum \n  \nThu.\, 10/16 @ 7pm \nFri.\, 10/17 @ 7pm  Unity Community Central Oregon \n  \nSat.\, 10/18 @ 2pm and 7pm at Sisters-Camp SHrman RDPD Community Hall \n 
URL:https://highdesertbits.com/event/ellipse-theater-community-presents-almost-maine/
LOCATION:Open Space Event Studio\, 220 NE Lafayette Ave\, Bend\, OR\, 97701
ORGANIZER;CN="ETC Ellipse Theatre Community":MAILTO:https://www.etcbend.org/contact
END:VEVENT
BEGIN:VEVENT
DTSTART;TZID=UTC:20251003T193000
DTEND;TZID=UTC:20251003T213000
DTSTAMP:20260424T045336
CREATED:20251003T134611Z
LAST-MODIFIED:20251003T134611Z
UID:2194-1759519800-1759527000@highdesertbits.com
SUMMARY:Greenhouse Cabaret presents ONCE
DESCRIPTION:Greenhouse Cabaret presents ONCE \nMusic and lyrics by Glen Hansard and Markéta Irglová and book by Enda Walsh. \nFri.\, 10/31\, Sat.\, 11/1 and Sun.\, 11/2 at 7:30pm \nThu.\, 11/6\, Fri.\, 11/7\, Sat.\, 11/8 and Sun.\, 11/9 at 7:30pm \nThu.\, 11/13\, Fri.\, 11/14 and Sat.\, 11/15 at 7:30pm
URL:https://highdesertbits.com/event/greenhouse-cabaret-presents-once-9/
LOCATION:Greenhouse Cabaret\, 1017 NE 2nd St.\, Bend\, OR\, 97701\, United States
END:VEVENT
BEGIN:VEVENT
DTSTART;TZID=UTC:20251004T180000
DTEND;TZID=UTC:20251004T200000
DTSTAMP:20260424T045336
CREATED:20250923T184838Z
LAST-MODIFIED:20250923T184838Z
UID:2133-1759600800-1759608000@highdesertbits.com
SUMMARY:Ellipse Theater Community presents ALMOST\, MAINE
DESCRIPTION:Ellipse Theater Community presents ALMOST\, MAINE \nWritten by John Cariani \n  \nSat.\,10/4 @ 6pm @ LaPine Activity Center \n  \nFri.\, 10/10 @ 7pm At Sunriver Christian Fellowship \n  \nSun.\, 10/12 @ 2pm @ Prineville’s Bowman Museum \n  \nThu.\, 10/16 @ 7pm \nFri.\, 10/17 @ 7pm  Unity Community Central Oregon \n  \nSat.\, 10/18 @ 2pm and 7pm at Sisters-Camp SHrman RDPD Community Hall
URL:https://highdesertbits.com/event/ellipse-theater-community-presents-almost-maine-6/
LOCATION:LaPine Activity Center\, 16450 Victory Way\, LaPine\, OR\, 97739\, United States
ORGANIZER;CN="ETC Ellipse Theatre Community":MAILTO:https://www.etcbend.org/contact
END:VEVENT
BEGIN:VEVENT
DTSTART;TZID=UTC:20251008T000000
DTEND;TZID=UTC:20251008T235959
DTSTAMP:20260424T045336
CREATED:20250902T145622Z
LAST-MODIFIED:20250902T145622Z
UID:1806-1759881600-1759967999@highdesertbits.com
SUMMARY:Sunriver Stars Community Theater presents VOICES: A Chilling Dinner Theater
DESCRIPTION:Sunriver Stars Community Theater presents VOICES: A Chilling Dinner Theater \nby Richard Lortz \nWed.\, October 8th at Century Commons in Sunriver \nOctoer 24th at Marcellos in Sunriver
URL:https://highdesertbits.com/event/sunriver-stars-community-theater-presents-voices-a-chilling-dinner-theater/
LOCATION:Century Commons\, 56809 Venture Ln\, Sunriver\, OR
END:VEVENT
BEGIN:VEVENT
DTSTART;TZID=UTC:20251010T190000
DTEND;TZID=UTC:20251010T210000
DTSTAMP:20260424T045336
CREATED:20251006T230245Z
LAST-MODIFIED:20251006T230245Z
UID:2227-1760122800-1760130000@highdesertbits.com
SUMMARY:Ellipse Theater Community presents ALMOST\, MAINE
DESCRIPTION:Ellipse Theater Community presents ALMOST\, MAINE \nWritten by John Cariani \n  \nFri.\, 10/10 @ 7pm At Sunriver Christian Fellowship \n  \nSun.\, 10/12 @ 2pm @ Prineville’s Bowman Museum \n  \nThu.\, 10/16 @ 7pm \nFri.\, 10/17 @ 7pm  Unity Community Central Oregon \n  \nSat.\, 10/18 @ 2pm and 7pm at Sisters-Camp SHrman RDPD Community Hall
URL:https://highdesertbits.com/event/ellipse-theater-community-presents-almost-maine-7/
LOCATION:Sunriver Christian Fellowship\, 18139 Cottonwood Road\, Sunriver\, OR\, 97707
ORGANIZER;CN="ETC Ellipse Theatre Community":MAILTO:https://www.etcbend.org/contact
END:VEVENT
BEGIN:VEVENT
DTSTART;TZID=UTC:20251011T150000
DTEND;TZID=UTC:20251011T170000
DTSTAMP:20260424T045336
CREATED:20250915T132152Z
LAST-MODIFIED:20250915T132152Z
UID:2082-1760194800-1760202000@highdesertbits.com
SUMMARY:OperaBend presents "RISING VOICES"
DESCRIPTION:OperaBend presents “RISING VOICES” \nSat.\, Oct. 11 @ 3pm \nWille Hall\, COCC
URL:https://highdesertbits.com/event/operabend-presents-rising-voices/
LOCATION:Wille Hall at COCC\, 2600 NW College Way\, Bend\, OR\, 97703
ORGANIZER;CN="OperaBend":MAILTO:mail@operabend.org
END:VEVENT
BEGIN:VEVENT
DTSTART;TZID=UTC:20251012T140000
DTEND;TZID=UTC:20251012T160000
DTSTAMP:20260424T045336
CREATED:20250924T132304Z
LAST-MODIFIED:20250924T132304Z
UID:2139-1760277600-1760284800@highdesertbits.com
SUMMARY:Ellipse Theater Community presents ALMOST\, MAINE
DESCRIPTION:Ellipse Theater Community presents ALMOST\, MAINE \nWritten by John Cariani \n  \nSun.\, 10/12 @ 2pm @ Prineville’s Bowman Museum \n  \nThu.\, 10/16 @ 7pm \nFri.\, 10/17 @ 7pm  Unity Community Central Oregon \n  \nSat.\, 10/18 @ 2pm and 7pm at Sisters-Camp Sherman RFPD Community Hall
URL:https://highdesertbits.com/event/ellipse-theater-community-presents-almost-maine-8/
LOCATION:Bowman Historical Museum\, 246 N Main Street\, Prineville\, OR\, 97754\, United States
ORGANIZER;CN="ETC Ellipse Theatre Community":MAILTO:https://www.etcbend.org/contact
END:VEVENT
BEGIN:VEVENT
DTSTART;TZID=UTC:20251016T190000
DTEND;TZID=UTC:20251016T210000
DTSTAMP:20260424T045336
CREATED:20250924T132457Z
LAST-MODIFIED:20250924T132457Z
UID:2141-1760641200-1760648400@highdesertbits.com
SUMMARY:Ellipse Theater Community presents ALMOST\, MAINE
DESCRIPTION:Ellipse Theater Community presents ALMOST\, MAINE \nWritten by John Cariani \n  \nThu.\, 10/16 @ 7pm \nFri.\, 10/17 @ 7pm  Unity Community Central Oregon \n  \nSat.\, 10/18 @ 2pm and 7pm at Sisters-Camp Sherman RFPD Community Hall
URL:https://highdesertbits.com/event/ellipse-theater-community-presents-almost-maine-9/
LOCATION:Unity Community Central Oregon\, 63645 Scenic Dr\, Bend\, OR\, 97701
ORGANIZER;CN="ETC Ellipse Theatre Community":MAILTO:https://www.etcbend.org/contact
END:VEVENT
BEGIN:VEVENT
DTSTART;TZID=UTC:20251017T190000
DTEND;TZID=UTC:20251017T210000
DTSTAMP:20260424T045336
CREATED:20250924T132647Z
LAST-MODIFIED:20250924T132647Z
UID:2143-1760727600-1760734800@highdesertbits.com
SUMMARY:Ellipse Theater Community presents ALMOST\, MAINE
DESCRIPTION:Ellipse Theater Community presents ALMOST\, MAINE \nWritten by John Cariani \n  \nFri.\, 10/17 @ 7pm  Unity Community Central Oregon \n  \nSat.\, 10/18 @ 2pm and 7pm at Sisters-Camp Sherman RFPD Community Hall
URL:https://highdesertbits.com/event/ellipse-theater-community-presents-almost-maine-10/
LOCATION:Unity Community Central Oregon\, 63645 Scenic Dr\, Bend\, OR\, 97701
ORGANIZER;CN="ETC Ellipse Theatre Community":MAILTO:https://www.etcbend.org/contact
END:VEVENT
BEGIN:VEVENT
DTSTART;TZID=UTC:20251017T193000
DTEND;TZID=UTC:20251017T213000
DTSTAMP:20260424T045336
CREATED:20250926T155524Z
LAST-MODIFIED:20250926T155524Z
UID:2176-1760729400-1760736600@highdesertbits.com
SUMMARY:Greenhouse Cabaret presents ONCE
DESCRIPTION:Greenhouse Cabaret presents ONCE \nMusic and lyrics by Glen Hansard and Markéta Irglová and book by Enda Walsh. \nFri.\, 10/17\, Sat.\, 10/18 and Sun.\, 10/19 at 7:30pm \nThu.\, 10/23\, Fri.\, 10/24\, Sat.\, 10/25 and Sun.\, 10/26 at 7:30pm \nThu.\, 10/30\, Fri.\, 10/31\, Sat.\, 11/1 and Sun.\, 11/2 at 7:30pm \nThu.\, 11/6\, Fri.\, 11/7\, Sat.\, 11/8 and Sun.\, 11/9 at 7:30pm \nThu.\, 11/13\, Fri.\, 11/14 and Sat.\, 11/15 at 7:30pm \n 
URL:https://highdesertbits.com/event/greenhouse-cabaret-presents-once/
LOCATION:Greenhouse Cabaret\, 1017 NE 2nd St.\, Bend\, OR\, 97701\, United States
END:VEVENT
BEGIN:VEVENT
DTSTART;TZID=UTC:20251017T193000
DTEND;TZID=UTC:20251017T213000
DTSTAMP:20260424T045336
CREATED:20251015T131801Z
LAST-MODIFIED:20251015T131801Z
UID:2230-1760729400-1760736600@highdesertbits.com
SUMMARY:Cascade Theatrical Company presents THE HAUNTING OF HILL HOUSE
DESCRIPTION:Cascade Theatrical Company presents THE HAUNTING OF HILL HOUSE \nby F.  Andrew Leslie from the novel by Shirley Jackson \n  \nFri.\, 10/17 @ 7:30pm \nSat.\, 10/18 @ 7:30pm \nSun.\, 10/19 @ 2pm \n  \nThu.\, 10/23 @ 7:30pm \nFri.\, 10/24 @ 7:30pm \nSat.\, 10/25 @ 7:30pm \nSun.\, 10/26 @ 2pm \n  \nThu.\, 10/30 @ 7:30pm \nFri.\, 10/31 @ 7:30pm \nSat.\, 11/1 @ 7:30pm \nSun.\, 11/2 @ 2pm \n 
URL:https://highdesertbits.com/event/cascade-theatrical-company-presents-the-haunting-of-hill-house-11/
LOCATION:CTC Cascade Theatrical Company\, 148 NW Greenwood Ave\, Bend\, OR\, 97703
ORGANIZER;CN="CTC Cascade Theatrical Company":MAILTO:ctcinfo@cascadestheatrical.org
END:VEVENT
BEGIN:VEVENT
DTSTART;TZID=UTC:20251018T140000
DTEND;TZID=UTC:20251018T160000
DTSTAMP:20260424T045336
CREATED:20250924T132842Z
LAST-MODIFIED:20250924T132842Z
UID:2145-1760796000-1760803200@highdesertbits.com
SUMMARY:Ellipse Theater Community presents ALMOST\, MAINE
DESCRIPTION:Ellipse Theater Community presents ALMOST\, MAINE \nWritten by John Cariani \n  \nSat.\, 10/18 @ 2pm and 7pm at Sisters-Camp Sherman RFPD Community Hall
URL:https://highdesertbits.com/event/ellipse-theater-community-presents-almost-maine-11/
LOCATION:Sisters/Camp Sherman RFPD Community Hall\, 301 S Elm St\, Sisters\, OR\, 97759
ORGANIZER;CN="ETC Ellipse Theatre Community":MAILTO:https://www.etcbend.org/contact
END:VEVENT
BEGIN:VEVENT
DTSTART;TZID=UTC:20251018T190000
DTEND;TZID=UTC:20251018T210000
DTSTAMP:20260424T045336
CREATED:20250924T133019Z
LAST-MODIFIED:20250924T133019Z
UID:2147-1760814000-1760821200@highdesertbits.com
SUMMARY:Ellipse Theater Community presents ALMOST\, MAINE
DESCRIPTION:Ellipse Theater Community presents ALMOST\, MAINE \nWritten by John Cariani \n  \nSat.\, 10/18 @ 7pm at Sisters-Camp Sherman RFPD Community Hall
URL:https://highdesertbits.com/event/ellipse-theater-community-presents-almost-maine-12/
LOCATION:Sisters/Camp Sherman RFPD Community Hall\, 301 S Elm St\, Sisters\, OR\, 97759
ORGANIZER;CN="ETC Ellipse Theatre Community":MAILTO:https://www.etcbend.org/contact
END:VEVENT
BEGIN:VEVENT
DTSTART;TZID=UTC:20251018T193000
DTEND;TZID=UTC:20251018T213000
DTSTAMP:20260424T045336
CREATED:20250907T163143Z
LAST-MODIFIED:20250907T163143Z
UID:1919-1760815800-1760823000@highdesertbits.com
SUMMARY:Cascade Theatrical Company presents THE HAUNTING OF HILL HOUSE
DESCRIPTION:Cascade Theatrical Company presents THE HAUNTING OF HILL HOUSE \nby F.  Andrew Leslie from the novel by Shirley Jackson \nSat.\, 10/18 @ 7:30pm \nSun.\, 10/19 @ 2pm \n  \nThu.\, 10/23 @ 7:30pm \nFri.\, 10/24 @ 7:30pm \nSat.\, 10/25 @ 7:30pm \nSun.\, 10/26 @ 2pm \n  \nThu.\, 10/30 @ 7:30pm \nFri.\, 10/31 @ 7:30pm \nSat.\, 11/1 @ 7:30pm \nSun.\, 11/2 @ 2pm \n 
URL:https://highdesertbits.com/event/cascade-theatrical-company-presents-the-haunting-of-hill-house/
LOCATION:CTC Cascade Theatrical Company\, 148 NW Greenwood Ave\, Bend\, OR\, 97703
ORGANIZER;CN="CTC Cascade Theatrical Company":MAILTO:ctcinfo@cascadestheatrical.org
END:VEVENT
BEGIN:VEVENT
DTSTART;TZID=UTC:20251018T193000
DTEND;TZID=UTC:20251018T213000
DTSTAMP:20260424T045336
CREATED:20251003T133549Z
LAST-MODIFIED:20251003T133549Z
UID:2180-1760815800-1760823000@highdesertbits.com
SUMMARY:Greenhouse Cabaret presents ONCE
DESCRIPTION:Greenhouse Cabaret presents ONCE \nMusic and lyrics by Glen Hansard and Markéta Irglová and book by Enda Walsh. \nSat.\, 10/18 and Sun.\, 10/19 at 7:30pm \nThu.\, 10/23\, Fri.\, 10/24\, Sat.\, 10/25 and Sun.\, 10/26 at 7:30pm \nThu.\, 10/30\, Fri.\, 10/31\, Sat.\, 11/1 and Sun.\, 11/2 at 7:30pm \nThu.\, 11/6\, Fri.\, 11/7\, Sat.\, 11/8 and Sun.\, 11/9 at 7:30pm \nThu.\, 11/13\, Fri.\, 11/14 and Sat.\, 11/15 at 7:30pm
URL:https://highdesertbits.com/event/greenhouse-cabaret-presents-once-2/
LOCATION:Greenhouse Cabaret\, 1017 NE 2nd St.\, Bend\, OR\, 97701\, United States
END:VEVENT
BEGIN:VEVENT
DTSTART;TZID=UTC:20251019T140000
DTEND;TZID=UTC:20251019T160000
DTSTAMP:20260424T045336
CREATED:20250907T163257Z
LAST-MODIFIED:20250907T163257Z
UID:1921-1760882400-1760889600@highdesertbits.com
SUMMARY:Cascade Theatrical Company presents THE HAUNTING OF HILL HOUSE
DESCRIPTION:Cascade Theatrical Company presents THE HAUNTING OF HILL HOUSE \nby F.  Andrew Leslie from the novel by Shirley Jackson \nSun.\, 10/19 @ 2pm \n  \nThu.\, 10/23 @ 7:30pm \nFri.\, 10/24 @ 7:30pm \nSat.\, 10/25 @ 7:30pm \nSun.\, 10/26 @ 2pm \n  \nThu.\, 10/30 @ 7:30pm \nFri.\, 10/31 @ 7:30pm \nSat.\, 11/1 @ 7:30pm \nSun.\, 11/2 @ 2pm
URL:https://highdesertbits.com/event/cascade-theatrical-company-presents-the-haunting-of-hill-house-2/
LOCATION:OR
ORGANIZER;CN="CTC Cascade Theatrical Company":MAILTO:ctcinfo@cascadestheatrical.org
END:VEVENT
BEGIN:VEVENT
DTSTART;TZID=UTC:20251019T193000
DTEND;TZID=UTC:20251019T213000
DTSTAMP:20260424T045336
CREATED:20251003T133709Z
LAST-MODIFIED:20251003T133709Z
UID:2182-1760902200-1760909400@highdesertbits.com
SUMMARY:Greenhouse Cabaret presents ONCE
DESCRIPTION:  \nMusic and lyrics by Glen Hansard and Markéta Irglová and book by Enda Walsh. \nSun.\, 10/19 at 7:30pm \nThu.\, 10/23\, Fri.\, 10/24\, Sat.\, 10/25 and Sun.\, 10/26 at 7:30pm \nThu.\, 10/30\, Fri.\, 10/31\, Sat.\, 11/1 and Sun.\, 11/2 at 7:30pm \nThu.\, 11/6\, Fri.\, 11/7\, Sat.\, 11/8 and Sun.\, 11/9 at 7:30pm \nThu.\, 11/13\, Fri.\, 11/14 and Sat.\, 11/15 at 7:30pm
URL:https://highdesertbits.com/event/greenhouse-cabaret-presents-once-3/
LOCATION:Greenhouse Cabaret\, 1017 NE 2nd St.\, Bend\, OR\, 97701\, United States
END:VEVENT
BEGIN:VEVENT
DTSTART;TZID=UTC:20251023T193000
DTEND;TZID=UTC:20251023T213000
DTSTAMP:20260424T045336
CREATED:20250907T163538Z
LAST-MODIFIED:20250907T163538Z
UID:1923-1761247800-1761255000@highdesertbits.com
SUMMARY:Cascade Theatrical Company presents THE HAUNTING OF HILL HOUSE
DESCRIPTION:Cascade Theatrical Company presents THE HAUNTING OF HILL HOUSE \nby F.  Andrew Leslie from the novel by Shirley Jackson \n  \nThu.\, 10/23 @ 7:30pm \nFri.\, 10/24 @ 7:30pm \nSat.\, 10/25 @ 7:30pm \nSun.\, 10/26 @ 2pm \n  \nThu.\, 10/30 @ 7:30pm \nFri.\, 10/31 @ 7:30pm \nSat.\, 11/1 @ 7:30pm \nSun.\, 11/2 @ 2pm
URL:https://highdesertbits.com/event/cascade-theatrical-company-presents-the-haunting-of-hill-house-3/
LOCATION:CTC Cascade Theatrical Company\, 148 NW Greenwood Ave\, Bend\, OR\, 97703
ORGANIZER;CN="CTC Cascade Theatrical Company":MAILTO:ctcinfo@cascadestheatrical.org
END:VEVENT
BEGIN:VEVENT
DTSTART;TZID=UTC:20251023T193000
DTEND;TZID=UTC:20251023T213000
DTSTAMP:20260424T045336
CREATED:20251003T133950Z
LAST-MODIFIED:20251003T133950Z
UID:2184-1761247800-1761255000@highdesertbits.com
SUMMARY:Greenhouse Cabaret presents ONCE
DESCRIPTION:Greenhouse Cabaret presents ONCE \nMusic and lyrics by Glen Hansard and Markéta Irglová and book by Enda Walsh. \nThu.\, 10/23\, Fri.\, 10/24\, Sat.\, 10/25 and Sun.\, 10/26 at 7:30pm \nThu.\, 10/30\, Fri.\, 10/31\, Sat.\, 11/1 and Sun.\, 11/2 at 7:30pm \nThu.\, 11/6\, Fri.\, 11/7\, Sat.\, 11/8 and Sun.\, 11/9 at 7:30pm \nThu.\, 11/13\, Fri.\, 11/14 and Sat.\, 11/15 at 7:30pm
URL:https://highdesertbits.com/event/greenhouse-cabaret-presents-once-4/
LOCATION:Greenhouse Cabaret\, 1017 NE 2nd St.\, Bend\, OR\, 97701\, United States
END:VEVENT
BEGIN:VEVENT
DTSTART;TZID=UTC:20251024T000000
DTEND;TZID=UTC:20251024T235959
DTSTAMP:20260424T045336
CREATED:20250902T145846Z
LAST-MODIFIED:20250902T145846Z
UID:1809-1761264000-1761350399@highdesertbits.com
SUMMARY:Sunriver Stars Community Theater presents VOICES: A Chilling Dinner Theater
DESCRIPTION:Sunriver Stars Community Theater presents VOICES: A Chilling Dinner Theater \nby Richard Lortz \nWed.\, October 8th at Century Commons in Sunriver \nFri.\, October 24th at Marcellos in Sunriver
URL:https://highdesertbits.com/event/sunriver-stars-community-theater-presents-voices-a-chilling-dinner-theater-2/
LOCATION:Marcellos in Sunriver\, 57031 Ponderosa Rd.\, Sunriver\, OR
END:VEVENT
BEGIN:VEVENT
DTSTART;TZID=UTC:20251024T180000
DTEND;TZID=UTC:20251024T200000
DTSTAMP:20260424T045336
CREATED:20250902T124632Z
LAST-MODIFIED:20251022T144128Z
UID:1774-1761328800-1761336000@highdesertbits.com
SUMMARY:RPA presents THE YELLOW BOAT
DESCRIPTION:RPA\, Redmond Proficiency Academy\, presents THE YELLOW BOAT \nBy David Saar \nFri.\, Oct. 24 @ 6pm \nSat.\, Oct. 25 @ 6pm \nSun.\, Oct. 26 @ 2pm \nThu.\, Oct. 30 @ 6pm \nSat.\, Nov. 1 @ 2pm and 6pm
URL:https://highdesertbits.com/event/rpa-presents-the-yellow-boat/
LOCATION:RPA at McClay Center of the Performing Arts\, 640 SW Evrgreen Ave\, Redmond\, OR\, 97756\, United States
END:VEVENT
BEGIN:VEVENT
DTSTART;TZID=UTC:20251024T190000
DTEND;TZID=UTC:20251024T210000
DTSTAMP:20260424T045336
CREATED:20251017T131820Z
LAST-MODIFIED:20251017T131820Z
UID:2235-1761332400-1761339600@highdesertbits.com
SUMMARY:Ridgeview High School presents MURDER'S IN THE HEIR
DESCRIPTION:Ridgeview High School presents MURDER’S IN THE HEIR \nBy Billy St. John \nFri.\, 10/24 @ 7pm \nSat.\, 10/25 @ 2pm and 7pm \n  \nThu.\, 10/30 @ 7pm \nSat.\, Nov 1 @ 2pm and 7pm
URL:https://highdesertbits.com/event/ridgeview-high-school-presents-murders-in-the-heir-2/
LOCATION:Ridgeview High School\, 4555 SW Elkhorn Ave\, Redmond\, OR\, 97756
END:VEVENT
BEGIN:VEVENT
DTSTART;TZID=UTC:20251024T193000
DTEND;TZID=UTC:20251024T213000
DTSTAMP:20260424T045336
CREATED:20250907T163835Z
LAST-MODIFIED:20250907T163835Z
UID:1925-1761334200-1761341400@highdesertbits.com
SUMMARY:Cascade Theatrical Company presents THE HAUNTING OF HILL HOUSE
DESCRIPTION:Cascade Theatrical Company presents THE HAUNTING OF HILL HOUSE \nby F.  Andrew Leslie from the novel by Shirley Jackson \nFri.\, 10/24 @ 7:30pm \nSat.\, 10/25 @ 7:30pm \nSun.\, 10/26 @ 2pm \n  \nThu.\, 10/30 @ 7:30pm \nFri.\, 10/31 @ 7:30pm \nSat.\, 11/1 @ 7:30pm \nSun.\, 11/2 @ 2pm
URL:https://highdesertbits.com/event/cascade-theatrical-company-presents-the-haunting-of-hill-house-4/
LOCATION:CTC Cascade Theatrical Company\, 148 NW Greenwood Ave\, Bend\, OR\, 97703
ORGANIZER;CN="CTC Cascade Theatrical Company":MAILTO:ctcinfo@cascadestheatrical.org
END:VEVENT
BEGIN:VEVENT
DTSTART;TZID=UTC:20251024T193000
DTEND;TZID=UTC:20251024T213000
DTSTAMP:20260424T045336
CREATED:20251003T134115Z
LAST-MODIFIED:20251003T134115Z
UID:2186-1761334200-1761341400@highdesertbits.com
SUMMARY:Greenhouse Cabaret presents ONCE
DESCRIPTION:Greenhouse Cabaret presents ONCE \nMusic and lyrics by Glen Hansard and Markéta Irglová and book by Enda Walsh. \nFri.\, 10/24\, Sat.\, 10/25 and Sun.\, 10/26 at 7:30pm \nThu.\, 10/30\, Fri.\, 10/31\, Sat.\, 11/1 and Sun.\, 11/2 at 7:30pm \nThu.\, 11/6\, Fri.\, 11/7\, Sat.\, 11/8 and Sun.\, 11/9 at 7:30pm \nThu.\, 11/13\, Fri.\, 11/14 and Sat.\, 11/15 at 7:30pm
URL:https://highdesertbits.com/event/greenhouse-cabaret-presents-once-5/
LOCATION:Greenhouse Cabaret\, 1017 NE 2nd St.\, Bend\, OR\, 97701\, United States
END:VEVENT
BEGIN:VEVENT
DTSTART;TZID=UTC:20251025T140000
DTEND;TZID=UTC:20251025T160000
DTSTAMP:20260424T045336
CREATED:20251017T131921Z
LAST-MODIFIED:20251017T131921Z
UID:2237-1761400800-1761408000@highdesertbits.com
SUMMARY:Ridgeview High School presents MURDER'S IN THE HEIR
DESCRIPTION:Ridgeview High School presents MURDER’S IN THE HEIR \nBy Billy St. John \nSat.\, 10/25 @ 2pm and 7pm \n  \nThu.\, 10/30 @ 7pm \nSat.\, Nov 1 @ 2pm and 7pm
URL:https://highdesertbits.com/event/ridgeview-high-school-presents-murders-in-the-heir-3/
LOCATION:Ridgeview High School\, 4555 SW Elkhorn Ave\, Redmond\, OR\, 97756
END:VEVENT
BEGIN:VEVENT
DTSTART;TZID=UTC:20251025T180000
DTEND;TZID=UTC:20251025T200000
DTSTAMP:20260424T045336
CREATED:20250902T124748Z
LAST-MODIFIED:20251022T143626Z
UID:1776-1761415200-1761422400@highdesertbits.com
SUMMARY:RPA presents THE YELLOW BOAT
DESCRIPTION:RPA\, Redmond Proficiency Academy\, presents THE YELLOW BOAT \nBy David Saar \nFri.\, Oct. 24 @ 6pm \nSat.\, Oct. 25 @ 6pm \nSun.\, Oct. 26 @ 2pm \nThu.\, Oct. 30 @ 6pm \nSat.\, Nov. 1 @ 2pm and 6pm
URL:https://highdesertbits.com/event/rpa-presents-the-yellow-boat-2/
LOCATION:RPA   Redmond Proficiency Academy\, 657 SW Glacier Ave #2710\,\, Redmond\, OR\, 97753\, United States
END:VEVENT
BEGIN:VEVENT
DTSTART;TZID=UTC:20251025T190000
DTEND;TZID=UTC:20251025T210000
DTSTAMP:20260424T045336
CREATED:20251017T132028Z
LAST-MODIFIED:20251017T132028Z
UID:2239-1761418800-1761426000@highdesertbits.com
SUMMARY:Ridgeview High School presents MURDER'S IN THE HEIR
DESCRIPTION:Ridgeview High School presents MURDER’S IN THE HEIR \nBy Billy St. John \nSat.\, 10/25 @ 7pm \n  \nThu.\, 10/30 @ 7pm \nSat.\, Nov 1 @ 2pm and 7pm
URL:https://highdesertbits.com/event/ridgeview-high-school-presents-murders-in-the-heir-4/
LOCATION:Ridgeview High School\, 4555 SW Elkhorn Ave\, Redmond\, OR\, 97756
END:VEVENT
BEGIN:VEVENT
DTSTART;TZID=UTC:20251025T193000
DTEND;TZID=UTC:20251025T213000
DTSTAMP:20260424T045336
CREATED:20250907T164028Z
LAST-MODIFIED:20250907T164028Z
UID:1928-1761420600-1761427800@highdesertbits.com
SUMMARY:Cascade Theatrical Company presents THE HAUNTING OF HILL HOUSE
DESCRIPTION:Cascade Theatrical Company presents THE HAUNTING OF HILL HOUSE \nby F.  Andrew Leslie from the novel by Shirley Jackson \nSat.\, 10/25 @ 7:30pm \nSun.\, 10/26 @ 2pm \n  \nThu.\, 10/30 @ 7:30pm \nFri.\, 10/31 @ 7:30pm \nSat.\, 11/1 @ 7:30pm \nSun.\, 11/2 @ 2pm
URL:https://highdesertbits.com/event/cascade-theatrical-company-presents-the-haunting-of-hill-house-5/
LOCATION:CTC Cascade Theatrical Company\, 148 NW Greenwood Ave\, Bend\, OR\, 97703
ORGANIZER;CN="CTC Cascade Theatrical Company":MAILTO:ctcinfo@cascadestheatrical.org
END:VEVENT
BEGIN:VEVENT
DTSTART;TZID=UTC:20251025T193000
DTEND;TZID=UTC:20251025T213000
DTSTAMP:20260424T045336
CREATED:20251003T134228Z
LAST-MODIFIED:20251003T134228Z
UID:2188-1761420600-1761427800@highdesertbits.com
SUMMARY:Greenhouse Cabaret presents ONCE
DESCRIPTION:Greenhouse Cabaret presents ONCE \nMusic and lyrics by Glen Hansard and Markéta Irglová and book by Enda Walsh. \nSat.\, 10/25 and Sun.\, 10/26 at 7:30pm \nThu.\, 10/30\, Fri.\, 10/31\, Sat.\, 11/1 and Sun.\, 11/2 at 7:30pm \nThu.\, 11/6\, Fri.\, 11/7\, Sat.\, 11/8 and Sun.\, 11/9 at 7:30pm \nThu.\, 11/13\, Fri.\, 11/14 and Sat.\, 11/15 at 7:30pm
URL:https://highdesertbits.com/event/greenhouse-cabaret-presents-once-6/
LOCATION:Greenhouse Cabaret\, 1017 NE 2nd St.\, Bend\, OR\, 97701\, United States
END:VEVENT
BEGIN:VEVENT
DTSTART;TZID=UTC:20251026T140000
DTEND;TZID=UTC:20251026T160000
DTSTAMP:20260424T045336
CREATED:20250902T124904Z
LAST-MODIFIED:20251022T144016Z
UID:1778-1761487200-1761494400@highdesertbits.com
SUMMARY:RPA presents THE YELLOW BOAT
DESCRIPTION:RPA\, Redmond Proficiency Academy\, presents THE YELLOW BOAT \nBy David Saar \nFri.\, Oct. 24 @ 6pm \nSat.\, Oct. 25 @ 6pm \nSun.\, Oct. 26 @ 2pm \nThu.\, Oct. 30 @ 6pm \nSat.\, Nov. 1 @ 2pm and 6pm
URL:https://highdesertbits.com/event/rpa-presents-they-yellow-boat/
LOCATION:RPA   Redmond Proficiency Academy\, 657 SW Glacier Ave #2710\,\, Redmond\, OR\, 97753\, United States
END:VEVENT
END:VCALENDAR