BEGIN:VCALENDAR
VERSION:2.0
PRODID:-//High Desert B.I.T.S. - ECPv6.15.20//NONSGML v1.0//EN
CALSCALE:GREGORIAN
METHOD:PUBLISH
X-ORIGINAL-URL:https://highdesertbits.com
X-WR-CALDESC:Events for High Desert B.I.T.S.
REFRESH-INTERVAL;VALUE=DURATION:PT1H
X-Robots-Tag:noindex
X-PUBLISHED-TTL:PT1H
BEGIN:VTIMEZONE
TZID:UTC
BEGIN:STANDARD
TZOFFSETFROM:+0000
TZOFFSETTO:+0000
TZNAME:UTC
DTSTART:20250101T000000
END:STANDARD
END:VTIMEZONE
BEGIN:VEVENT
DTSTART;TZID=UTC:20260103T080000
DTEND;TZID=UTC:20260103T170000
DTSTAMP:20260424T000812
CREATED:20251219T233819Z
LAST-MODIFIED:20251219T233819Z
UID:2329-1767427200-1767459600@highdesertbits.com
SUMMARY:Ovation Performing Arts presents Dreamworks PRINCE OF EGYPT\, THE MUSICAL
DESCRIPTION:Ovation Performing Arts presents Dreamworks PRINCE OF EGYPT\, THE MUSICAL \nMusic and lyrics by Stephen Schwartz\, book by Philip LaZebnik  and based on The Dreamworks Animation Film \nAt Ridgeview High School \nSat.\, Jan 3 @ 6:30pm \nSun.\, Jan 4 @ 3pm \nFri.\,  Jan 9 @ 6:30pm \nSat.\, Jan 10 @ 6:30pm \nSun.\, Jan 11 @ 3pm
URL:https://highdesertbits.com/event/ovation-performing-arts-presents-dreamworks-prince-of-egypt-the-musical-2/
LOCATION:Ridgeview High School\, 4555 SW Elkhorn Ave\, Redmond\, OR\, 97756
ORGANIZER;CN="Ovation Performing Arts":MAILTO:theatre@ovationpa.com
END:VEVENT
BEGIN:VEVENT
DTSTART;TZID=UTC:20260104T150000
DTEND;TZID=UTC:20260104T170000
DTSTAMP:20260424T000812
CREATED:20251219T233937Z
LAST-MODIFIED:20251219T233937Z
UID:2331-1767538800-1767546000@highdesertbits.com
SUMMARY:Ovation Performing Arts presents Dreamworks PRINCE OF EGYPT\, THE MUSICAL
DESCRIPTION:Ovation Performing Arts presents Dreamworks PRINCE OF EGYPT\, THE MUSICAL \nMusic and lyrics by Stephen Schwartz\, book by Philip LaZebnik  and based on The Dreamworks Animation Film \nAt Ridgeview High School \nSun.\, Jan 4 @ 3pm \nFri.\,  Jan 9 @ 6:30pm \nSat.\, Jan 10 @ 6:30pm \nSun.\, Jan 11 @ 3pm
URL:https://highdesertbits.com/event/ovation-performing-arts-presents-dreamworks-prince-of-egypt-the-musical-3/
LOCATION:Ridgeview High School\, 4555 SW Elkhorn Ave\, Redmond\, OR\, 97756
ORGANIZER;CN="Ovation Performing Arts":MAILTO:theatre@ovationpa.com
END:VEVENT
BEGIN:VEVENT
DTSTART;TZID=UTC:20260108T193000
DTEND;TZID=UTC:20260108T213000
DTSTAMP:20260424T000812
CREATED:20250908T045635Z
LAST-MODIFIED:20250908T045635Z
UID:1968-1767900600-1767907800@highdesertbits.com
SUMMARY:Cascades Theatrical Company presents BRING IT ON: THE MUSICAL
DESCRIPTION:Cascades Theatrical Company presents BRING IT ON: THE MUSICAL \nMusic by Tom Kitt\, Lin-Manuel Miranda / Libretto by Jeff Whitty / Lyrics by Amanda Green\, Lin-Manuel Miranda / Inspired by the motion picture\, Bring It On\, released by Universal Pictures and written by Jessica Bendingere \nThu.\, Jan 8 @ 7:30pm \nFri.\, Jan 9 @ 7:30pm \nSat.\, Jan 10 @ 7:30pm \nSun.\, Jan 11 @ 2pm \n  \nThu.\, Jan 15 @ 7:30pm \nFri.\, Jan 16 @ 7:30pm \nSat.\, Jan 17 @ 7:30pm \nSun.\, Jan 18 @ 2pm
URL:https://highdesertbits.com/event/cascades-theatrical-company-presents-bring-it-on-the-musical/
LOCATION:CTC Cascade Theatrical Company\, 148 NW Greenwood Ave\, Bend\, OR\, 97703
ORGANIZER;CN="CTC Cascade Theatrical Company":MAILTO:ctcinfo@cascadestheatrical.org
END:VEVENT
BEGIN:VEVENT
DTSTART;TZID=UTC:20260109T183000
DTEND;TZID=UTC:20260109T203000
DTSTAMP:20260424T000812
CREATED:20251219T234145Z
LAST-MODIFIED:20251219T234145Z
UID:2333-1767983400-1767990600@highdesertbits.com
SUMMARY:Ovation Performing Arts presents Dreamworks PRINCE OF EGYPT\, THE MUSICAL
DESCRIPTION:Ovation Performing Arts presents Dreamworks PRINCE OF EGYPT\, THE MUSICAL \nMusic and lyrics by Stephen Schwartz\, book by Philip LaZebnik  and based on The Dreamworks Animation Film \nAt Ridgeview High School \nFri.\,  Jan 9 @ 6:30pm \nSat.\, Jan 10 @ 6:30pm \nSun.\, Jan 11 @ 3pm
URL:https://highdesertbits.com/event/ovation-performing-arts-presents-dreamworks-prince-of-egypt-the-musical-4/
LOCATION:Ridgeview High School\, 4555 SW Elkhorn Ave\, Redmond\, OR\, 97756
ORGANIZER;CN="Ovation Performing Arts":MAILTO:theatre@ovationpa.com
END:VEVENT
BEGIN:VEVENT
DTSTART;TZID=UTC:20260109T193000
DTEND;TZID=UTC:20260109T213000
DTSTAMP:20260424T000812
CREATED:20250908T045844Z
LAST-MODIFIED:20250908T045844Z
UID:1970-1767987000-1767994200@highdesertbits.com
SUMMARY:Cascades Theatrical Company presents BRING IT ON: THE MUSICAL
DESCRIPTION:Cascades Theatrical Company presents BRING IT ON: THE MUSICAL \nMusic by Tom Kitt\, Lin-Manuel Miranda / Libretto by Jeff Whitty / Lyrics by Amanda Green\, Lin-Manuel Miranda / Inspired by the motion picture\, Bring It On\, released by Universal Pictures and written by Jessica Bendingere \nFri.\, Jan 9 @ 7:30pm \nSat.\, Jan 10 @ 7:30pm \nSun.\, Jan 11 @ 2pm \n  \nThu.\, Jan 15 @ 7:30pm \nFri.\, Jan 16 @ 7:30pm \nSat.\, Jan 17 @ 7:30pm \nSun.\, Jan 18 @ 2pm
URL:https://highdesertbits.com/event/cascades-theatrical-company-presents-bring-it-on-the-musical-2/
LOCATION:CTC Cascade Theatrical Company\, 148 NW Greenwood Ave\, Bend\, OR\, 97703
END:VEVENT
BEGIN:VEVENT
DTSTART;TZID=UTC:20260110T183000
DTEND;TZID=UTC:20260110T203000
DTSTAMP:20260424T000812
CREATED:20251219T234256Z
LAST-MODIFIED:20251219T234256Z
UID:2335-1768069800-1768077000@highdesertbits.com
SUMMARY:Ovation Performing Arts presents Dreamworks PRINCE OF EGYPT\, THE MUSICAL
DESCRIPTION:Ovation Performing Arts presents Dreamworks PRINCE OF EGYPT\, THE MUSICAL \nMusic and lyrics by Stephen Schwartz\, book by Philip LaZebnik  and based on The Dreamworks Animation Film \nAt Ridgeview High School \nSat.\, Jan 10 @ 6:30pm \nSun.\, Jan 11 @ 3pm
URL:https://highdesertbits.com/event/ovation-performing-arts-presents-dreamworks-prince-of-egypt-the-musical-5/
LOCATION:Ridgeview High School\, 4555 SW Elkhorn Ave\, Redmond\, OR\, 97756
ORGANIZER;CN="Ovation Performing Arts":MAILTO:theatre@ovationpa.com
END:VEVENT
BEGIN:VEVENT
DTSTART;TZID=UTC:20260110T193000
DTEND;TZID=UTC:20260110T213000
DTSTAMP:20260424T000812
CREATED:20250908T050015Z
LAST-MODIFIED:20250908T050015Z
UID:1972-1768073400-1768080600@highdesertbits.com
SUMMARY:Cascades Theatrical Company presents BRING IT ON: THE MUSICAL
DESCRIPTION:Cascades Theatrical Company presents BRING IT ON: THE MUSICAL \nMusic by Tom Kitt\, Lin-Manuel Miranda / Libretto by Jeff Whitty / Lyrics by Amanda Green\, Lin-Manuel Miranda / Inspired by the motion picture\, Bring It On\, released by Universal Pictures and written by Jessica Bendingere \nSat.\, Jan 10 @ 7:30pm \nSun.\, Jan 11 @ 2pm \n  \nThu.\, Jan 15 @ 7:30pm \nFri.\, Jan 16 @ 7:30pm \nSat.\, Jan 17 @ 7:30pm \nSun.\, Jan 18 @ 2pm
URL:https://highdesertbits.com/event/cascades-theatrical-company-presents-bring-it-on-the-musical-3/
LOCATION:OR
ORGANIZER;CN="CTC Cascade Theatrical Company":MAILTO:ctcinfo@cascadestheatrical.org
END:VEVENT
BEGIN:VEVENT
DTSTART;TZID=UTC:20260111T140000
DTEND;TZID=UTC:20260111T160000
DTSTAMP:20260424T000812
CREATED:20250908T050144Z
LAST-MODIFIED:20250908T050144Z
UID:1974-1768140000-1768147200@highdesertbits.com
SUMMARY:Cascades Theatrical Company presents BRING IT ON: THE MUSICAL
DESCRIPTION:Cascades Theatrical Company presents BRING IT ON: THE MUSICAL \nMusic by Tom Kitt\, Lin-Manuel Miranda / Libretto by Jeff Whitty / Lyrics by Amanda Green\, Lin-Manuel Miranda / Inspired by the motion picture\, Bring It On\, released by Universal Pictures and written by Jessica Bendingere \nSun.\, Jan 11 @ 2pm \n  \nThu.\, Jan 15 @ 7:30pm \nFri.\, Jan 16 @ 7:30pm \nSat.\, Jan 17 @ 7:30pm \nSun.\, Jan 18 @ 2pm
URL:https://highdesertbits.com/event/cascades-theatrical-company-presents-bring-it-on-the-musical-4/
LOCATION:OR
ORGANIZER;CN="CTC Cascade Theatrical Company":MAILTO:ctcinfo@cascadestheatrical.org
END:VEVENT
BEGIN:VEVENT
DTSTART;TZID=UTC:20260111T150000
DTEND;TZID=UTC:20260111T170000
DTSTAMP:20260424T000812
CREATED:20251219T234415Z
LAST-MODIFIED:20251219T234415Z
UID:2337-1768143600-1768150800@highdesertbits.com
SUMMARY:Ovation Performing Arts presents Dreamworks PRINCE OF EGYPT\, THE MUSICAL
DESCRIPTION:Ovation Performing Arts presents Dreamworks PRINCE OF EGYPT\, THE MUSICAL \nMusic and lyrics by Stephen Schwartz\, book by Philip LaZebnik  and based on The Dreamworks Animation Film \nAt Ridgeview High School \nSun.\, Jan 11 @ 3pm
URL:https://highdesertbits.com/event/ovation-performing-arts-presents-dreamworks-prince-of-egypt-the-musical-6/
LOCATION:Ridgeview High School\, 4555 SW Elkhorn Ave\, Redmond\, OR\, 97756
ORGANIZER;CN="Ovation Performing Arts":MAILTO:theatre@ovationpa.com
END:VEVENT
BEGIN:VEVENT
DTSTART;TZID=UTC:20260115T193000
DTEND;TZID=UTC:20260115T213000
DTSTAMP:20260424T000812
CREATED:20250908T050324Z
LAST-MODIFIED:20250908T050324Z
UID:1976-1768505400-1768512600@highdesertbits.com
SUMMARY:Cascades Theatrical Company presents BRING IT ON: THE MUSICAL
DESCRIPTION:Cascades Theatrical Company presents BRING IT ON: THE MUSICAL \nMusic by Tom Kitt\, Lin-Manuel Miranda / Libretto by Jeff Whitty / Lyrics by Amanda Green\, Lin-Manuel Miranda / Inspired by the motion picture\, Bring It On\, released by Universal Pictures and written by Jessica Bendingere \nThu.\, Jan 15 @ 7:30pm \nFri.\, Jan 16 @ 7:30pm \nSat.\, Jan 17 @ 7:30pm \nSun.\, Jan 18 @ 2pm
URL:https://highdesertbits.com/event/cascades-theatrical-company-presents-bring-it-on-the-musical-5/
LOCATION:CTC Cascade Theatrical Company\, 148 NW Greenwood Ave\, Bend\, OR\, 97703
END:VEVENT
BEGIN:VEVENT
DTSTART;TZID=UTC:20260116T193000
DTEND;TZID=UTC:20260116T213000
DTSTAMP:20260424T000812
CREATED:20250908T050449Z
LAST-MODIFIED:20250908T050449Z
UID:1978-1768591800-1768599000@highdesertbits.com
SUMMARY:Cascades Theatrical Company presents BRING IT ON: THE MUSICAL
DESCRIPTION:Cascades Theatrical Company presents BRING IT ON: THE MUSICAL \nMusic by Tom Kitt\, Lin-Manuel Miranda / Libretto by Jeff Whitty / Lyrics by Amanda Green\, Lin-Manuel Miranda / Inspired by the motion picture\, Bring It On\, released by Universal Pictures and written by Jessica Bendingere \nFri.\, Jan 16 @ 7:30pm \nSat.\, Jan 17 @ 7:30pm \nSun.\, Jan 18 @ 2pm
URL:https://highdesertbits.com/event/cascades-theatrical-company-presents-bring-it-on-the-musical-6/
LOCATION:CTC Cascade Theatrical Company\, 148 NW Greenwood Ave\, Bend\, OR\, 97703
ORGANIZER;CN="CTC Cascade Theatrical Company":MAILTO:ctcinfo@cascadestheatrical.org
END:VEVENT
BEGIN:VEVENT
DTSTART;TZID=UTC:20260117T193000
DTEND;TZID=UTC:20260117T213000
DTSTAMP:20260424T000812
CREATED:20250908T050613Z
LAST-MODIFIED:20250908T050613Z
UID:1980-1768678200-1768685400@highdesertbits.com
SUMMARY:Cascades Theatrical Company presents BRING IT ON: THE MUSICAL
DESCRIPTION:Cascades Theatrical Company presents BRING IT ON: THE MUSICAL \nMusic by Tom Kitt\, Lin-Manuel Miranda / Libretto by Jeff Whitty / Lyrics by Amanda Green\, Lin-Manuel Miranda / Inspired by the motion picture\, Bring It On\, released by Universal Pictures and written by Jessica Bendingere \nSat.\, Jan 17 @ 7:30pm \nSun.\, Jan 18 @ 2pm
URL:https://highdesertbits.com/event/cascades-theatrical-company-presents-bring-it-on-the-musical-7/
LOCATION:CTC Cascade Theatrical Company\, 148 NW Greenwood Ave\, Bend\, OR\, 97703
ORGANIZER;CN="CTC Cascade Theatrical Company":MAILTO:ctcinfo@cascadestheatrical.org
END:VEVENT
BEGIN:VEVENT
DTSTART;TZID=UTC:20260118T140000
DTEND;TZID=UTC:20260118T160000
DTSTAMP:20260424T000812
CREATED:20250908T050750Z
LAST-MODIFIED:20250908T050750Z
UID:1982-1768744800-1768752000@highdesertbits.com
SUMMARY:Cascades Theatrical Company presents BRING IT ON: THE MUSICAL
DESCRIPTION:Cascades Theatrical Company presents BRING IT ON: THE MUSICAL \nMusic by Tom Kitt\, Lin-Manuel Miranda / Libretto by Jeff Whitty / Lyrics by Amanda Green\, Lin-Manuel Miranda / Inspired by the motion picture\, Bring It On\, released by Universal Pictures and written by Jessica Bendingere \nSun.\, Jan 18 @ 2pm
URL:https://highdesertbits.com/event/cascades-theatrical-company-presents-bring-it-on-the-musical-8/
LOCATION:CTC Cascade Theatrical Company\, 148 NW Greenwood Ave\, Bend\, OR\, 97703
ORGANIZER;CN="CTC Cascade Theatrical Company":MAILTO:ctcinfo@cascadestheatrical.org
END:VEVENT
BEGIN:VEVENT
DTSTART;TZID=UTC:20260121T190000
DTEND;TZID=UTC:20260121T220000
DTSTAMP:20260424T000812
CREATED:20250120T033737Z
LAST-MODIFIED:20250907T153913Z
UID:1076-1769022000-1769032800@highdesertbits.com
SUMMARY:Ponderosa Players present THE LITTLE PRINCE
DESCRIPTION:Ponderosa Players present THE LITTLE PRINCE \nDrama by RICK CUMMINS and JOHN SCOULLAR\nbased on the book by ANTOINE de SAINT-EXUPÉRY \nWed.\, Jan 21@ 7pm \nThu.\, Jan 22 @ 7pm \nFri.\, Jan 23@ 7pm \nSat.\, Jan 24 @ 7pm \n 
URL:https://highdesertbits.com/event/ponderosa-players-present-the-little-prince/
LOCATION:Ponderosa Playhouse\, 211 NE Revere Ave\, Suite #4\, Bend\, OR
END:VEVENT
BEGIN:VEVENT
DTSTART;TZID=UTC:20260122T190000
DTEND;TZID=UTC:20260122T220000
DTSTAMP:20260424T000812
CREATED:20250907T134155Z
LAST-MODIFIED:20250907T154053Z
UID:1848-1769108400-1769119200@highdesertbits.com
SUMMARY:Ponderosa Players present THE LITTLE PRINCE
DESCRIPTION:Ponderosa Players present THE LITTLE PRINCE \nDrama by RICK CUMMINS and JOHN SCOULLAR\nbased on the book by ANTOINE de SAINT-EXUPÉRY \nWed.\, Jan 21@ 7pm \nThu.\, Jan 22 @ 7pm \nFri.\, Jan 23@ 7pm \nSat.\, Jan 24 @ 7pm \n 
URL:https://highdesertbits.com/event/ponderosa-players-present-the-little-prince-2/
LOCATION:Ponderosa Playhouse\, 211 NE Revere Ave\, Suite #4\, Bend\, OR
END:VEVENT
BEGIN:VEVENT
DTSTART;TZID=UTC:20260123T180000
DTEND;TZID=UTC:20260123T213000
DTSTAMP:20260424T000812
CREATED:20260107T163241Z
LAST-MODIFIED:20260107T163241Z
UID:2339-1769191200-1769203800@highdesertbits.com
SUMMARY:Summit HS presents TORCHSONG Dinner Cabaret and Silent Auction
DESCRIPTION:Summit HS presents TORCHSONG Dinner Cabaret and Silent Auction \nFri.\, January 23 Doors open at 6pm with a 7pm curtain \nSat.\, January 24 Doors open at 6pm with a 7pm curtain \n  \nSeating is limited so get your tickets now!
URL:https://highdesertbits.com/event/summit-hs-presents-torchsong-dinner-cabaret-and-silent-auction/
LOCATION:Aspen Hall\, 18920 NW Shevlin Park Rd\, Bend\, OR\, 97753\, United States
END:VEVENT
BEGIN:VEVENT
DTSTART;TZID=UTC:20260123T190000
DTEND;TZID=UTC:20260123T220000
DTSTAMP:20260424T000812
CREATED:20250907T134252Z
LAST-MODIFIED:20250907T154228Z
UID:1850-1769194800-1769205600@highdesertbits.com
SUMMARY:Ponderosa Players present THE LITTLE PRINCE
DESCRIPTION:Ponderosa Players present THE LITTLE PRINCE \nDrama by RICK CUMMINS and JOHN SCOULLAR\nbased on the book by ANTOINE de SAINT-EXUPÉRY \nWed.\, Jan 21@ 7pm \nThu.\, Jan 22 @ 7pm \nFri.\, Jan 23@ 7pm \nSat.\, Jan 24 @ 7pm
URL:https://highdesertbits.com/event/ponderosa-players-present-the-little-prince-3/
LOCATION:Ponderosa Playhouse\, 211 NE Revere Ave\, Suite #4\, Bend\, OR
END:VEVENT
BEGIN:VEVENT
DTSTART;TZID=UTC:20260124T080000
DTEND;TZID=UTC:20260124T170000
DTSTAMP:20260424T000812
CREATED:20250907T134345Z
LAST-MODIFIED:20250907T134345Z
UID:1852-1769241600-1769274000@highdesertbits.com
SUMMARY:Ponderosa Players present THE LITTLE PRINCE
DESCRIPTION:Ponderosa Players present THE LITTLE PRINCE \nDrama by RICK CUMMINS and JOHN SCOULLAR\nbased on the book by ANTOINE de SAINT-EXUPÉRY \nWed.\, Jan 21 \nThu.\, Jan 22 \nFri.\, Jan 23 \nSat.\, Jan 24
URL:https://highdesertbits.com/event/ponderosa-players-present-the-little-prince-4/
LOCATION:OR
END:VEVENT
BEGIN:VEVENT
DTSTART;TZID=UTC:20260124T180000
DTEND;TZID=UTC:20260124T213000
DTSTAMP:20260424T000812
CREATED:20260107T163436Z
LAST-MODIFIED:20260107T163436Z
UID:2342-1769277600-1769290200@highdesertbits.com
SUMMARY:Summit HS presents TORCHSONG Dinner Cabaret and Silent Auction
DESCRIPTION:Summit HS presents TORCHSONG Dinner Cabaret and Silent Auction \nSat.\, January 24 Doors open at 6pm with a 7pm curtain \nSeating is limited so get your tickets now!
URL:https://highdesertbits.com/event/summit-hs-presents-torchsong-dinner-cabaret-and-silent-auction-2/
LOCATION:Aspen Hall\, 18920 NW Shevlin Park Rd\, Bend\, OR\, 97753\, United States
END:VEVENT
BEGIN:VEVENT
DTSTART;TZID=UTC:20260201T150000
DTEND;TZID=UTC:20260201T180000
DTSTAMP:20260424T000812
CREATED:20260121T193855Z
LAST-MODIFIED:20260121T193855Z
UID:2359-1769958000-1769968800@highdesertbits.com
SUMMARY:AUDITIONS Ellipse Theatre Community for INTO THE BREECHES
DESCRIPTION:AUDITIONS Ellipse Theatre Community for INTO THE BREECHES \nRegular auditions \nSun.\, 2/1 from 3pm-6pm \nMon.\, 2/2 from 6pm – 8:30pm \nCallbacks \nTue.\, 2/3 from 6-8:30pm \n  \nHoly Communion Church \n1245 SE 3rd St\, C10
URL:https://highdesertbits.com/event/auditions-ellipse-theatre-community-for-into-the-breeches/
LOCATION:Holy Communion Church\, 1245 SE 3rd St\, Bend\, OR\, 97702
ORGANIZER;CN="ETC Ellipse Theatre Community":MAILTO:https://www.etcbend.org/contact
END:VEVENT
BEGIN:VEVENT
DTSTART;TZID=UTC:20260202T180000
DTEND;TZID=UTC:20260202T203000
DTSTAMP:20260424T000812
CREATED:20260121T194013Z
LAST-MODIFIED:20260121T194013Z
UID:2361-1770055200-1770064200@highdesertbits.com
SUMMARY:AUDITIONS Ellipse Theatre Community for INTO THE BREECHES
DESCRIPTION:AUDITIONS Ellipse Theatre Community for INTO THE BREECHES \nRegular auditions \nMon.\, 2/2 from 6pm – 8:30pm \nCallbacks \nTue.\, 2/3 from 6-8:30pm \n  \nHoly Communion Church \n1245 SE 3rd St\, C10
URL:https://highdesertbits.com/event/auditions-ellipse-theatre-community-for-into-the-breeches-2/
LOCATION:Holy Communion Church\, 1245 SE 3rd St\, Bend\, OR\, 97702
ORGANIZER;CN="ETC Ellipse Theatre Community":MAILTO:https://www.etcbend.org/contact
END:VEVENT
BEGIN:VEVENT
DTSTART;TZID=UTC:20260203T180000
DTEND;TZID=UTC:20260203T203000
DTSTAMP:20260424T000812
CREATED:20260121T194615Z
LAST-MODIFIED:20260121T194615Z
UID:2363-1770141600-1770150600@highdesertbits.com
SUMMARY:CALLBACK AUDITIONS  Ellipse Theatre Community for INTO THE BREECHES
DESCRIPTION:CALLBACK AUDITIONS Ellipse Theatre Community for INTO THE BREECHES \nCallbacks \nTue.\, 2/3 from 6-8:30pm \n  \nHoly Communion Church \n1245 SE 3rd St\, C10
URL:https://highdesertbits.com/event/callback-auditions-ellipse-theatre-community-for-into-the-breeches/
LOCATION:Holy Communion Church\, 1245 SE 3rd St\, Bend\, OR\, 97702
ORGANIZER;CN="ETC Ellipse Theatre Community":MAILTO:https://www.etcbend.org/contact
END:VEVENT
BEGIN:VEVENT
DTSTART;TZID=UTC:20260206T193000
DTEND;TZID=UTC:20260206T213000
DTSTAMP:20260424T000812
CREATED:20250908T051952Z
LAST-MODIFIED:20250908T052245Z
UID:1984-1770406200-1770413400@highdesertbits.com
SUMMARY:Cascades Theatrical Company presents BOEING\, BOEING
DESCRIPTION:Cascades Theatrical Company presents BOEING\, BOEING \nBy Marc Camoletti \nFri.\, Feb 6 @ 7:30pm \nSat.\, Feb 7 @ 7:30pm \nSun.\, Feb 8 @ 2pm \n  \nThu.\, Feb 12 @ 7:30pm \nFri.\, Feb 13 @ 7:30pm \nSat.\, Feb 14 @ 7:30pm \nSun.\, Feb 15 8 @ 2pm \n  \nThu.\, Feb 19 @ 7:30pm \nFri.\, Feb 20 @ 7:30pm0 \nSat.\, Feb 21 @ 7:30pm \nSun.\, Feb 22 8 @ 2pm
URL:https://highdesertbits.com/event/1984/
LOCATION:CTC Cascade Theatrical Company\, 148 NW Greenwood Ave\, Bend\, OR\, 97703
ORGANIZER;CN="CTC Cascade Theatrical Company":MAILTO:ctcinfo@cascadestheatrical.org
END:VEVENT
BEGIN:VEVENT
DTSTART;TZID=UTC:20260207T193000
DTEND;TZID=UTC:20260207T213000
DTSTAMP:20260424T000812
CREATED:20250908T052405Z
LAST-MODIFIED:20250908T052405Z
UID:1987-1770492600-1770499800@highdesertbits.com
SUMMARY:Cascades Theatrical Company presents BOEING\, BOEING
DESCRIPTION:Cascades Theatrical Company presents BOEING\, BOEING \nBy Marc Camoletti \nSat.\, Feb 7 @ 7:30pm \nSun.\, Feb 8 @ 2pm \n  \nThu.\, Feb 12 @ 7:30pm \nFri.\, Feb 13 @ 7:30pm \nSat.\, Feb 14 @ 7:30pm \nSun.\, Feb 15 8 @ 2pm \n  \nThu.\, Feb 19 @ 7:30pm \nFri.\, Feb 20 @ 7:30pm0 \nSat.\, Feb 21 @ 7:30pm \nSun.\, Feb 22 8 @ 2pm
URL:https://highdesertbits.com/event/cascades-theatrical-company-presents-boeing-boeing/
LOCATION:CTC Cascade Theatrical Company\, 148 NW Greenwood Ave\, Bend\, OR\, 97703
ORGANIZER;CN="CTC Cascade Theatrical Company":MAILTO:ctcinfo@cascadestheatrical.org
END:VEVENT
BEGIN:VEVENT
DTSTART;TZID=UTC:20260208T140000
DTEND;TZID=UTC:20260208T160000
DTSTAMP:20260424T000812
CREATED:20250908T052551Z
LAST-MODIFIED:20250908T052551Z
UID:1989-1770559200-1770566400@highdesertbits.com
SUMMARY:Cascades Theatrical Company presents BOEING\, BOEING
DESCRIPTION:Cascades Theatrical Company presents BOEING\, BOEING \nBy Marc Camoletti \nSun.\, Feb 8 @ 2pm \n  \nThu.\, Feb 12 @ 7:30pm \nFri.\, Feb 13 @ 7:30pm \nSat.\, Feb 14 @ 7:30pm \nSun.\, Feb 15 8 @ 2pm \n  \nThu.\, Feb 19 @ 7:30pm \nFri.\, Feb 20 @ 7:30pm \nSat.\, Feb 21 @ 7:30pm \nSun.\, Feb 22 8 @ 2pm
URL:https://highdesertbits.com/event/cascades-theatrical-company-presents-boeing-boeing-2/
LOCATION:CTC Cascade Theatrical Company\, 148 NW Greenwood Ave\, Bend\, OR\, 97703
ORGANIZER;CN="CTC Cascade Theatrical Company":MAILTO:ctcinfo@cascadestheatrical.org
END:VEVENT
BEGIN:VEVENT
DTSTART;TZID=UTC:20260212T183000
DTEND;TZID=UTC:20260212T203000
DTSTAMP:20260424T000812
CREATED:20250907T130249Z
LAST-MODIFIED:20260113T152216Z
UID:1814-1770921000-1770928200@highdesertbits.com
SUMMARY:Crook County High School presents CHICAGO; TEEN EDITION
DESCRIPTION:Crook County High School presents CHICAGO; TEEN EDITION \nWith a book by Bob Fosse\,  lyrics by Fred Ebb and music by John Kander. \nThu.\, Feb 12 \nFri.\, Feb 13 \nSat.\, Feb 14 \nSun.\, Feb 15
URL:https://highdesertbits.com/event/crook-county-high-school-presents-carrie-the-musical/
LOCATION:Crook County High School\, 1100 SE Lynn Blvd\, Prineville\, OR\, 97754
END:VEVENT
BEGIN:VEVENT
DTSTART;TZID=UTC:20260212T193000
DTEND;TZID=UTC:20260212T213000
DTSTAMP:20260424T000812
CREATED:20250908T052726Z
LAST-MODIFIED:20250908T052726Z
UID:1991-1770924600-1770931800@highdesertbits.com
SUMMARY:Cascades Theatrical Company presents BOEING\, BOEING
DESCRIPTION:Cascades Theatrical Company presents BOEING\, BOEING \nBy Marc Camoletti \nThu.\, Feb 12 @ 7:30pm \nFri.\, Feb 13 @ 7:30pm \nSat.\, Feb 14 @ 7:30pm \nSun.\, Feb 15 8 @ 2pm \n  \nThu.\, Feb 19 @ 7:30pm \nFri.\, Feb 20 @ 7:30pm \nSat.\, Feb 21 @ 7:30pm \nSun.\, Feb 22 8 @ 2pm
URL:https://highdesertbits.com/event/cascades-theatrical-company-presents-boeing-boeing-3/
LOCATION:CTC Cascade Theatrical Company\, 148 NW Greenwood Ave\, Bend\, OR\, 97703
ORGANIZER;CN="CTC Cascade Theatrical Company":MAILTO:ctcinfo@cascadestheatrical.org
END:VEVENT
BEGIN:VEVENT
DTSTART;TZID=UTC:20260213T183000
DTEND;TZID=UTC:20260213T203000
DTSTAMP:20260424T000812
CREATED:20250907T130349Z
LAST-MODIFIED:20260113T152636Z
UID:1816-1771007400-1771014600@highdesertbits.com
SUMMARY:Crook County High School presents CHICAGO; TEEN EDITION
DESCRIPTION:Crook County High School presents CHICAGO; TEEN EDITION \nWith a book by Bob Fosse\,  lyrics by Fred Ebb and music by John Kander. \nFri.\, Feb 13 @ 6:30pm \nSat.\, Feb 14 @ 6:30pm \nSun.\, Feb 15 @ 2pm
URL:https://highdesertbits.com/event/crook-county-high-school-presents-carrie-the-musical-2/
LOCATION:Crook County High School\, 1100 SE Lynn Blvd\, Prineville\, OR\, 97754
END:VEVENT
BEGIN:VEVENT
DTSTART;TZID=UTC:20260213T193000
DTEND;TZID=UTC:20260213T213000
DTSTAMP:20260424T000812
CREATED:20250908T052849Z
LAST-MODIFIED:20250908T052849Z
UID:1993-1771011000-1771018200@highdesertbits.com
SUMMARY:Cascades Theatrical Company presents BOEING\, BOEING
DESCRIPTION:Cascades Theatrical Company presents BOEING\, BOEING \nBy Marc Camoletti \nFri.\, Feb 13 @ 7:30pm \nSat.\, Feb 14 @ 7:30pm \nSun.\, Feb 15 8 @ 2pm \n  \nThu.\, Feb 19 @ 7:30pm \nFri.\, Feb 20 @ 7:30pm \nSat.\, Feb 21 @ 7:30pm \nSun.\, Feb 22 8 @ 2pm
URL:https://highdesertbits.com/event/cascades-theatrical-company-presents-boeing-boeing-4/
LOCATION:OR
END:VEVENT
BEGIN:VEVENT
DTSTART;TZID=UTC:20260214T183000
DTEND;TZID=UTC:20260214T203000
DTSTAMP:20260424T000812
CREATED:20250907T130954Z
LAST-MODIFIED:20260113T152933Z
UID:1820-1771093800-1771101000@highdesertbits.com
SUMMARY:Crook County High School presents CHICAGO; TEEN EDITION
DESCRIPTION:Crook County High School presents CHICAGO; TEEN EDITION \nWith a book by Bob Fosse\,  lyrics by Fred Ebb and music by John Kander. \nSat.\, Feb 14 @ 6:30pm \nSun.\, Feb 15 @ 2pm
URL:https://highdesertbits.com/event/crook-county-high-school-presents-carrie-the-musical-4/
LOCATION:Crook County High School\, 1100 SE Lynn Blvd\, Prineville\, OR\, 97754
END:VEVENT
END:VCALENDAR