BEGIN:VCALENDAR
VERSION:2.0
PRODID:-//High Desert B.I.T.S. - ECPv6.15.20//NONSGML v1.0//EN
CALSCALE:GREGORIAN
METHOD:PUBLISH
X-WR-CALNAME:High Desert B.I.T.S.
X-ORIGINAL-URL:https://highdesertbits.com
X-WR-CALDESC:Events for High Desert B.I.T.S.
REFRESH-INTERVAL;VALUE=DURATION:PT1H
X-Robots-Tag:noindex
X-PUBLISHED-TTL:PT1H
BEGIN:VTIMEZONE
TZID:UTC
BEGIN:STANDARD
TZOFFSETFROM:+0000
TZOFFSETTO:+0000
TZNAME:UTC
DTSTART:20230101T000000
END:STANDARD
END:VTIMEZONE
BEGIN:VEVENT
DTSTART;TZID=UTC:20241123T190000
DTEND;TZID=UTC:20241123T210000
DTSTAMP:20260425T112646
CREATED:20241022T143407Z
LAST-MODIFIED:20241118T054503Z
UID:680-1732388400-1732395600@highdesertbits.com
SUMMARY:Ochoco Players presents Two Mysteries
DESCRIPTION:Ochoco Players presents MURDER AT GREY’S HOUND MANSION and a one Act Comedy Mystery at the Bowman Museum in Prineville \nFriday Nov 22 @7pm \nSaturday Nov 23 @7pm \nSunday Nov 24 @ 2pm \n  \nDonations accepted at the door.
URL:https://highdesertbits.com/event/ochoco-players-presents-two-mysteries-2/
LOCATION:Bowman Historical Museum\, 246 N Main Street\, Prineville\, OR\, 97754\, United States
END:VEVENT
BEGIN:VEVENT
DTSTART;TZID=UTC:20241123T190000
DTEND;TZID=UTC:20241123T210000
DTSTAMP:20260425T112646
CREATED:20240928T140724Z
LAST-MODIFIED:20240928T140724Z
UID:433-1732388400-1732395600@highdesertbits.com
SUMMARY:Greenhouse Cabaret presents SWEENEY TODD
DESCRIPTION:Greenhouse Cabaret presents SWEENEY TODD \nMusic and lyrics by Stephen Sondheim \nBook by Hugh Wheeler \n  \nOct. 25-Nov. 23
URL:https://highdesertbits.com/event/greenhouse-cabaret-presents-sweeney-todd-17/
LOCATION:Greenhouse Cabaret\, 1017 NE 2nd St.\, Bend\, OR\, 97701\, United States
END:VEVENT
BEGIN:VEVENT
DTSTART;TZID=UTC:20241122T190000
DTEND;TZID=UTC:20241122T210000
DTSTAMP:20260425T112646
CREATED:20241022T143217Z
LAST-MODIFIED:20241118T054344Z
UID:677-1732302000-1732309200@highdesertbits.com
SUMMARY:Ochoco Players presents Two Mysteries at the Bowman Museum
DESCRIPTION:Ochoco Players presents MURDER AT GREY’S HOUND MANSION and a one Act Comedy Mystery at the Bowman Museum in Prineville \nFriday Nov 22 @7pm \nSaturday Nov 23 @7pm \nSunday Nov 24 @ 2pm \n  \nDonations accepted at the door
URL:https://highdesertbits.com/event/ochoco-players-presents-two-mysteries/
LOCATION:Bowman Historical Museum\, 246 N Main Street\, Prineville\, OR\, 97754\, United States
END:VEVENT
BEGIN:VEVENT
DTSTART;TZID=UTC:20241122T190000
DTEND;TZID=UTC:20241122T210000
DTSTAMP:20260425T112646
CREATED:20240928T140621Z
LAST-MODIFIED:20240928T140621Z
UID:431-1732302000-1732309200@highdesertbits.com
SUMMARY:Greenhouse Cabaret presents SWEENEY TODD
DESCRIPTION:Greenhouse Cabaret presents SWEENEY TODD \nMusic and lyrics by Stephen Sondheim \nBook by Hugh Wheeler \n  \nOct. 25-Nov. 23
URL:https://highdesertbits.com/event/greenhouse-cabaret-presents-sweeney-todd-16/
LOCATION:Greenhouse Cabaret\, 1017 NE 2nd St.\, Bend\, OR\, 97701\, United States
END:VEVENT
BEGIN:VEVENT
DTSTART;TZID=UTC:20241121T190000
DTEND;TZID=UTC:20241121T210000
DTSTAMP:20260425T112646
CREATED:20240928T140518Z
LAST-MODIFIED:20240928T140518Z
UID:429-1732215600-1732222800@highdesertbits.com
SUMMARY:Greenhouse Cabaret presents SWEENEY TODD
DESCRIPTION:Greenhouse Cabaret presents SWEENEY TODD \nMusic and lyrics by Stephen Sondheim \nBook by Hugh Wheeler \n  \nOct. 25-Nov. 23
URL:https://highdesertbits.com/event/greenhouse-cabaret-presents-sweeney-todd-15/
LOCATION:Greenhouse Cabaret\, 1017 NE 2nd St.\, Bend\, OR\, 97701\, United States
END:VEVENT
BEGIN:VEVENT
DTSTART;TZID=UTC:20241117T190000
DTEND;TZID=UTC:20241117T210000
DTSTAMP:20260425T112646
CREATED:20240928T140418Z
LAST-MODIFIED:20240928T140418Z
UID:427-1731870000-1731877200@highdesertbits.com
SUMMARY:Greenhouse Cabaret presents SWEENEY TODD
DESCRIPTION:Greenhouse Cabaret presents SWEENEY TODD \nMusic and lyrics by Stephen Sondheim \nBook by Hugh Wheeler \n  \nOct. 25-Nov. 23
URL:https://highdesertbits.com/event/greenhouse-cabaret-presents-sweeney-todd-14/
LOCATION:Greenhouse Cabaret\, 1017 NE 2nd St.\, Bend\, OR\, 97701\, United States
END:VEVENT
BEGIN:VEVENT
DTSTART;TZID=UTC:20241117T140000
DTEND;TZID=UTC:20241117T160000
DTSTAMP:20260425T112646
CREATED:20241010T143423Z
LAST-MODIFIED:20241010T143423Z
UID:602-1731852000-1731859200@highdesertbits.com
SUMMARY:Madras High School presents THE BROTHERS GRIMM SPECTACULATHON
DESCRIPTION:The Brothers Grimm Spectaculathon by Don Zolidis \nFrom PLAYSCRIPTS\, “The fairy tales of the Brothers Grimm are turned on their heads in this fast-paced\, rollicking ride as two narrators and several actors attempt to combine all 209 stories.” \nFri.\, Nov. 15 at 7pm \nSat.\, Nov. 16 at 2pm and 7pm \nSun.\, Nov 17 at 2pm \nHeld at the Madras Performing Arts Center
URL:https://highdesertbits.com/event/madras-high-school-presents-the-brothers-grimm-spectaculathon-3/
LOCATION:Madras Performing Arts Center\, 412 SE Buff St\, Madras\, OR\, 97741\, United States
END:VEVENT
BEGIN:VEVENT
DTSTART;TZID=UTC:20241116T193000
DTEND;TZID=UTC:20241116T213000
DTSTAMP:20260425T112646
CREATED:20240929T000343Z
LAST-MODIFIED:20240929T000343Z
UID:536-1731785400-1731792600@highdesertbits.com
SUMMARY:TMP presents Cabaret at the Tower Theatre
DESCRIPTION:Thoroughly Modern Productions  presents CABARET at the historic Tower Theatre \nCABARETwith music by John Kander\, lyrics by Fred Ebb\, and a book by Joe Masteroff. \n  \nNov. 8-10\, Nov. 14-16
URL:https://highdesertbits.com/event/tmp-presents-cabaret-at-the-tower-theatre-6/
LOCATION:Tower Theatre\, 835 NW Wall St\, Bend\, OR\, 97703\, United States
END:VEVENT
BEGIN:VEVENT
DTSTART;TZID=UTC:20241116T190000
DTEND;TZID=UTC:20241116T210000
DTSTAMP:20260425T112646
CREATED:20241111T162641Z
LAST-MODIFIED:20241111T162641Z
UID:757-1731783600-1731790800@highdesertbits.com
SUMMARY:Redmond High SChool presents Fall Play
DESCRIPTION:Redmond High School presents a Fall Play (Sorry\, no title at this posting) \nWed.\, 11/13 @ 7pm \nThu.\, 11/14 @ 7pm \nFri.\, 11/15 @ 7pm \nSat.\, 11/16 @ 2pm AND 7pm
URL:https://highdesertbits.com/event/redmond-high-school-presents-fall-play-5/
LOCATION:Redmond High School\, 675 SW Rimrock Way\, Redmond\, OR\, 97756
END:VEVENT
BEGIN:VEVENT
DTSTART;TZID=UTC:20241116T190000
DTEND;TZID=UTC:20241116T210000
DTSTAMP:20260425T112646
CREATED:20241010T143310Z
LAST-MODIFIED:20241010T143310Z
UID:600-1731783600-1731790800@highdesertbits.com
SUMMARY:Madras High School presents THE BROTHERS GRIMM SPECTACULATHON
DESCRIPTION:The Brothers Grimm Spectaculathon by Don Zolidis \nFrom PLAYSCRIPTS\, “The fairy tales of the Brothers Grimm are turned on their heads in this fast-paced\, rollicking ride as two narrators and several actors attempt to combine all 209 stories.” \nFri.\, Nov. 15 at 7pm \nSat.\, Nov. 16 at 2pm and 7pm \nSun.\, Nov 17 at 2pm \nHeld at the Madras Performing Arts Center
URL:https://highdesertbits.com/event/madras-high-school-presents-the-brothers-grimm-spectaculathon-2/
LOCATION:Madras Performing Arts Center\, 412 SE Buff St\, Madras\, OR\, 97741\, United States
END:VEVENT
BEGIN:VEVENT
DTSTART;TZID=UTC:20241116T190000
DTEND;TZID=UTC:20241116T210000
DTSTAMP:20260425T112646
CREATED:20240928T140318Z
LAST-MODIFIED:20240928T140318Z
UID:425-1731783600-1731790800@highdesertbits.com
SUMMARY:Greenhouse Cabaret presents SWEENEY TODD
DESCRIPTION:Greenhouse Cabaret presents SWEENEY TODD \nMusic and lyrics by Stephen Sondheim \nBook by Hugh Wheeler \n  \nOct. 25-Nov. 23
URL:https://highdesertbits.com/event/greenhouse-cabaret-presents-sweeney-todd-13/
LOCATION:Greenhouse Cabaret\, 1017 NE 2nd St.\, Bend\, OR\, 97701\, United States
END:VEVENT
BEGIN:VEVENT
DTSTART;TZID=UTC:20241116T140000
DTEND;TZID=UTC:20241116T160000
DTSTAMP:20260425T112646
CREATED:20241111T162533Z
LAST-MODIFIED:20241111T162533Z
UID:755-1731765600-1731772800@highdesertbits.com
SUMMARY:Redmond High School presents Fall Play
DESCRIPTION:Redmond High School presents a Fall Play (Sorry\, no title at this posting) \nWed.\, 11/13 @ 7pm \nThu.\, 11/14 @ 7pm \nFri.\, 11/15 @ 7pm \nSat.\, 11/16 @ 2pm AND 7pm
URL:https://highdesertbits.com/event/redmond-high-school-presents-fall-play-4/
LOCATION:Redmond High School\, 675 SW Rimrock Way\, Redmond\, OR\, 97756
END:VEVENT
BEGIN:VEVENT
DTSTART;TZID=UTC:20241116T140000
DTEND;TZID=UTC:20241116T160000
DTSTAMP:20260425T112646
CREATED:20241105T161815Z
LAST-MODIFIED:20241105T162104Z
UID:717-1731765600-1731772800@highdesertbits.com
SUMMARY:Sunriver Starts Community Theatre presents HUCKLEBERRY FINN
DESCRIPTION:Sunriver Stars Community Theater presents HUCKLEBERRY FINN \nBook by Joseph George Caruso \nMusic and lyrics by Edward C. Redding \nBased on the novel by Mark Twain \nNov 14 at 7pm \nNov 15 at 7pm \nNov 16 at 2pm \nAt the Door at Three Rivers
URL:https://highdesertbits.com/event/sunriver-starts-community-theatre-presents-huckleberry-finn/
LOCATION:The Door at Three Rivers\, 56885 Enterprise Dr\, Sunriver\, OR\, 97707\, United States
END:VEVENT
BEGIN:VEVENT
DTSTART;TZID=UTC:20241116T140000
DTEND;TZID=UTC:20241116T160000
DTSTAMP:20260425T112646
CREATED:20241010T143141Z
LAST-MODIFIED:20241010T143141Z
UID:598-1731765600-1731772800@highdesertbits.com
SUMMARY:Madras High School presents BROTHERS GRIMM SPECTACULATHON
DESCRIPTION:The Brothers Grimm Spectaculathon by Don Zolidis \nFrom PLAYSCRIPTS\, “The fairy tales of the Brothers Grimm are turned on their heads in this fast-paced\, rollicking ride as two narrators and several actors attempt to combine all 209 stories.” \nFri.\, Nov. 15 at 7pm \nSat.\, Nov. 16 at 2pm and 7pm \nSun.\, Nov 17 at 2pm \nHeld at the Madras Performing Arts Center
URL:https://highdesertbits.com/event/madras-high-school-presents-brothers-grimm-spectaculathon/
LOCATION:Madras Performing Arts Center\, 412 SE Buff St\, Madras\, OR\, 97741\, United States
END:VEVENT
BEGIN:VEVENT
DTSTART;TZID=UTC:20241116T140000
DTEND;TZID=UTC:20241116T160000
DTSTAMP:20260425T112646
CREATED:20240929T000212Z
LAST-MODIFIED:20240929T000212Z
UID:534-1731765600-1731772800@highdesertbits.com
SUMMARY:TMP presents CABARET at the Tower Theatre matinee
DESCRIPTION:Thoroughly Modern Productions  presents CABARET at the historic Tower Theatre \nCABARETwith music by John Kander\, lyrics by Fred Ebb\, and a book by Joe Masteroff. \n  \nNov. 8-10\, Nov. 14-16
URL:https://highdesertbits.com/event/tmp-presents-cabaret-at-the-tower-theatre-matinee-2/
LOCATION:Tower Theatre\, 835 NW Wall St\, Bend\, OR\, 97703\, United States
END:VEVENT
BEGIN:VEVENT
DTSTART;TZID=UTC:20241115T193000
DTEND;TZID=UTC:20241115T213000
DTSTAMP:20260425T112646
CREATED:20240928T235935Z
LAST-MODIFIED:20240928T235935Z
UID:532-1731699000-1731706200@highdesertbits.com
SUMMARY:TMP presents CABARET at the Tower Theatre
DESCRIPTION:Thoroughly Modern Productions  presents CABARET at the historic Tower Theatre \nCABARETwith music by John Kander\, lyrics by Fred Ebb\, and a book by Joe Masteroff. \n  \nNov. 8-10\, Nov. 14-16
URL:https://highdesertbits.com/event/tmp-presents-cabaret-at-the-tower-theatre-5/
LOCATION:TMP Thoroughly Modern Productions\, Bend\, OR
END:VEVENT
BEGIN:VEVENT
DTSTART;TZID=UTC:20241115T190000
DTEND;TZID=UTC:20241115T210000
DTSTAMP:20260425T112646
CREATED:20241111T162400Z
LAST-MODIFIED:20241111T162400Z
UID:753-1731697200-1731704400@highdesertbits.com
SUMMARY:Redmond High School presents Fall Play
DESCRIPTION:Redmond High School presents a Fall Play (Sorry\, no title at this posting) \nWed.\, 11/13 @ 7pm \nThu.\, 11/14 @ 7pm \nFri.\, 11/15 @ 7pm \nSat.\, 11/16 @ 2pm AND 7pm
URL:https://highdesertbits.com/event/redmond-high-school-presents-fall-play-3/
LOCATION:Redmond High School\, 675 SW Rimrock Way\, Redmond\, OR\, 97756
END:VEVENT
BEGIN:VEVENT
DTSTART;TZID=UTC:20241115T190000
DTEND;TZID=UTC:20241115T210000
DTSTAMP:20260425T112646
CREATED:20241105T161649Z
LAST-MODIFIED:20241105T161649Z
UID:715-1731697200-1731704400@highdesertbits.com
SUMMARY:Sunriver Stars Community Theatre presents HUCKLEBERRY FINN
DESCRIPTION:Sunriver Stars Community Theater presents HUCKLEBERRY FINN \nBook by Joseph George Caruso \nMusic and lyrics by Edward C. Redding \nBased on the novel by Mark Twain \nNov 14 at 7pm \nNov 15 at 7pm \nNov 16 at 2pm \nAt the Door at Three Rivers
URL:https://highdesertbits.com/event/sunriver-stars-community-theatre-presents-huckleberry-finn/
LOCATION:The Door at Three Rivers\, 56885 Enterprise Dr\, Sunriver\, OR\, 97707\, United States
END:VEVENT
BEGIN:VEVENT
DTSTART;TZID=UTC:20241115T190000
DTEND;TZID=UTC:20241115T210000
DTSTAMP:20260425T112646
CREATED:20241010T143005Z
LAST-MODIFIED:20241010T143005Z
UID:594-1731697200-1731704400@highdesertbits.com
SUMMARY:Madras High School presents THE BROTHERS GRIMM SPECTACULATHON
DESCRIPTION:The Brothers Grimm Spectaculathon by Don Zolidis \nFrom PLAYSCRIPTS\, “The fairy tales of the Brothers Grimm are turned on their heads in this fast-paced\, rollicking ride as two narrators and several actors attempt to combine all 209 stories.” \nFri.\, Nov. 15 at 7pm \nSat.\, Nov. 16 at 2pm and 7pm \nSun.\, Nov 17 at 2pm \nHeld at the Madras Performing Arts Center
URL:https://highdesertbits.com/event/madras-high-school-presents-the-brothers-grimm-spectaculathon/
LOCATION:Madras Performing Arts Center\, 412 SE Buff St\, Madras\, OR\, 97741\, United States
END:VEVENT
BEGIN:VEVENT
DTSTART;TZID=UTC:20241115T190000
DTEND;TZID=UTC:20241115T210000
DTSTAMP:20260425T112646
CREATED:20240928T140223Z
LAST-MODIFIED:20240928T140223Z
UID:423-1731697200-1731704400@highdesertbits.com
SUMMARY:Greenhouse Cabaret presents SWEENEY TODD
DESCRIPTION:Greenhouse Cabaret presents SWEENEY TODD \nMusic and lyrics by Stephen Sondheim \nBook by Hugh Wheeler \n  \nOct. 25-Nov. 23
URL:https://highdesertbits.com/event/greenhouse-cabaret-presents-sweeney-todd-12/
LOCATION:Greenhouse Cabaret\, 1017 NE 2nd St.\, Bend\, OR\, 97701\, United States
END:VEVENT
BEGIN:VEVENT
DTSTART;TZID=UTC:20241114T193000
DTEND;TZID=UTC:20241114T213000
DTSTAMP:20260425T112646
CREATED:20240928T235800Z
LAST-MODIFIED:20240928T235800Z
UID:530-1731612600-1731619800@highdesertbits.com
SUMMARY:TMP presents CABARET at the Tower Theatre
DESCRIPTION:Thoroughly Modern Productions  presents CABARET at the historic Tower Theatre \nCABARETwith music by John Kander\, lyrics by Fred Ebb\, and a book by Joe Masteroff. \n  \nNov. 8-10\, Nov. 14-16
URL:https://highdesertbits.com/event/tmp-presents-cabaret-at-the-tower-theatre-4/
LOCATION:Tower Theatre\, 835 NW Wall St\, Bend\, OR\, 97703\, United States
END:VEVENT
BEGIN:VEVENT
DTSTART;TZID=UTC:20241114T190000
DTEND;TZID=UTC:20241114T210000
DTSTAMP:20260425T112646
CREATED:20241111T162246Z
LAST-MODIFIED:20241111T162246Z
UID:751-1731610800-1731618000@highdesertbits.com
SUMMARY:Redmond High School presents Fall Play
DESCRIPTION:Redmond High School presents a Fall Play (Sorry\, no title at this posting) \nWed.\, 11/13 @ 7pm \nThu.\, 11/14 @ 7pm \nFri.\, 11/15 @ 7pm \nSat.\, 11/16 @ 2pm AND 7pm
URL:https://highdesertbits.com/event/redmond-high-school-presents-fall-play-2/
LOCATION:Redmond High School\, 675 SW Rimrock Way\, Redmond\, OR\, 97756
END:VEVENT
BEGIN:VEVENT
DTSTART;TZID=UTC:20241114T190000
DTEND;TZID=UTC:20241114T210000
DTSTAMP:20260425T112646
CREATED:20240928T140104Z
LAST-MODIFIED:20240928T140104Z
UID:421-1731610800-1731618000@highdesertbits.com
SUMMARY:Greenhouse Cabaret presents SWEENEY TODD
DESCRIPTION:Greenhouse Cabaret presents SWEENEY TODD \nMusic and lyrics by Stephen Sondheim \nBook by Hugh Wheeler \n  \nOct. 25-Nov. 23
URL:https://highdesertbits.com/event/greenhouse-cabaret-presents-sweeney-todd-11/
LOCATION:Greenhouse Cabaret\, 1017 NE 2nd St.\, Bend\, OR\, 97701\, United States
END:VEVENT
BEGIN:VEVENT
DTSTART;TZID=UTC:20241114T190000
DTEND;TZID=UTC:20241114T210000
DTSTAMP:20260425T112646
CREATED:20240830T063437Z
LAST-MODIFIED:20241105T161505Z
UID:110-1731610800-1731618000@highdesertbits.com
SUMMARY:Sunriver Stars Community Theater presents HUCKLEBERRY FINN
DESCRIPTION:Sunriver Stars Community Theater presents HUCKLEBERRY FINN \nBook by Joseph George Caruso \nMusic and lyrics by Edward C. Redding \nBased on the novel by Mark Twain \nNov 14 at 7pm \nNov 15 at 7pm \nNov 16 at 2pm \nAt the Door at Three Rivers \n\n 
URL:https://highdesertbits.com/event/sunriver-stars-community-theater-presents-huckleberry-finn/
LOCATION:The Door at Three Rivers\, 56885 Enterprise Dr\, Sunriver\, OR\, 97707\, United States
END:VEVENT
BEGIN:VEVENT
DTSTART;TZID=UTC:20241113T190000
DTEND;TZID=UTC:20241113T210000
DTSTAMP:20260425T112646
CREATED:20241111T162126Z
LAST-MODIFIED:20241111T162126Z
UID:748-1731524400-1731531600@highdesertbits.com
SUMMARY:Redmond High School presents Fall Play
DESCRIPTION:Redmond High School presents a Fall Play (Sorry\, no title at this posting) \nWed.\, 11/13 @ 7pm \nThu.\, 11/14 @ 7pm \nFri.\, 11/15 @ 7pm \nSat.\, 11/16 @ 2pm AND 7pm
URL:https://highdesertbits.com/event/redmond-high-school-presents-fall-play/
LOCATION:Redmond High School\, 675 SW Rimrock Way\, Redmond\, OR\, 97756
END:VEVENT
BEGIN:VEVENT
DTSTART;TZID=UTC:20241112T000000
DTEND;TZID=UTC:20241112T235959
DTSTAMP:20260425T112646
CREATED:20241014T134613Z
LAST-MODIFIED:20241014T134613Z
UID:610-1731369600-1731455999@highdesertbits.com
SUMMARY:Greenhouse Cabaret offers audtions for 2025 season
DESCRIPTION:11/11 and 11/12  Sign up for an audition timeslot \nNext to Normal\,  The Wolves\,  and Once \nSubmit for sides at thegreenhousecabaret.com/auditions
URL:https://highdesertbits.com/event/greenhouse-cabaret-offers-audtions-for-2025-season/
LOCATION:Greenhouse Cabaret\, 1017 NE 2nd St.\, Bend\, OR\, 97701\, United States
END:VEVENT
BEGIN:VEVENT
DTSTART;TZID=UTC:20241111T000000
DTEND;TZID=UTC:20241111T235959
DTSTAMP:20260425T112646
CREATED:20241014T134435Z
LAST-MODIFIED:20241014T134435Z
UID:607-1731283200-1731369599@highdesertbits.com
SUMMARY:Greenhouse Cabaret offers 2025 Season auditions
DESCRIPTION:11/11 and 11/12  Sign up for an audition timeslot \nNext to Normal\,  The Wolves\,  and Once \nSubmit for sides at thegreenhousecabaret.com/auditions \n 
URL:https://highdesertbits.com/event/greenhouse-cabaret-offers-2025-season-auditions/
LOCATION:Greenhouse Cabaret\, 1017 NE 2nd St.\, Bend\, OR\, 97701\, United States
END:VEVENT
BEGIN:VEVENT
DTSTART;TZID=UTC:20241110T190000
DTEND;TZID=UTC:20241110T210000
DTSTAMP:20260425T112646
CREATED:20240928T135957Z
LAST-MODIFIED:20240928T135957Z
UID:419-1731265200-1731272400@highdesertbits.com
SUMMARY:Greenhouse Cabaret presents SWEENEY TODD
DESCRIPTION:Greenhouse Cabaret presents SWEENEY TODD \nMusic and lyrics by Stephen Sondheim \nBook by Hugh Wheeler \n  \nOct. 25-Nov. 23
URL:https://highdesertbits.com/event/greenhouse-cabaret-presents-sweeney-todd-10/
LOCATION:Greenhouse Cabaret\, 1017 NE 2nd St.\, Bend\, OR\, 97701\, United States
END:VEVENT
BEGIN:VEVENT
DTSTART;TZID=UTC:20241110T140000
DTEND;TZID=UTC:20241110T160000
DTSTAMP:20260425T112646
CREATED:20240928T235619Z
LAST-MODIFIED:20240928T235619Z
UID:528-1731247200-1731254400@highdesertbits.com
SUMMARY:TMP presents CABARET at the Tower Theatre
DESCRIPTION:Thoroughly Modern Productions  presents CABARET at the historic Tower Theatre \nCABARETwith music by John Kander\, lyrics by Fred Ebb\, and a book by Joe Masteroff. \n  \nNov. 8-10\, Nov. 14-16
URL:https://highdesertbits.com/event/tmp-presents-cabaret-at-the-tower-theatre-3/
LOCATION:Tower Theatre\, 835 NW Wall St\, Bend\, OR\, 97703\, United States
END:VEVENT
BEGIN:VEVENT
DTSTART;TZID=UTC:20241109T193000
DTEND;TZID=UTC:20241109T213000
DTSTAMP:20260425T112646
CREATED:20240928T235443Z
LAST-MODIFIED:20240928T235443Z
UID:526-1731180600-1731187800@highdesertbits.com
SUMMARY:TMP presents CABARET at the Tower Theatre
DESCRIPTION:Thoroughly Modern Productions  presents CABARET at the historic Tower Theatre \nCABARETwith music by John Kander\, lyrics by Fred Ebb\, and a book by Joe Masteroff. \n  \nNov. 8-10\, Nov. 14-16
URL:https://highdesertbits.com/event/tmp-presents-cabaret-at-the-tower-theatre-2/
LOCATION:Tower Theatre\, 835 NW Wall St\, Bend\, OR\, 97703\, United States
END:VEVENT
END:VCALENDAR