BEGIN:VCALENDAR
VERSION:2.0
PRODID:-//High Desert B.I.T.S. - ECPv6.15.20//NONSGML v1.0//EN
CALSCALE:GREGORIAN
METHOD:PUBLISH
X-WR-CALNAME:High Desert B.I.T.S.
X-ORIGINAL-URL:https://highdesertbits.com
X-WR-CALDESC:Events for High Desert B.I.T.S.
REFRESH-INTERVAL;VALUE=DURATION:PT1H
X-Robots-Tag:noindex
X-PUBLISHED-TTL:PT1H
BEGIN:VTIMEZONE
TZID:UTC
BEGIN:STANDARD
TZOFFSETFROM:+0000
TZOFFSETTO:+0000
TZNAME:UTC
DTSTART:20240101T000000
END:STANDARD
END:VTIMEZONE
BEGIN:VEVENT
DTSTART;TZID=UTC:20251116T140000
DTEND;TZID=UTC:20251116T160000
DTSTAMP:20260425T153242
CREATED:20250919T220435Z
LAST-MODIFIED:20250919T220435Z
UID:2103-1763301600-1763308800@highdesertbits.com
SUMMARY:Mountain View HS presents CLUE
DESCRIPTION:Mountain View HS presents CLUE \nby Jonathan Lynn\, Sandy Rustin\, Hunter Foster\, Eric Price and Michael Holland \n  \nSun.\, 11/16@2pm \nThu.\, 11/20@7pm \nFri.\, 11/21@7pm \nSat.\, 11/22@7pm
URL:https://highdesertbits.com/event/mountain-view-hs-presents-clue-3/
LOCATION:Mountain View High School\, 2755 NE 27th St\, Bend\, OR\, 97701
END:VEVENT
BEGIN:VEVENT
DTSTART;TZID=UTC:20251116T140000
DTEND;TZID=UTC:20251116T160000
DTSTAMP:20260425T153242
CREATED:20251105T165801Z
LAST-MODIFIED:20251105T165801Z
UID:2252-1763301600-1763308800@highdesertbits.com
SUMMARY:Ochoco Players presents A MURDERED MYSTERY & MURDER BY THE BOOK
DESCRIPTION:Ochoco Players presents A MURDERED MYSTERY & MURDER BY THE BOOK \nSun.\, 11/16 @ 2pm \nAt the Bowman Museum \nFree admission/ Donations appreciated
URL:https://highdesertbits.com/event/ochoco-players-presents-a-murdered-mystery-murder-by-the-book-3/
LOCATION:Bowman Historical Museum\, 246 N Main Street\, Prineville\, OR\, 97754\, United States
END:VEVENT
BEGIN:VEVENT
DTSTART;TZID=UTC:20251116T150000
DTEND;TZID=UTC:20251116T170000
DTSTAMP:20260425T153242
CREATED:20251110T140052Z
LAST-MODIFIED:20251110T140052Z
UID:2280-1763305200-1763312400@highdesertbits.com
SUMMARY:Ovation Performing Arts presents LITTLE MERMAID
DESCRIPTION:Ovation Performing Arts presents LITTLE MERMAID \nMusic by Alan Menken\, lyrics by Howard Ashman and Glenn Slater\, book by Doug Wright \nSun.\, 11/16 @ 3pm \nAt Redmond High School
URL:https://highdesertbits.com/event/ovation-performing-arts-presents-little-mermaid-3/
LOCATION:Redmond High School\, 675 SW Rimrock Way\, Redmond\, OR\, 97756
ORGANIZER;CN="Ovation Performing Arts":MAILTO:theatre@ovationpa.com
END:VEVENT
BEGIN:VEVENT
DTSTART;TZID=UTC:20251120T190000
DTEND;TZID=UTC:20251120T210000
DTSTAMP:20260425T153242
CREATED:20250919T220643Z
LAST-MODIFIED:20250919T220643Z
UID:2105-1763665200-1763672400@highdesertbits.com
SUMMARY:Mountain View HS presents CLUE
DESCRIPTION:Mountain View HS presents CLUE \nby Jonathan Lynn\, Sandy Rustin\, Hunter Foster\, Eric Price and Michael Holland \n  \nThu.\, 11/20@7pm \nFri.\, 11/21@7pm \nSat.\, 11/22@7pm
URL:https://highdesertbits.com/event/mountain-view-hs-presents-clue-4/
LOCATION:Mountain View High School\, 2755 NE 27th St\, Bend\, OR\, 97701
END:VEVENT
BEGIN:VEVENT
DTSTART;TZID=UTC:20251121T190000
DTEND;TZID=UTC:20251121T210000
DTSTAMP:20260425T153242
CREATED:20250919T220940Z
LAST-MODIFIED:20250919T220940Z
UID:2107-1763751600-1763758800@highdesertbits.com
SUMMARY:Mountain View HS presents CLUE
DESCRIPTION:Mountain View HS presents CLUE \nby Jonathan Lynn\, Sandy Rustin\, Hunter Foster\, Eric Price and Michael Holland \n  \nFri.\, 11/21@7pm \nSat.\, 11/22@7pm
URL:https://highdesertbits.com/event/mountain-view-hs-presents-clue-5/
LOCATION:Mountain View High School\, 2755 NE 27th St\, Bend\, OR\, 97701
END:VEVENT
BEGIN:VEVENT
DTSTART;TZID=UTC:20251128T193000
DTEND;TZID=UTC:20251128T213000
DTSTAMP:20260425T153242
CREATED:20251124T141613Z
LAST-MODIFIED:20251124T141613Z
UID:2299-1764358200-1764365400@highdesertbits.com
SUMMARY:Cascade Theatrical present EBENEZER SCROOGE'S BIG BEND CHRISTMAS SHOW
DESCRIPTION:Cascade Theatrical present EBENEZER SCROOGE’S BIG BEND CHRISTMAS SHOW \nby Gordon Greenberg and Steven Rosen \nFri.\, 11/28 @ 7:30pm \nSat.\, 11/29 @ 2pm and 7:30pm \nSun.\, 11/30 @ 2pm \n  \nThu.\, 12/4 @ 7:30pm \nFri.\, 12/5 @ 7:30pm \nSat.\, 12/6 @ 2pm and 7:30pm \nSun.\, 12/7 @ 2pm \n  \nThu.\, 12/11 @ 7:30pm \nFri.\, 12/12 @ 7:30pm \nSat.\, 12/13 @ 2pm and 7:30pm \nSun.\, 12/14 @ 2pm \n  \nSat.\, 12/20 @ 2pm \nSun.\, 12/21 @ 2pm
URL:https://highdesertbits.com/event/cascade-theatrical-present-ebenezer-scrooges-big-bend-christmas-show-14/
LOCATION:CTC Cascade Theatrical Company\, 148 NW Greenwood Ave\, Bend\, OR\, 97703
ORGANIZER;CN="CTC Cascade Theatrical Company":MAILTO:ctcinfo@cascadestheatrical.org
END:VEVENT
BEGIN:VEVENT
DTSTART;TZID=UTC:20251129T140000
DTEND;TZID=UTC:20251129T160000
DTSTAMP:20260425T153242
CREATED:20251124T141743Z
LAST-MODIFIED:20251124T141743Z
UID:2301-1764424800-1764432000@highdesertbits.com
SUMMARY:Cascade Theatrical present EBENEZER SCROOGE'S BIG BEND CHRISTMAS SHOW
DESCRIPTION:Cascade Theatrical present EBENEZER SCROOGE’S BIG BEND CHRISTMAS SHOW \nby Gordon Greenberg and Steven Rosen \nSat.\, 11/29 @ 2pm and 7:30pm \nSun.\, 11/30 @ 2pm \n  \nThu.\, 12/4 @ 7:30pm \nFri.\, 12/5 @ 7:30pm \nSat.\, 12/6 @ 2pm and 7:30pm \nSun.\, 12/7 @ 2pm \n  \nThu.\, 12/11 @ 7:30pm \nFri.\, 12/12 @ 7:30pm \nSat.\, 12/13 @ 2pm and 7:30pm \nSun.\, 12/14 @ 2pm \n  \nSat.\, 12/20 @ 2pm \nSun.\, 12/21 @ 2pm
URL:https://highdesertbits.com/event/cascade-theatrical-present-ebenezer-scrooges-big-bend-christmas-show-15/
LOCATION:CTC Cascade Theatrical Company\, 148 NW Greenwood Ave\, Bend\, OR\, 97703
ORGANIZER;CN="CTC Cascade Theatrical Company":MAILTO:ctcinfo@cascadestheatrical.org
END:VEVENT
BEGIN:VEVENT
DTSTART;TZID=UTC:20251129T193000
DTEND;TZID=UTC:20251129T213000
DTSTAMP:20260425T153242
CREATED:20251124T141925Z
LAST-MODIFIED:20251124T141925Z
UID:2303-1764444600-1764451800@highdesertbits.com
SUMMARY:Cascade Theatrical present EBENEZER SCROOGE'S BIG BEND CHRISTMAS SHOW
DESCRIPTION:Cascade Theatrical present EBENEZER SCROOGE’S BIG BEND CHRISTMAS SHOW \nby Gordon Greenberg and Steven Rosen \nSat.\, 11/29 @ 7:30pm \nSun.\, 11/30 @ 2pm \n  \nThu.\, 12/4 @ 7:30pm \nFri.\, 12/5 @ 7:30pm \nSat.\, 12/6 @ 2pm and 7:30pm \nSun.\, 12/7 @ 2pm \n  \nThu.\, 12/11 @ 7:30pm \nFri.\, 12/12 @ 7:30pm \nSat.\, 12/13 @ 2pm and 7:30pm \nSun.\, 12/14 @ 2pm \n  \nSat.\, 12/20 @ 2pm \nSun.\, 12/21 @ 2pm
URL:https://highdesertbits.com/event/cascade-theatrical-present-ebenezer-scrooges-big-bend-christmas-show-16/
LOCATION:CTC Cascade Theatrical Company\, 148 NW Greenwood Ave\, Bend\, OR\, 97703
ORGANIZER;CN="CTC Cascade Theatrical Company":MAILTO:ctcinfo@cascadestheatrical.org
END:VEVENT
BEGIN:VEVENT
DTSTART;TZID=UTC:20251130T140000
DTEND;TZID=UTC:20251130T160000
DTSTAMP:20260425T153242
CREATED:20251124T142050Z
LAST-MODIFIED:20251124T142050Z
UID:2305-1764511200-1764518400@highdesertbits.com
SUMMARY:Cascade Theatrical present EBENEZER SCROOGE'S BIG BEND CHRISTMAS SHOW
DESCRIPTION:Cascade Theatrical present EBENEZER SCROOGE’S BIG BEND CHRISTMAS SHOW \nby Gordon Greenberg and Steven Rosen \nSun.\, 11/30 @ 2pm \n  \nThu.\, 12/4 @ 7:30pm \nFri.\, 12/5 @ 7:30pm \nSat.\, 12/6 @ 2pm and 7:30pm \nSun.\, 12/7 @ 2pm \n  \nThu.\, 12/11 @ 7:30pm \nFri.\, 12/12 @ 7:30pm \nSat.\, 12/13 @ 2pm and 7:30pm \nSun.\, 12/14 @ 2pm \n  \nSat.\, 12/20 @ 2pm \nSun.\, 12/21 @ 2pm
URL:https://highdesertbits.com/event/cascade-theatrical-present-ebenezer-scrooges-big-bend-christmas-show-17/
LOCATION:CTC Cascade Theatrical Company\, 148 NW Greenwood Ave\, Bend\, OR\, 97703
ORGANIZER;CN="CTC Cascade Theatrical Company":MAILTO:ctcinfo@cascadestheatrical.org
END:VEVENT
BEGIN:VEVENT
DTSTART;TZID=UTC:20251201T180000
DTEND;TZID=UTC:20251201T210000
DTSTAMP:20260425T153242
CREATED:20250825T140037Z
LAST-MODIFIED:20250825T140101Z
UID:1744-1764612000-1764622800@highdesertbits.com
SUMMARY:AUDITIONS for CTC's BOEING\, BOEING
DESCRIPTION:AUDITIONS for CTC’s BOEING\, BOEING \nMon.\, 12/1 6-9pm \nTue.\, 12/2 6-9pm Call backs \nAt Deschutes Children’s Foundation
URL:https://highdesertbits.com/event/auditons-for-ctcs-boeing-boeing/
LOCATION:Deschutes Children’s Foundation\, 2125 NE Daggett\, Bend\, OR\, 97701
ORGANIZER;CN="CTC Cascade Theatrical Company":MAILTO:ctcinfo@cascadestheatrical.org
END:VEVENT
BEGIN:VEVENT
DTSTART;TZID=UTC:20251202T180000
DTEND;TZID=UTC:20251202T210000
DTSTAMP:20260425T153242
CREATED:20250825T140212Z
LAST-MODIFIED:20250825T140212Z
UID:1747-1764698400-1764709200@highdesertbits.com
SUMMARY:AUDITIONS for CTC's BOEING\, BOEING
DESCRIPTION:AUDITIONS for CTC’s BOEING\, BOEING \nMon.\, 12/1 6-9pm \nTue.\, 12/2 6-9pm Call backs \nAt Deschutes Children’s Foundation
URL:https://highdesertbits.com/event/auditions-for-ctcs-boeing-boeing/
LOCATION:Deschutes Children’s Foundation\, 2125 NE Daggett\, Bend\, OR\, 97701
ORGANIZER;CN="CTC Cascade Theatrical Company":MAILTO:ctcinfo@cascadestheatrical.org
END:VEVENT
BEGIN:VEVENT
DTSTART;TZID=UTC:20251204T190000
DTEND;TZID=UTC:20251204T210000
DTSTAMP:20260425T153242
CREATED:20251105T174255Z
LAST-MODIFIED:20251105T174255Z
UID:2260-1764874800-1764882000@highdesertbits.com
SUMMARY:Meadow Sky presents LITTLE WOMEN
DESCRIPTION:Meadow Sky presents LITTLE WOMEN \nAdapted by Marisha Chamberlain\, from the novel by Louisa May Alcott \nThu.\, Dec 4 @ 7pm \nFri.\, Dec 5 @ 7pm \nSat.\, Dec 6 @ 2pm and 7pm \nThu.\, Dec 11 @ 7pm \nFri.\, Dec 12 @ 7pm \nSat.\,Dec 13 @  2pm and 7pm \nAt OPEN SPACE \n 
URL:https://highdesertbits.com/event/meadow-sky-presents-little-women/
LOCATION:Open Space Event Studio\, 220 NE Lafayette Ave\, Bend\, OR\, 97701
END:VEVENT
BEGIN:VEVENT
DTSTART;TZID=UTC:20251204T190000
DTEND;TZID=UTC:20251204T210000
DTSTAMP:20260425T153242
CREATED:20251118T152932Z
LAST-MODIFIED:20251118T153610Z
UID:2282-1764874800-1764882000@highdesertbits.com
SUMMARY:Caldera High School presents FROZEN\, JR
DESCRIPTION:Caldera High School presents FROZEN\, JR \nMusic and lyrics by Kristin Anderson-Lopez and Robert Lopez \nBook by Jennifer Lee. \nThu.\, Dec. 4 @ 7pm \nFri.\, Dec. 5 @ 7pm \nSat.\, Dec. 6 @ 2pm and 7pm \nSun.\, Dec. 7 @ 2pm \nAt Caldera High School
URL:https://highdesertbits.com/event/caldera-high-school-presents-frozen-jr/
LOCATION:Caldera High School\, 60925 SE 15th St\,\, Bend\, OR\, 97702\, United States
END:VEVENT
BEGIN:VEVENT
DTSTART;TZID=UTC:20251204T193000
DTEND;TZID=UTC:20251204T213000
DTSTAMP:20260425T153243
CREATED:20250907T165522Z
LAST-MODIFIED:20251124T142235Z
UID:1940-1764876600-1764883800@highdesertbits.com
SUMMARY:Cascade Theatrical present EBENEZER SCROOGE'S BIG BEND CHRISTMAS SHOW
DESCRIPTION:Cascade Theatrical present EBENEZER SCROOGE’S BIG BEND CHRISTMAS SHOW \nby Gordon Greenberg and Steven Rosen \nThu.\, 12/4 @ 7:30pm \nFri.\, 12/5 @ 7:30pm \nSat.\, 12/6 @ 2pm and 7:30pm \nSun.\, 12/7 @ 2pm \n  \nThu.\, 12/11 @ 7:30pm \nFri.\, 12/12 @ 7:30pm \nSat.\, 12/13 @ 2pm and 7:30pm \nSun.\, 12/14 @ 2pm \n  \nSat.\, 12/20 @ 2pm \nSun.\, 12/21 @ 2pm
URL:https://highdesertbits.com/event/cascade-theatrical-present-ebenezer-scrooges-big-bend-christmas-show/
LOCATION:CTC Cascade Theatrical Company\, 148 NW Greenwood Ave\, Bend\, OR\, 97703
ORGANIZER;CN="CTC Cascade Theatrical Company":MAILTO:ctcinfo@cascadestheatrical.org
END:VEVENT
BEGIN:VEVENT
DTSTART;TZID=UTC:20251205T190000
DTEND;TZID=UTC:20251205T210000
DTSTAMP:20260425T153243
CREATED:20250620T130420Z
LAST-MODIFIED:20250620T130420Z
UID:1619-1764961200-1764968400@highdesertbits.com
SUMMARY:Summit High School presents HEADS OVER HEELS: High School Edition
DESCRIPTION:Summit High School presents HEADS OVER HEELS: High School Edition \nSongs by the Go-Go’s\, based on ‘The Arcadia’ by Sir Philip Sidney\, Conceived and original book by Jeff Whitty\, adapted by James Magruder \nFri.\, Dec. 5 @ 7pm \nSat.\, Dec. 6 @ 7pm \nMon.\, Dec. 8 @ 2pm \nThu.\, Dec. 11 @ 7pm \nFri.\, Dec. 12 @ 7pm \nSat.\, Dec. 13. @ 7pm
URL:https://highdesertbits.com/event/summit-high-school-presents-heads-over-heels-high-school-edition/
LOCATION:Summit High School\, 2855 NW Clearwater Dr\,\, Bend\, OR\, 97703\, United States
END:VEVENT
BEGIN:VEVENT
DTSTART;TZID=UTC:20251205T190000
DTEND;TZID=UTC:20251205T210000
DTSTAMP:20260425T153243
CREATED:20251105T174430Z
LAST-MODIFIED:20251105T174430Z
UID:2262-1764961200-1764968400@highdesertbits.com
SUMMARY:Meadow Sky presents LITTLE WOMEN
DESCRIPTION:Meadow Sky presents LITTLE WOMEN \nAdapted by Marisha Chamberlain\, from the novel by Louisa May Alcott \nFri.\, Dec 5 @ 7pm \nSat.\, Dec 6 @ 2pm and 7pm \nThu.\, Dec 11 @ 7pm \nFri.\, Dec 12 @ 7pm \nSat.\,Dec 13 @  2pm and 7pm \nAt OPEN SPACE
URL:https://highdesertbits.com/event/meadow-sky-presents-little-women-2/
LOCATION:Open Space Event Studio\, 220 NE Lafayette Ave\, Bend\, OR\, 97701
END:VEVENT
BEGIN:VEVENT
DTSTART;TZID=UTC:20251205T190000
DTEND;TZID=UTC:20251205T210000
DTSTAMP:20260425T153243
CREATED:20251118T153053Z
LAST-MODIFIED:20251118T153636Z
UID:2284-1764961200-1764968400@highdesertbits.com
SUMMARY:Caldera High School presents FROZEN\, JR
DESCRIPTION:Caldera High School presents FROZEN\, JR \nMusic and lyrics by Kristin Anderson-Lopez and Robert Lopez \nBook by Jennifer Lee. \nFri.\, Dec. 5 @ 7pm \nSat.\, Dec. 6 @ 2pm and 7pm \nSun.\, Dec. 7 @ 2pm \nAt Caldera High School
URL:https://highdesertbits.com/event/caldera-high-school-presents-frozen-jr-2/
LOCATION:Caldera High School\, 60925 SE 15th St\,\, Bend\, OR\, 97702\, United States
END:VEVENT
BEGIN:VEVENT
DTSTART;TZID=UTC:20251205T193000
DTEND;TZID=UTC:20251205T213000
DTSTAMP:20260425T153243
CREATED:20250907T165646Z
LAST-MODIFIED:20251124T142429Z
UID:1942-1764963000-1764970200@highdesertbits.com
SUMMARY:Cascade Theatrical present EBENEZER SCROOGE'S BIG BEND CHRISTMAS SHOW
DESCRIPTION:Cascade Theatrical present EBENEZER SCROOGE’S BIG BEND CHRISTMAS SHOW \nby Gordon Greenberg and Steven Rosen \nFri.\, 12/5 @ 7:30pm \nSat.\, 12/6 @ 2pm and 7:30pm \nSun.\, 12/7 @ 2pm \n  \nThu.\, 12/11 @ 7:30pm \nFri.\, 12/12 @ 7:30pm \nSat.\, 12/13 @ 2pm and 7:30pm \nSun.\, 12/14 @ 2pm \n  \nSat.\, 12/20 @ 2pm \nSun.\, 12/21 @ 2pm \n 
URL:https://highdesertbits.com/event/cascade-theatrical-present-ebenezer-scrooges-big-bend-christmas-show-2/
LOCATION:CTC Cascade Theatrical Company\, 148 NW Greenwood Ave\, Bend\, OR\, 97703
ORGANIZER;CN="CTC Cascade Theatrical Company":MAILTO:ctcinfo@cascadestheatrical.org
END:VEVENT
BEGIN:VEVENT
DTSTART;TZID=UTC:20251206T140000
DTEND;TZID=UTC:20251206T160000
DTSTAMP:20260425T153243
CREATED:20251105T174551Z
LAST-MODIFIED:20251105T174551Z
UID:2264-1765029600-1765036800@highdesertbits.com
SUMMARY:Meadow Sky presents LITTLE WOMEN
DESCRIPTION:Meadow Sky presents LITTLE WOMEN \nAdapted by Marisha Chamberlain\, from the novel by Louisa May Alcott \nSat.\, Dec 6 @ 2pm and 7pm \nThu.\, Dec 11 @ 7pm \nFri.\, Dec 12 @ 7pm \nSat.\,Dec 13 @  2pm and 7pm \nAt OPEN SPACE
URL:https://highdesertbits.com/event/meadow-sky-presents-little-women-3/
LOCATION:Open Space Event Studio\, 220 NE Lafayette Ave\, Bend\, OR\, 97701
END:VEVENT
BEGIN:VEVENT
DTSTART;TZID=UTC:20251206T140000
DTEND;TZID=UTC:20251206T160000
DTSTAMP:20260425T153243
CREATED:20251118T153159Z
LAST-MODIFIED:20251118T153710Z
UID:2286-1765029600-1765036800@highdesertbits.com
SUMMARY:Caldera High School presents FROZEN\, JR
DESCRIPTION:Caldera High School presents FROZEN\, JR \nMusic and lyrics by Kristin Anderson-Lopez and Robert Lopez \nBook by Jennifer Lee. \nSat.\, Dec. 6 @ 2pm and 7pm \nSun.\, Dec. 7 @ 2pm \nAt Caldera High School
URL:https://highdesertbits.com/event/caldera-high-school-presents-frozen-jr-3/
LOCATION:Caldera High School\, 60925 SE 15th St\,\, Bend\, OR\, 97702\, United States
END:VEVENT
BEGIN:VEVENT
DTSTART;TZID=UTC:20251206T140000
DTEND;TZID=UTC:20251206T160000
DTSTAMP:20260425T153243
CREATED:20251124T142617Z
LAST-MODIFIED:20251124T142617Z
UID:2309-1765029600-1765036800@highdesertbits.com
SUMMARY:Cascade Theatrical present EBENEZER SCROOGE'S BIG BEND CHRISTMAS SHOW
DESCRIPTION:Cascade Theatrical present EBENEZER SCROOGE’S BIG BEND CHRISTMAS SHOW \nby Gordon Greenberg and Steven Rosen \nSat.\, 12/6 @ 2pm and 7:30pm \nSun.\, 12/7 @ 2pm \n  \nThu.\, 12/11 @ 7:30pm \nFri.\, 12/12 @ 7:30pm \nSat.\, 12/13 @ 2pm and 7:30pm \nSun.\, 12/14 @ 2pm \n  \nSat.\, 12/20 @ 2pm \nSun.\, 12/21 @ 2pm
URL:https://highdesertbits.com/event/cascade-theatrical-present-ebenezer-scrooges-big-bend-christmas-show-18/
LOCATION:CTC Cascade Theatrical Company\, 148 NW Greenwood Ave\, Bend\, OR\, 97703
ORGANIZER;CN="CTC Cascade Theatrical Company":MAILTO:ctcinfo@cascadestheatrical.org
END:VEVENT
BEGIN:VEVENT
DTSTART;TZID=UTC:20251206T190000
DTEND;TZID=UTC:20251206T210000
DTSTAMP:20260425T153243
CREATED:20250620T130534Z
LAST-MODIFIED:20250620T130534Z
UID:1621-1765047600-1765054800@highdesertbits.com
SUMMARY:Summit High School presents HEADS OVER HEELS: High School Edition
DESCRIPTION:Summit High School presents HEADS OVER HEELS: High School Edition \nSongs by the Go-Go’s\, based on ‘The Arcadia’ by Sir Philip Sidney\, Conceived and original book by Jeff Whitty\, adapted by James Magruder \nFri.\, Dec. 5 @ 7pm \nSat.\, Dec. 6 @ 7pm \nMon.\, Dec. 8 @ 2pm \nThu.\, Dec. 11 @ 7pm \nFri.\, Dec. 12 @ 7pm \nSat.\, Dec. 13. @ 7pm
URL:https://highdesertbits.com/event/summit-high-school-presents-heads-over-heels-high-school-edition-2/
LOCATION:Summit High School\, 2855 NW Clearwater Dr\,\, Bend\, OR\, 97703\, United States
END:VEVENT
BEGIN:VEVENT
DTSTART;TZID=UTC:20251206T190000
DTEND;TZID=UTC:20251206T210000
DTSTAMP:20260425T153243
CREATED:20251105T175123Z
LAST-MODIFIED:20251105T175123Z
UID:2266-1765047600-1765054800@highdesertbits.com
SUMMARY:Meadow Sky presents LITTLE WOMEN
DESCRIPTION:Meadow Sky presents LITTLE WOMEN \nAdapted by Marisha Chamberlain\, from the novel by Louisa May Alcott \nSat.\, Dec 6 @  7pm \nThu.\, Dec 11 @ 7pm \nFri.\, Dec 12 @ 7pm \nSat.\,Dec 13 @  2pm and 7pm \nAt OPEN SPACE
URL:https://highdesertbits.com/event/meadow-sky-presents-little-women-4/
LOCATION:Open Space Event Studio\, 220 NE Lafayette Ave\, Bend\, OR\, 97701
END:VEVENT
BEGIN:VEVENT
DTSTART;TZID=UTC:20251206T190000
DTEND;TZID=UTC:20251206T210000
DTSTAMP:20260425T153243
CREATED:20251118T153336Z
LAST-MODIFIED:20251118T153736Z
UID:2288-1765047600-1765054800@highdesertbits.com
SUMMARY:Caldera High School presents FROZEN\, JR
DESCRIPTION:Caldera High School presents FROZEN\, JR \nMusic and lyrics by Kristin Anderson-Lopez and Robert Lopez \nBook by Jennifer Lee. \nSat.\, Dec. 6 @  7pm \nSun.\, Dec. 7 @ 2pm \nAt Caldera High School
URL:https://highdesertbits.com/event/caldera-high-school-presents-frozen-jr-4/
LOCATION:Caldera High School\, 60925 SE 15th St\,\, Bend\, OR\, 97702\, United States
END:VEVENT
BEGIN:VEVENT
DTSTART;TZID=UTC:20251206T193000
DTEND;TZID=UTC:20251206T213000
DTSTAMP:20260425T153243
CREATED:20250907T165806Z
LAST-MODIFIED:20251124T142807Z
UID:1944-1765049400-1765056600@highdesertbits.com
SUMMARY:Cascade Theatrical present EBENEZER SCROOGE'S BIG BEND CHRISTMAS SHOW
DESCRIPTION:Cascade Theatrical present EBENEZER SCROOGE’S BIG BEND CHRISTMAS SHOW \nby Gordon Greenberg and Steven Rosen \nSat.\, 12/6 @ 7:30pm \nSun.\, 12/7 @ 2pm \n  \nThu.\, 12/11 @ 7:30pm \nFri.\, 12/12 @ 7:30pm \nSat.\, 12/13 @ 2pm and 7:30pm \nSun.\, 12/14 @ 2pm \n  \nSat.\, 12/20 @ 2pm \nSun.\, 12/21 @ 2pm
URL:https://highdesertbits.com/event/cascade-theatrical-present-ebenezer-scrooges-big-bend-christmas-show-3/
LOCATION:CTC Cascade Theatrical Company\, 148 NW Greenwood Ave\, Bend\, OR\, 97703
ORGANIZER;CN="CTC Cascade Theatrical Company":MAILTO:ctcinfo@cascadestheatrical.org
END:VEVENT
BEGIN:VEVENT
DTSTART;TZID=UTC:20251207T140000
DTEND;TZID=UTC:20251207T160000
DTSTAMP:20260425T153243
CREATED:20250907T165922Z
LAST-MODIFIED:20251124T142918Z
UID:1946-1765116000-1765123200@highdesertbits.com
SUMMARY:Cascade Theatrical present EBENEZER SCROOGE'S BIG BEND CHRISTMAS SHOW
DESCRIPTION:Cascade Theatrical present EBENEZER SCROOGE’S BIG BEND CHRISTMAS SHOW \nby Gordon Greenberg and Steven Rosen \nSun.\, 12/7 @ 2pm \n  \nThu.\, 12/11 @ 7:30pm \nFri.\, 12/12 @ 7:30pm \nSat.\, 12/13 @ 2pm and 7:30pm \nSun.\, 12/14 @ 2pm \n  \nSat.\, 12/20 @ 2pm \nSun.\, 12/21 @ 2pm
URL:https://highdesertbits.com/event/cascade-theatrical-present-ebenezer-scrooges-big-bend-christmas-show-4/
LOCATION:CTC Cascade Theatrical Company\, 148 NW Greenwood Ave\, Bend\, OR\, 97703
ORGANIZER;CN="CTC Cascade Theatrical Company":MAILTO:ctcinfo@cascadestheatrical.org
END:VEVENT
BEGIN:VEVENT
DTSTART;TZID=UTC:20251207T140000
DTEND;TZID=UTC:20251207T160000
DTSTAMP:20260425T153243
CREATED:20251118T153445Z
LAST-MODIFIED:20251118T153503Z
UID:2290-1765116000-1765123200@highdesertbits.com
SUMMARY:Caldera High School presents FROZEN\, JR
DESCRIPTION:Caldera High School presents FROZEN\, JR \nMusic and lyrics by Kristin Anderson-Lopez and Robert Lopez \nBook by Jennifer Lee. \nSun.\, Dec. 7 @ 2pm \nAt Caldera High School
URL:https://highdesertbits.com/event/caldera-high-school-presents-frozen-jr-5/
LOCATION:Caldera High School\, 60925 SE 15th St\,\, Bend\, OR\, 97702\, United States
END:VEVENT
BEGIN:VEVENT
DTSTART;TZID=UTC:20251207T140000
DTEND;TZID=UTC:20251207T170000
DTSTAMP:20260425T153243
CREATED:20250620T130654Z
LAST-MODIFIED:20251201T060722Z
UID:1623-1765116000-1765126800@highdesertbits.com
SUMMARY:Summit High School presents HEADS OVER HEELS: High School Edition
DESCRIPTION:Summit High School presents HEADS OVER HEELS: High School Edition \nSongs by the Go-Go’s\, based on ‘The Arcadia’ by Sir Philip Sidney\, Conceived and original book by Jeff Whitty\, adapted by James Magruder \nFri.\, Dec. 5 @ 7pm \nSat.\, Dec. 6 @ 7pm \nSun.\, Dec. 7@ 2pm \nThu.\, Dec. 11 @ 7pm \nFri.\, Dec. 12 @ 7pm \nSat.\, Dec. 13. @ 7pm
URL:https://highdesertbits.com/event/summit-high-school-presents-heads-over-heels-high-school-edition-3/
END:VEVENT
BEGIN:VEVENT
DTSTART;TZID=UTC:20251211T190000
DTEND;TZID=UTC:20251211T210000
DTSTAMP:20260425T153243
CREATED:20250620T130833Z
LAST-MODIFIED:20250620T132058Z
UID:1625-1765479600-1765486800@highdesertbits.com
SUMMARY:Summit High School presents HEADS OVER HEELS: High School Edition
DESCRIPTION:Summit High School presents HEADS OVER HEELS: High School Edition \nSongs by the Go-Go’s\, based on ‘The Arcadia’ by Sir Philip Sidney\, Conceived and original book by Jeff Whitty\, adapted by James Magruder \nFri.\, Dec. 5 @ 7pm \nSat.\, Dec. 6 @ 7pm \nMon.\, Dec. 8 @ 2pm \nThu.\, Dec. 11 @ 7pm \nFri.\, Dec. 12 @ 7pm \nSat.\, Dec. 13. @ 7pm
URL:https://highdesertbits.com/event/summit-high-school-presents-heads-over-heels-high-school-edition-4/
LOCATION:Summit High School\, 2855 NW Clearwater Dr\,\, Bend\, OR\, 97703\, United States
END:VEVENT
BEGIN:VEVENT
DTSTART;TZID=UTC:20251211T190000
DTEND;TZID=UTC:20251211T210000
DTSTAMP:20260425T153243
CREATED:20251105T170506Z
LAST-MODIFIED:20251105T170506Z
UID:2254-1765479600-1765486800@highdesertbits.com
SUMMARY:Redmond High School presents THE LION\, THE WITCH AND THE WARDROBE
DESCRIPTION:Redmond High School presents THE LION\, THE WITCH AND THE WARDROBE \nThu.\, Dec. 11 @ 7pm \nFri.\, Dec 12 @ 7pm \nSat.\, Dec 13 @ 2pm \nRedmond High School \n 
URL:https://highdesertbits.com/event/redmond-high-school-presents-the-lion-the-witch-and-the-wardrobe/
LOCATION:Redmond High School\, 675 SW Rimrock Way\, Redmond\, OR\, 97756
END:VEVENT
END:VCALENDAR