BEGIN:VCALENDAR
VERSION:2.0
PRODID:-//High Desert B.I.T.S. - ECPv6.15.20//NONSGML v1.0//EN
CALSCALE:GREGORIAN
METHOD:PUBLISH
X-WR-CALNAME:High Desert B.I.T.S.
X-ORIGINAL-URL:https://highdesertbits.com
X-WR-CALDESC:Events for High Desert B.I.T.S.
REFRESH-INTERVAL;VALUE=DURATION:PT1H
X-Robots-Tag:noindex
X-PUBLISHED-TTL:PT1H
BEGIN:VTIMEZONE
TZID:UTC
BEGIN:STANDARD
TZOFFSETFROM:+0000
TZOFFSETTO:+0000
TZNAME:UTC
DTSTART:20240101T000000
END:STANDARD
END:VTIMEZONE
BEGIN:VEVENT
DTSTART;TZID=UTC:20250406T140000
DTEND;TZID=UTC:20250406T160000
DTSTAMP:20260425T130408
CREATED:20250305T171149Z
LAST-MODIFIED:20250305T171149Z
UID:1298-1743948000-1743955200@highdesertbits.com
SUMMARY:CTC presents THE MOUSETRAP
DESCRIPTION:CTC presents THE MOUSETRAP \nby Agatha Christie \nFri.\, Mar 28 @ 7:30pm \nSat.\, Mar 29 @ 7:30pm \nSun.\, Mar 30 @ 2pm \nThu.\, Apr 3 @ 7:30pm \nFri.\, Apr 4 @  7:30pm \nSat.\, Apr 5 @ 7:30pm \nSun.\, Apr 6 @ 2pm \nThu.\, Apr 10 @ 7:30pm \nFri.\, Apr 11 @ 7:30pm \nSat.\, Apr 12 @ 7:30pm \nSun.\, Apr 13 @ 2pm
URL:https://highdesertbits.com/event/ctc-presents-the-mousetrap-8/
LOCATION:CTC Cascade Theatrical Company\, 148 NW Greenwood Ave\, Bend\, OR\, 97703
ORGANIZER;CN="CTC Cascade Theatrical Company":MAILTO:ctcinfo@cascadestheatrical.org
END:VEVENT
BEGIN:VEVENT
DTSTART;TZID=UTC:20250405T193000
DTEND;TZID=UTC:20250405T213000
DTSTAMP:20260425T130408
CREATED:20250305T171034Z
LAST-MODIFIED:20250305T171034Z
UID:1296-1743881400-1743888600@highdesertbits.com
SUMMARY:CTC presents THE MOUSETRAP
DESCRIPTION:CTC presents THE MOUSETRAP \nby Agatha Christie \nFri.\, Mar 28 @ 7:30pm \nSat.\, Mar 29 @ 7:30pm \nSun.\, Mar 30 @ 2pm \nThu.\, Apr 3 @ 7:30pm \nFri.\, Apr 4 @  7:30pm \nSat.\, Apr 5 @ 7:30pm \nSun.\, Apr 6 @ 2pm \nThu.\, Apr 10 @ 7:30pm \nFri.\, Apr 11 @ 7:30pm \nSat.\, Apr 12 @ 7:30pm \nSun.\, Apr 13 @ 2pm
URL:https://highdesertbits.com/event/ctc-presents-the-mousetrap-7/
LOCATION:CTC Cascade Theatrical Company\, 148 NW Greenwood Ave\, Bend\, OR\, 97703
ORGANIZER;CN="CTC Cascade Theatrical Company":MAILTO:ctcinfo@cascadestheatrical.org
END:VEVENT
BEGIN:VEVENT
DTSTART;TZID=UTC:20250405T193000
DTEND;TZID=UTC:20250405T213000
DTSTAMP:20260425T130408
CREATED:20250112T171836Z
LAST-MODIFIED:20250112T171836Z
UID:959-1743881400-1743888600@highdesertbits.com
SUMMARY:Greenhouse Cabaret presents NEXT TO NORMAL
DESCRIPTION:Greenhouse Cabaret presents NEXT TO NORMAL \nMusic by Tom Kitt\, lyrics and book by Brian Yorkey \n___                                                 Thu.\, 4/17 @ 7:30pm                  Thu.\, 5/1 @ 7:30pm \nFri.\, 4/4 @ 7:30pm                        Fri.\, 4/18 @ 7:30pm                     Fri.\, 5/2 @ 7:30pm \nSat.\, 4/5 @ 7:30pm                       Sat.\, 4/19 @ 7:30pm                    Sat.\, 5/3 @ 7:30pm \nSun.\, 4/6 @ 7:30pm                      Sun.\, 4/20 7:30pm \n  \nThu.\, 4/10 @ 7:30                        Thu.\, 4/24 @ 7:30pm \nFri.\, 4/11 @ 7:30pm                     Fri.\, 4/25 @ 7:30pm \nSat.\, 4/12 @ 7:30pm                    Sat.\, 4/26 @ 7:30pm \nSun.\, 4/13 @ 7:30pm                    Sun.\, 4/27 @ 7:30pm \nDirected by founder John Kish and Greenhouse returnee Josh Curtis (Proof)\, music directed by Natalie True (Sweeney Todd). \nAge recommendation: 14+ \nPlease note: This production contains some adult topics\, including depictions of various mental health conditions and disorders\, suicide\, themes of bereavement\, and strong language.
URL:https://highdesertbits.com/event/greenhouse-cabaret-presents-next-to-normal-2/
LOCATION:Greenhouse Cabaret\, 1017 NE 2nd St.\, Bend\, OR\, 97701\, United States
END:VEVENT
BEGIN:VEVENT
DTSTART;TZID=UTC:20250404T193000
DTEND;TZID=UTC:20250404T213000
DTSTAMP:20260425T130408
CREATED:20250305T170921Z
LAST-MODIFIED:20250305T170921Z
UID:1294-1743795000-1743802200@highdesertbits.com
SUMMARY:CTC presents THE MOUSETRAP
DESCRIPTION:CTC presents THE MOUSETRAP \nby Agatha Christie \nFri.\, Mar 28 @ 7:30pm \nSat.\, Mar 29 @ 7:30pm \nSun.\, Mar 30 @ 2pm \nThu.\, Apr 3 @ 7:30pm \nFri.\, Apr 4 @  7:30pm \nSat.\, Apr 5 @ 7:30pm \nSun.\, Apr 6 @ 2pm \nThu.\, Apr 10 @ 7:30pm \nFri.\, Apr 11 @ 7:30pm \nSat.\, Apr 12 @ 7:30pm \nSun.\, Apr 13 @ 2pm
URL:https://highdesertbits.com/event/ctc-presents-the-mousetrap-6/
LOCATION:CTC Cascade Theatrical Company\, 148 NW Greenwood Ave\, Bend\, OR\, 97703
ORGANIZER;CN="CTC Cascade Theatrical Company":MAILTO:ctcinfo@cascadestheatrical.org
END:VEVENT
BEGIN:VEVENT
DTSTART;TZID=UTC:20250404T193000
DTEND;TZID=UTC:20250404T213000
DTSTAMP:20260425T130408
CREATED:20250112T171600Z
LAST-MODIFIED:20250112T171600Z
UID:957-1743795000-1743802200@highdesertbits.com
SUMMARY:Greenhouse Cabaret presents NEXT TO NORMAL
DESCRIPTION:Greenhouse Cabaret presents NEXT TO NORMAL \nMusic by Tom Kitt\, lyrics and book by Brian Yorkey \n___                                                 Thu.\, 4/17 @ 7:30pm                  Thu.\, 5/1 @ 7:30pm \nFri.\, 4/4 @ 7:30pm                        Fri.\, 4/18 @ 7:30pm                     Fri.\, 5/2 @ 7:30pm \nSat.\, 4/5 @ 7:30pm                       Sat.\, 4/19 @ 7:30pm                    Sat.\, 5/3 @ 7:30pm \nSun.\, 4/6 @ 7:30pm                      Sun.\, 4/20 7:30pm \n  \nThu.\, 4/10 @ 7:30                        Thu.\, 4/24 @ 7:30pm \nFri.\, 4/11 @ 7:30pm                     Fri.\, 4/25 @ 7:30pm \nSat.\, 4/12 @ 7:30pm                    Sat.\, 4/26 @ 7:30pm \nSun.\, 4/13 @ 7:30pm                    Sun.\, 4/27 @ 7:30pm \nDirected by founder John Kish and Greenhouse returnee Josh Curtis (Proof)\, music directed by Natalie True (Sweeney Todd). \nAge recommendation: 14+ \nPlease note: This production contains some adult topics\, including depictions of various mental health conditions and disorders\, suicide\, themes of bereavement\, and strong language.
URL:https://highdesertbits.com/event/greenhouse-cabaret-presents-next-to-normal/
LOCATION:Greenhouse Cabaret\, 1017 NE 2nd St.\, Bend\, OR\, 97701\, United States
END:VEVENT
BEGIN:VEVENT
DTSTART;TZID=UTC:20250403T193000
DTEND;TZID=UTC:20250403T213000
DTSTAMP:20260425T130408
CREATED:20250305T170813Z
LAST-MODIFIED:20250305T170813Z
UID:1292-1743708600-1743715800@highdesertbits.com
SUMMARY:CTC presents THE MOUSETRAP
DESCRIPTION:CTC presents THE MOUSETRAP \nby Agatha Christie \nFri.\, Mar 28 @ 7:30pm \nSat.\, Mar 29 @ 7:30pm \nSun.\, Mar 30 @ 2pm \nThu.\, Apr 3 @ 7:30pm \nFri.\, Apr 4 @  7:30pm \nSat.\, Apr 5 @ 7:30pm \nSun.\, Apr 6 @ 2pm \nThu.\, Apr 10 @ 7:30pm \nFri.\, Apr 11 @ 7:30pm \nSat.\, Apr 12 @ 7:30pm \nSun.\, Apr 13 @ 2pm
URL:https://highdesertbits.com/event/ctc-presents-the-mousetrap-5/
LOCATION:CTC Cascade Theatrical Company\, 148 NW Greenwood Ave\, Bend\, OR\, 97703
ORGANIZER;CN="CTC Cascade Theatrical Company":MAILTO:ctcinfo@cascadestheatrical.org
END:VEVENT
BEGIN:VEVENT
DTSTART;TZID=UTC:20250330T150000
DTEND;TZID=UTC:20250330T170000
DTSTAMP:20260425T130408
CREATED:20250217T145339Z
LAST-MODIFIED:20250217T145339Z
UID:1244-1743346800-1743354000@highdesertbits.com
SUMMARY:Ovation PA presents YOU'RE A GOOD MAN\, CHARLIE BROWN
DESCRIPTION:Ovation PA presents YOU’RE A GOOD MAN\, CHARLIE BROWN \nBased on The Comic Strip Peanuts by Charles M. Schulz\, Book\, Music and Lyrics by Clark Gesner\, Additional Dialogue by Michael Mayer\, Additional Music and Lyrics by Andrew Lippa \nFri.\, March 28 @ 6:30pm \nSat.\, March 29 @ 6:30pm \nSun.\, March 30 @ 3pm \nAt Ridgeview High School
URL:https://highdesertbits.com/event/ovation-pa-presents-youre-a-good-man-charlie-brown-3/
LOCATION:Mt. View High School\, 2755 NE 27th St\,\, Bend\, OR\, 97701\, United States
ORGANIZER;CN="Ovation Performing Arts":MAILTO:theatre@ovationpa.com
END:VEVENT
BEGIN:VEVENT
DTSTART;TZID=UTC:20250330T140000
DTEND;TZID=UTC:20250330T160000
DTSTAMP:20260425T130408
CREATED:20250305T170449Z
LAST-MODIFIED:20250305T170449Z
UID:1288-1743343200-1743350400@highdesertbits.com
SUMMARY:CTC presents THE MOUSETRAP
DESCRIPTION:CTC presents THE MOUSETRAP \nby Agatha Christie \nFri.\, Mar 28 @ 7:30pm \nSat.\, Mar 29 @ 7:30pm \nSun.\, Mar 30 @ 2pm \nThu.\, Apr 3 @ 7:30pm \nFri.\, Apr 4 @  7:30pm \nSat.\, Apr 5 @ 7:30pm \nSun.\, Apr 6 @ 2pm \nThu.\, Apr 10 @ 7:30pm \nFri.\, Apr 11 @ 7:30pm \nSat.\, Apr 12 @ 7:30pm \nSun.\, Apr 13 @ 2pm
URL:https://highdesertbits.com/event/ctc-presents-the-mousetrap-3/
LOCATION:CTC Cascade Theatrical Company\, 148 NW Greenwood Ave\, Bend\, OR\, 97703
ORGANIZER;CN="CTC Cascade Theatrical Company":MAILTO:ctcinfo@cascadestheatrical.org
END:VEVENT
BEGIN:VEVENT
DTSTART;TZID=UTC:20250329T193000
DTEND;TZID=UTC:20250329T213000
DTSTAMP:20260425T130408
CREATED:20250305T170343Z
LAST-MODIFIED:20250305T170343Z
UID:1286-1743276600-1743283800@highdesertbits.com
SUMMARY:CTC presents THE MOUSETRAP
DESCRIPTION:CTC presents THE MOUSETRAP \nby Agatha Christie \nFri.\, Mar 28 @ 7:30pm \nSat.\, Mar 29 @ 7:30pm \nSun.\, Mar 30 @ 2pm \nThu.\, Apr 3 @ 7:30pm \nFri.\, Apr 4 @  7:30pm \nSat.\, Apr 5 @ 7:30pm \nSun.\, Apr 6 @ 2pm \nThu.\, Apr 10 @ 7:30pm \nFri.\, Apr 11 @ 7:30pm \nSat.\, Apr 12 @ 7:30pm \nSun.\, Apr 13 @ 2pm
URL:https://highdesertbits.com/event/ctc-presents-the-mousetrap-2/
LOCATION:CTC Cascade Theatrical Company\, 148 NW Greenwood Ave\, Bend\, OR\, 97703
ORGANIZER;CN="CTC Cascade Theatrical Company":MAILTO:ctcinfo@cascadestheatrical.org
END:VEVENT
BEGIN:VEVENT
DTSTART;TZID=UTC:20250329T183000
DTEND;TZID=UTC:20250329T203000
DTSTAMP:20260425T130408
CREATED:20250217T145205Z
LAST-MODIFIED:20250217T145604Z
UID:1241-1743273000-1743280200@highdesertbits.com
SUMMARY:Ovation PA presents YOU'RE A GOOD MAN\, CHARLIE BROWN
DESCRIPTION:Ovation PA presents YOU’RE A GOOD MAN\, CHARLIE BROWN \nBased on The Comic Strip Peanuts by Charles M. Schulz\, Book\, Music and Lyrics by Clark Gesner\, Additional Dialogue by Michael Mayer\, Additional Music and Lyrics by Andrew Lippa \nFri.\, March 28 @ 6:30pm \nSat.\, March 29 @ 6:30pm \nSun.\, March 30 @ 3pm \nAt Ridgeview High School
URL:https://highdesertbits.com/event/ovation-pa-presents-youre-a-good-man-charlie-brown-2/
LOCATION:Mt. View High School\, 2755 NE 27th St\,\, Bend\, OR\, 97701\, United States
ORGANIZER;CN="Ovation Performing Arts":MAILTO:theatre@ovationpa.com
END:VEVENT
BEGIN:VEVENT
DTSTART;TZID=UTC:20250328T193000
DTEND;TZID=UTC:20250328T213000
DTSTAMP:20260425T130408
CREATED:20250305T170218Z
LAST-MODIFIED:20250305T170218Z
UID:1284-1743190200-1743197400@highdesertbits.com
SUMMARY:CTC presents THE MOUSETRAP
DESCRIPTION:CTC presents THE MOUSETRAP \nby Agatha Christie \nFri.\, Mar 28 @ 7:30pm \nSat.\, Mar 29 @ 7:30pm \nSun.\, Mar 30 @ 2pm \nThu.\, Apr 3 @ 7:30pm \nFri.\, Apr 4 @  7:30pm \nSat.\, Apr 5 @ 7:30pm \nSun.\, Apr 6 @ 2pm \nThu.\, Apr 10 @ 7:30pm \nFri.\, Apr 11 @ 7:30pm \nSat.\, Apr 12 @ 7:30pm \nSun.\, Apr 13 @ 2pm
URL:https://highdesertbits.com/event/ctc-presents-the-mousetrap/
LOCATION:CTC Cascade Theatrical Company\, 148 NW Greenwood Ave\, Bend\, OR\, 97703
ORGANIZER;CN="CTC Cascade Theatrical Company":MAILTO:ctcinfo@cascadestheatrical.org
END:VEVENT
BEGIN:VEVENT
DTSTART;TZID=UTC:20250328T183000
DTEND;TZID=UTC:20250328T203000
DTSTAMP:20260425T130408
CREATED:20250217T144823Z
LAST-MODIFIED:20250217T145515Z
UID:1239-1743186600-1743193800@highdesertbits.com
SUMMARY:Ovation PA presents YOU'RE A GOOD MAN\, CHARLIE BROWN
DESCRIPTION:Ovation PA presents YOU’RE A GOOD MAN\, CHARLIE BROWN \nBased on The Comic Strip Peanuts by Charles M. Schulz\, Book\, Music and Lyrics by Clark Gesner\, Additional Dialogue by Michael Mayer\, Additional Music and Lyrics by Andrew Lippa \nFri.\, March 28 @ 6:30pm \nSat.\, March 29 @ 6:30pm \nSun.\, March 30 @ 3pm \nAt Ridgeview High School
URL:https://highdesertbits.com/event/ovation-pa-presents-youre-a-good-man-charlie-brown/
LOCATION:Ridgeview High School\, 4555 SW Elkhorn Ave\, Redmond\, OR\, 97756
END:VEVENT
BEGIN:VEVENT
DTSTART;TZID=UTC:20250323T150000
DTEND;TZID=UTC:20250323T173000
DTSTAMP:20260425T130409
CREATED:20250217T064426Z
LAST-MODIFIED:20250217T064426Z
UID:1237-1742742000-1742751000@highdesertbits.com
SUMMARY:Meadow Sky Productions presents THE LION\, THE WITCH AND THE WARDROBE
DESCRIPTION:Meadow Sky Productions presents THE LION\, THE WITCH AND THE WARDROBE \nDramatized by Joseph Robinette based on the story from C.S. Lewis \nFri.\, March 14 @ 6:30pm \nSat.\, March 15 @ 6:30pm \nFri.\, March 21 @ 6:30pm \nSat.\, March 22 @ 2pm and 6:30pm \nSun.\, March 23 @ 3pm \nat High Desert Music Hall
URL:https://highdesertbits.com/event/meadow-sky-productions-presents-the-lion-the-witch-and-the-wardrobe-6/
LOCATION:High Desert Music Hall\, 818 SW Forest Ave\, Redmond\, OR\, 97756
END:VEVENT
BEGIN:VEVENT
DTSTART;TZID=UTC:20250323T140000
DTEND;TZID=UTC:20250323T160000
DTSTAMP:20260425T130409
CREATED:20250317T145522Z
LAST-MODIFIED:20250317T145522Z
UID:1327-1742738400-1742745600@highdesertbits.com
SUMMARY:High Desert Community Theatre presents THE MASKED MUSKETEER
DESCRIPTION:High Desert Community Theatre presents THE MASKED MUSKETEER \nBy Martin Fallose \nThu.\, 3/20 at 7pm \nFri.\, 3/21 @ 7pm \nSat.\, 3/22 @ 7pm \nSun.\, 3/23 @ 2pm \nMadras Performaing Arts Center \n412 Buff Street\nMadras\, OR 97741 \nDonations at the door
URL:https://highdesertbits.com/event/high-desert-community-theatre-presents-the-masked-musketeer-4/
LOCATION:Madras Performing Arts Center\, 412 SE Buff St\, Madras\, OR\, 97741\, United States
END:VEVENT
BEGIN:VEVENT
DTSTART;TZID=UTC:20250322T190000
DTEND;TZID=UTC:20250322T210000
DTSTAMP:20260425T130409
CREATED:20250317T145409Z
LAST-MODIFIED:20250317T145409Z
UID:1325-1742670000-1742677200@highdesertbits.com
SUMMARY:High Desert Community Theatre presents THE MASKED MUSKETEER
DESCRIPTION:High Desert Community Theatre presents THE MASKED MUSKETEER \nBy Martin Fallose \nThu.\, 3/20 at 7pm \nFri.\, 3/21 @ 7pm \nSat.\, 3/22 @ 7pm \nSun.\, 3/23 @ 2pm \nMadras Performaing Arts Center \n412 Buff Street\nMadras\, OR 97741 \nDonations at the door
URL:https://highdesertbits.com/event/high-desert-community-theatre-presents-the-masked-musketeer-3/
LOCATION:Madras Performing Arts Center\, 412 SE Buff St\, Madras\, OR\, 97741\, United States
END:VEVENT
BEGIN:VEVENT
DTSTART;TZID=UTC:20250322T183000
DTEND;TZID=UTC:20250322T210000
DTSTAMP:20260425T130409
CREATED:20250217T064306Z
LAST-MODIFIED:20250217T064306Z
UID:1235-1742668200-1742677200@highdesertbits.com
SUMMARY:Meadow Sky Productions presents THE LION\, THE WITCH AND THE WARDROBE
DESCRIPTION:Meadow Sky Productions presents THE LION\, THE WITCH AND THE WARDROBE \nDramatized by Joseph Robinette based on the story from C.S. Lewis \nFri.\, March 14 @ 6:30pm \nSat.\, March 15 @ 6:30pm \nFri.\, March 21 @ 6:30pm \nSat.\, March 22 @ 2pm and 6:30pm \nSun.\, March 23 @ 3pm \nat High Desert Music Hall
URL:https://highdesertbits.com/event/meadow-sky-productions-presents-the-lion-the-witch-and-the-wardrobe-5/
LOCATION:High Desert Music Hall\, 818 SW Forest Ave\, Redmond\, OR\, 97756
END:VEVENT
BEGIN:VEVENT
DTSTART;TZID=UTC:20250322T140000
DTEND;TZID=UTC:20250322T163000
DTSTAMP:20260425T130409
CREATED:20250217T064149Z
LAST-MODIFIED:20250217T064149Z
UID:1233-1742652000-1742661000@highdesertbits.com
SUMMARY:Meadow Sky Productions presents THE LION\, THE WITCH AND THE WARDROBE
DESCRIPTION:Meadow Sky Productions presents THE LION\, THE WITCH AND THE WARDROBE \nDramatized by Joseph Robinette based on the story from C.S. Lewis \nFri.\, March 14 @ 6:30pm \nSat.\, March 15 @ 6:30pm \nFri.\, March 21 @ 6:30pm \nSat.\, March 22 @ 2pm and 6:30pm \nSun.\, March 23 @ 3pm \nat High Desert Music Hall
URL:https://highdesertbits.com/event/meadow-sky-productions-presents-the-lion-the-witch-and-the-wardrobe-4/
LOCATION:High Desert Music Hall\, 818 SW Forest Ave\, Redmond\, OR\, 97756
END:VEVENT
BEGIN:VEVENT
DTSTART;TZID=UTC:20250321T190000
DTEND;TZID=UTC:20250321T210000
DTSTAMP:20260425T130409
CREATED:20250317T145237Z
LAST-MODIFIED:20250317T145237Z
UID:1323-1742583600-1742590800@highdesertbits.com
SUMMARY:High Desert Community Theatre presents THE MASKED MUSKETEER
DESCRIPTION:High Desert Community Theatre presents THE MASKED MUSKETEER \nBy Martin Fallose \nThu.\, 3/20 at 7pm \nFri.\, 3/21 @ 7pm \nSat.\, 3/22 @ 7pm \nSun.\, 3/23 @ 2pm \nMadras Performaing Arts Center \n412 Buff Street\nMadras\, OR 97741 \nDonations at the door
URL:https://highdesertbits.com/event/high-desert-community-theatre-presents-the-masked-musketeer-2/
LOCATION:Madras Performing Arts Center\, 412 SE Buff St\, Madras\, OR\, 97741\, United States
END:VEVENT
BEGIN:VEVENT
DTSTART;TZID=UTC:20250321T183000
DTEND;TZID=UTC:20250321T210000
DTSTAMP:20260425T130409
CREATED:20250217T064025Z
LAST-MODIFIED:20250217T064025Z
UID:1231-1742581800-1742590800@highdesertbits.com
SUMMARY:Meadow Sky Productions presents THE LION\, THE WITCH AND THE WARDROBE
DESCRIPTION:Meadow Sky Productions presents THE LION\, THE WITCH AND THE WARDROBE \nDramatized by Joseph Robinette based on the story from C.S. Lewis \nFri.\, March 14 @ 6:30pm \nSat.\, March 15 @ 6:30pm \nFri.\, March 21 @ 6:30pm \nSat.\, March 22 @ 2pm and 6:30pm \nSun.\, March 23 @ 3pm \nat High Desert Music Hall
URL:https://highdesertbits.com/event/meadow-sky-productions-presents-the-lion-the-witch-and-the-wardrobe-3/
LOCATION:High Desert Music Hall\, 818 SW Forest Ave\, Redmond\, OR\, 97756
END:VEVENT
BEGIN:VEVENT
DTSTART;TZID=UTC:20250320T190000
DTEND;TZID=UTC:20250320T210000
DTSTAMP:20260425T130409
CREATED:20250317T145103Z
LAST-MODIFIED:20250317T145103Z
UID:1320-1742497200-1742504400@highdesertbits.com
SUMMARY:High Desert Community Theatre presents THE MASKED MUSKETEER
DESCRIPTION:High Desert Community Theatre presents THE MASKED MUSKETEER \nBy Martin Fallose \nThu.\, 3/20 at 7pm \nFri.\, 3/21 @ 7pm \nSat.\, 3/22 @ 7pm \nSun.\, 3/23 @ 2pm \nMadras Performaing Arts Center \n412 Buff Street\nMadras\, OR 97741 \nDonations at the door
URL:https://highdesertbits.com/event/high-desert-community-theatre-presents-the-masked-musketeer/
LOCATION:Madras Performing Arts Center\, 412 SE Buff St\, Madras\, OR\, 97741\, United States
END:VEVENT
BEGIN:VEVENT
DTSTART;TZID=UTC:20250315T183000
DTEND;TZID=UTC:20250315T210000
DTSTAMP:20260425T130409
CREATED:20250217T063902Z
LAST-MODIFIED:20250217T063902Z
UID:1229-1742063400-1742072400@highdesertbits.com
SUMMARY:Meadow Sky Productions presents THE LION\, THE WITCH AND THE WARDROBE
DESCRIPTION:Meadow Sky Productions presents THE LION\, THE WITCH AND THE WARDROBE \nDramatized by Joseph Robinette based on the story from C.S. Lewis \nFri.\, March 14 @ 6:30pm \nSat.\, March 15 @ 6:30pm \nFri.\, March 21 @ 6:30pm \nSat.\, March 22 @ 2pm and 6:30pm \nSun.\, March 23 @ 3pm \nat High Desert Music Hall
URL:https://highdesertbits.com/event/meadow-sky-productions-presents-the-lion-the-witch-and-the-wardrobe-2/
LOCATION:High Desert Music Hall\, 818 SW Forest Ave\, Redmond\, OR\, 97756
END:VEVENT
BEGIN:VEVENT
DTSTART;TZID=UTC:20250315T180000
DTEND;TZID=UTC:20250315T200000
DTSTAMP:20260425T130409
CREATED:20250111T021021Z
LAST-MODIFIED:20250111T021021Z
UID:897-1742061600-1742068800@highdesertbits.com
SUMMARY:RPA presents HADESTOWN
DESCRIPTION:RPA presents HADESTOWN \nMusic\, lyrics and book by Anaïs Mitchell \nFri.\, 3/7 @ 6pm          Thu.\,  3/13 @ 6pm \nSat\, 3/8 @ 6pm          Fri.\,   3/14  @ 6pm \nSun.\, 3/9 @ 2pm          Sat.\, 3/15  @ 6pm \n 
URL:https://highdesertbits.com/event/rpa-presents-hadestown-6/
LOCATION:RPA at McClay Center of the Performing Arts\, 640 SW Evrgreen Ave\, Redmond\, OR\, 97756\, United States
END:VEVENT
BEGIN:VEVENT
DTSTART;TZID=UTC:20250314T183000
DTEND;TZID=UTC:20250314T210000
DTSTAMP:20260425T130409
CREATED:20250217T063742Z
LAST-MODIFIED:20250217T063742Z
UID:1227-1741977000-1741986000@highdesertbits.com
SUMMARY:Meadow Sky Productions presents THE LION\, THE WITCH AND THE WARDROBE
DESCRIPTION:Meadow Sky Productions presents THE LION\, THE WITCH AND THE WARDROBE \nDramatized by Joseph Robinette based on the story from C.S. Lewis \nFri.\, March 14 @ 6:30pm \nSat.\, March 15 @ 6:30pm \nFri.\, March 21 @ 6:30pm \nSat.\, March 22 @ 2pm and 6:30pm \nSun.\, March 23 @ 3pm \nat High Desert Music Hall
URL:https://highdesertbits.com/event/meadow-sky-productions-presents-the-lion-the-witch-and-the-wardrobe/
LOCATION:High Desert Music Hall\, 818 SW Forest Ave\, Redmond\, OR\, 97756
END:VEVENT
BEGIN:VEVENT
DTSTART;TZID=UTC:20250314T180000
DTEND;TZID=UTC:20250314T200000
DTSTAMP:20260425T130409
CREATED:20250111T020904Z
LAST-MODIFIED:20250111T020904Z
UID:895-1741975200-1741982400@highdesertbits.com
SUMMARY:RPA presents HADESTOWN
DESCRIPTION:RPA presents HADESTOWN \nMusic\, lyrics and book by Anaïs Mitchell \nFri.\, 3/7 @ 6pm          Thu.\,  3/13 @ 6pm \nSat\, 3/8 @ 6pm          Fri.\,   3/14  @ 6pm \nSun.\, 3/9 @ 2pm          Sat.\, 3/15  @ 6pm \n 
URL:https://highdesertbits.com/event/rpa-presents-hadestown-5/
LOCATION:RPA at McClay Center of the Performing Arts\, 640 SW Evrgreen Ave\, Redmond\, OR\, 97756\, United States
END:VEVENT
BEGIN:VEVENT
DTSTART;TZID=UTC:20250313T180000
DTEND;TZID=UTC:20250313T190000
DTSTAMP:20260425T130409
CREATED:20250111T020756Z
LAST-MODIFIED:20250111T020756Z
UID:893-1741888800-1741892400@highdesertbits.com
SUMMARY:RPA presents HADESTOWN
DESCRIPTION:RPA presents HADESTOWN \nMusic\, lyrics and book by Anaïs Mitchell \nFri.\, 3/7 @ 6pm         Thu.\,  3/13 @ 6pm \nSat\, 3/8 @ 6pm          Fri.\,   3/14  @ 6pm \nSun.\, 3/9 @ 2pm          Sat.\, 3/15  @ 6pm \n 
URL:https://highdesertbits.com/event/rpa-presents-hadestown-4/
LOCATION:RPA   Redmond Proficiency Academy\, 657 SW Glacier Ave #2710\,\, Redmond\, OR\, 97753\, United States
END:VEVENT
BEGIN:VEVENT
DTSTART;TZID=UTC:20250309T140000
DTEND;TZID=UTC:20250309T160000
DTSTAMP:20260425T130409
CREATED:20250113T022709Z
LAST-MODIFIED:20250113T022709Z
UID:1038-1741528800-1741536000@highdesertbits.com
SUMMARY:Mountain View High School presents MATILDA\, the Musical
DESCRIPTION:Mountain View High School presents MATILDA\, the Musical \nBased on the 1988 book by Roald Dahl \nMusic and lyrics by Tim Minchin and book by Dennis Kelly \nFri.\, 2/28  @ 7pm \nSat.\, 3/1 @ 7pm \nSun.\, 3/2 @ 2pm \n  \nFri.\, 3/7 @ 7pm \nSat.\, 3/8 @ 7pm \nSun.\, 3/9 @ 2pm
URL:https://highdesertbits.com/event/mountain-view-high-school-presents-matilda-the-musical-5/
LOCATION:Mt. View High School\, 2755 NE 27th St\,\, Bend\, OR\, 97701\, United States
END:VEVENT
BEGIN:VEVENT
DTSTART;TZID=UTC:20250309T140000
DTEND;TZID=UTC:20250309T160000
DTSTAMP:20260425T130409
CREATED:20250111T020642Z
LAST-MODIFIED:20250111T020642Z
UID:891-1741528800-1741536000@highdesertbits.com
SUMMARY:RPA presents HADESTOWN
DESCRIPTION:RPA presents HADESTOWN \nMusic\, lyrics and book by Anaïs Mitchell \nFri.\, 3/7 @ 6pm          Thu.\,  3/13 @ 6pm \nSat\, 3/8 @ 6pm          Fri.\,   3/14  @ 6pm \nSun.\, 3/9 @ 2pm          Sat.\, 3/15  @ 6pm \n 
URL:https://highdesertbits.com/event/rpa-presents-hadestown-3/
LOCATION:RPA   Redmond Proficiency Academy\, 657 SW Glacier Ave #2710\,\, Redmond\, OR\, 97753\, United States
END:VEVENT
BEGIN:VEVENT
DTSTART;TZID=UTC:20250308T190000
DTEND;TZID=UTC:20250308T210000
DTSTAMP:20260425T130409
CREATED:20250113T022555Z
LAST-MODIFIED:20250113T022555Z
UID:1036-1741460400-1741467600@highdesertbits.com
SUMMARY:Mountain View High School presents MATILDA\, the Musical
DESCRIPTION:Mountain View High School presents MATILDA\, the Musical \nBased on the 1988 book by Roald Dahl \nMusic and lyrics by Tim Minchin and book by Dennis Kelly \nFri.\, 2/28  @ 7pm \nSat.\, 3/1 @ 7pm \nSun.\, 3/2 @ 2pm \n  \nFri.\, 3/7 @ 7pm \nSat.\, 3/8 @ 7pm  \nSun.\, 3/9 @ 2pm
URL:https://highdesertbits.com/event/mountain-view-high-school-presents-matilda-the-musical-4/
LOCATION:Mt. View High School\, 2755 NE 27th St\,\, Bend\, OR\, 97701\, United States
END:VEVENT
BEGIN:VEVENT
DTSTART;TZID=UTC:20250308T180000
DTEND;TZID=UTC:20250308T200000
DTSTAMP:20260425T130409
CREATED:20250111T020531Z
LAST-MODIFIED:20250111T020531Z
UID:889-1741456800-1741464000@highdesertbits.com
SUMMARY:RPA presents HADESTOWN
DESCRIPTION:RPA presents HADESTOWN \nMusic\, lyrics and book by Anaïs Mitchell \nFri.\, 3/7 @ 6pm         Thu.\,  3/13 @ 6pm \nSat\, 3/8 @ 6pm          Fri.\,   3/14  @ 6pm \nSun.\, 3/9 @ 2pm          Sat.\, 3/15  @ 6pm \n 
URL:https://highdesertbits.com/event/rpa-presents-hadestown-2/
LOCATION:RPA   Redmond Proficiency Academy\, 657 SW Glacier Ave #2710\,\, Redmond\, OR\, 97753\, United States
END:VEVENT
BEGIN:VEVENT
DTSTART;TZID=UTC:20250307T190000
DTEND;TZID=UTC:20250307T210000
DTSTAMP:20260425T130409
CREATED:20250113T022437Z
LAST-MODIFIED:20250113T022827Z
UID:1034-1741374000-1741381200@highdesertbits.com
SUMMARY:Mountain View High School presents MATILDA\, the Musical
DESCRIPTION:Mountain View High School presents MATILDA\, the Musical \nBased on the 1988 book by Roald Dahl \nMusic and lyrics by Tim Minchin and book by Dennis Kelly \nFri.\, 2/28  @ 7pm \nSat.\, 3/1 @ 7pm \nSun.\, 3/2 @ 2pm \n  \nFri.\, 3/7 @ 7pm  \nSat.\, 3/8 @ 7pm \nSun.\, 3/9 @ 2pm
URL:https://highdesertbits.com/event/1034/
LOCATION:Mt. View High School\, 2755 NE 27th St\,\, Bend\, OR\, 97701\, United States
END:VEVENT
END:VCALENDAR