BEGIN:VCALENDAR
VERSION:2.0
PRODID:-//High Desert B.I.T.S. - ECPv6.15.20//NONSGML v1.0//EN
CALSCALE:GREGORIAN
METHOD:PUBLISH
X-WR-CALNAME:High Desert B.I.T.S.
X-ORIGINAL-URL:https://highdesertbits.com
X-WR-CALDESC:Events for High Desert B.I.T.S.
REFRESH-INTERVAL;VALUE=DURATION:PT1H
X-Robots-Tag:noindex
X-PUBLISHED-TTL:PT1H
BEGIN:VTIMEZONE
TZID:UTC
BEGIN:STANDARD
TZOFFSETFROM:+0000
TZOFFSETTO:+0000
TZNAME:UTC
DTSTART:20250101T000000
END:STANDARD
END:VTIMEZONE
BEGIN:VEVENT
DTSTART;TZID=UTC:20260315T090000
DTEND;TZID=UTC:20260315T120000
DTSTAMP:20260424T000841
CREATED:20260307T190551Z
LAST-MODIFIED:20260307T190551Z
UID:2446-1773565200-1773576000@highdesertbits.com
SUMMARY:Ellipse Theatre Community fundraiser Not'cho Grandma's Bingo
DESCRIPTION:Ellipse Theatre Community fundraiser Not’cho Grandma’s Bingo \nSun.\, March 15 9am-Noon \nSilver Moon Brewing \nwww.eventbrite.com
URL:https://highdesertbits.com/event/ellipse-theatre-community-fundraiser-notcho-grandmas-bingo/
LOCATION:sil\, 24 NW Greenwood\, Bend\, United States
END:VEVENT
BEGIN:VEVENT
DTSTART;TZID=UTC:20260315T150000
DTEND;TZID=UTC:20260315T170000
DTSTAMP:20260424T000841
CREATED:20260217T004141Z
LAST-MODIFIED:20260217T004141Z
UID:2428-1773586800-1773594000@highdesertbits.com
SUMMARY:Meadow Sky Productions presents MUCH ADO ABOUT NOTHING
DESCRIPTION:Meadow Sky Productions presents MUCH ADO ABOUT NOTHING \nBy Willliam Shakespeare \nSun.\, 3/15 @ 3pm \n  \nFri.\, 3/20 @ 7pm \nSat.\, 3/21 @ 2pm and 7pm \nSun.\, 3/22 @ 3pm \nAt Redmond’s High Desert Music Hall
URL:https://highdesertbits.com/event/meadow-sky-productions-presents-much-ado-about-nothing-4/
LOCATION:High Desert Music Hall\, 818 SW Forest Ave\, Redmond\, OR\, 97756
END:VEVENT
BEGIN:VEVENT
DTSTART;TZID=UTC:20260319T193000
DTEND;TZID=UTC:20260319T213000
DTSTAMP:20260424T000841
CREATED:20260217T002533Z
LAST-MODIFIED:20260217T002533Z
UID:2416-1773948600-1773955800@highdesertbits.com
SUMMARY:Cascade Theatrical Company presents 39 STEPS
DESCRIPTION:Cascade Theatrical Company presents 39 STEPS \nAdapted by Patrick Barlow\nFrom the novel by John Buchan \nThu.\, 3/19 @ 7:30pm \nFri.\, 3/20 @ 7:30pm \nSat.\, 3/21 @ 7:30pm \nSun.\, 3/22 @ 2pm \n  \nThu.\, 3/26 @ 7:30pm \nFri.\, 3/27 @ 7:30pm \nSat.\, 3/28 @ 7:30pm \nSun.\, 3/29 @ 2pm \n  \nThu.\, 4/2 @ 7:30pm \nFri.\, 4/3 @ 7:30pm \nSat.\, 4/4 @ 7:30pm \nSun.\, 4/5 @ 2pm
URL:https://highdesertbits.com/event/cascade-theatrical-company-presents-39-steps-12/
LOCATION:CTC Cascade Theatrical Company\, 148 NW Greenwood Ave\, Bend\, OR\, 97703
ORGANIZER;CN="CTC Cascade Theatrical Company":MAILTO:ctcinfo@cascadestheatrical.org
END:VEVENT
BEGIN:VEVENT
DTSTART;TZID=UTC:20260320T190000
DTEND;TZID=UTC:20260320T210000
DTSTAMP:20260424T000841
CREATED:20260217T004305Z
LAST-MODIFIED:20260217T004305Z
UID:2430-1774033200-1774040400@highdesertbits.com
SUMMARY:Meadow Sky Productions presents MUCH ADO ABOUT NOTHING
DESCRIPTION:Meadow Sky Productions presents MUCH ADO ABOUT NOTHING \nBy Willliam Shakespeare \nFri.\, 3/20 @ 7pm \nSat.\, 3/21 @ 2pm and 7pm \nSun.\, 3/22 @ 3pm \nAt Redmond’s High Desert Music Hall
URL:https://highdesertbits.com/event/meadow-sky-productions-presents-much-ado-about-nothing-5/
LOCATION:High Desert Music Hall\, 818 SW Forest Ave\, Redmond\, OR\, 97756
END:VEVENT
BEGIN:VEVENT
DTSTART;TZID=UTC:20260320T193000
DTEND;TZID=UTC:20260320T213000
DTSTAMP:20260424T000841
CREATED:20250908T125251Z
LAST-MODIFIED:20250908T125251Z
UID:2007-1774035000-1774042200@highdesertbits.com
SUMMARY:Cascade Theatrical Company presents 39 STEPS
DESCRIPTION:Cascade Theatrical Company presents 39 STEPS \nAdapted by Patrick Barlow\nFrom the novel by John Buchan \nFri.\, 3/20 @ 7:30pm \nSat.\, 3/21 @ 7:30pm \nSun.\, 3/22 @ 2pm \n  \nThu.\, 3/26 @ 7:30pm \nFri.\, 3/27 @ 7:30pm \nSat.\, 3/28 @ 7:30pm \nSun.\, 3/28 @ 2pm \n  \nThu.\, 4/2 @ 7:30pm \nFri.\, 4/3 @ 7:30pm \nSat.\, 4/4 @ 7:30pm \nSun.\, 4/5 @ 2pm
URL:https://highdesertbits.com/event/cascade-theatrical-company-presents-39-steps/
LOCATION:CTC Cascade Theatrical Company\, 148 NW Greenwood Ave\, Bend\, OR\, 97703
ORGANIZER;CN="CTC Cascade Theatrical Company":MAILTO:ctcinfo@cascadestheatrical.org
END:VEVENT
BEGIN:VEVENT
DTSTART;TZID=UTC:20260321T120000
DTEND;TZID=UTC:20260321T160000
DTSTAMP:20260424T000841
CREATED:20260307T184723Z
LAST-MODIFIED:20260307T184723Z
UID:2442-1774094400-1774108800@highdesertbits.com
SUMMARY:Auditions for TMP's new work ROSIE THE RIVETER\, the musical
DESCRIPTION:Auditions for TMP’s new work ROSIE THE RIVETER the musical written and directed by Marilyn Magness \nTMP combines with Marilyn Magness for a premiere production of a new American musical \nSat.\, March 21 at noon \nCallbacks \nSun.\, March 22 at 3pm \nAt Open Space Event Studio \nBring resume\, up-tempo Braodway sond\, Dance combo will be given \nPerformances run June 19-21 at Tower Theatre
URL:https://highdesertbits.com/event/auditions-for-tmps-new-work-rosie-the-riveter-the-musical/
LOCATION:Open Space Event Studio\, 220 NE Lafayette Ave\, Bend\, OR\, 97701
ORGANIZER;CN="TMP Thoroughly Modern Productions":MAILTO:tmpbend@gmail.com
END:VEVENT
BEGIN:VEVENT
DTSTART;TZID=UTC:20260321T140000
DTEND;TZID=UTC:20260321T170000
DTSTAMP:20260424T000841
CREATED:20260217T004443Z
LAST-MODIFIED:20260217T004443Z
UID:2432-1774101600-1774112400@highdesertbits.com
SUMMARY:Meadow Sky Productions presents MUCH ADO ABOUT NOTHING
DESCRIPTION:Meadow Sky Productions presents MUCH ADO ABOUT NOTHING \nBy Willliam Shakespeare \nSat.\, 3/21 @ 2pm and 7pm \nSun.\, 3/22 @ 3pm \nAt Redmond’s High Desert Music Hall
URL:https://highdesertbits.com/event/meadow-sky-productions-presents-much-ado-about-nothing-6/
LOCATION:High Desert Music Hall\, 818 SW Forest Ave\, Redmond\, OR\, 97756
END:VEVENT
BEGIN:VEVENT
DTSTART;TZID=UTC:20260321T190000
DTEND;TZID=UTC:20260321T210000
DTSTAMP:20260424T000841
CREATED:20260217T004649Z
LAST-MODIFIED:20260217T004649Z
UID:2434-1774119600-1774126800@highdesertbits.com
SUMMARY:Meadow Sky Productions presents MUCH ADO ABOUT NOTHING
DESCRIPTION:Meadow Sky Productions presents MUCH ADO ABOUT NOTHING \nBy Willliam Shakespeare \nSat.\, 3/21 @ 7pm \nSun.\, 3/22 @ 3pm \nAt Redmond’s High Desert Music Hall
URL:https://highdesertbits.com/event/meadow-sky-productions-presents-much-ado-about-nothing-7/
LOCATION:High Desert Music Hall\, 818 SW Forest Ave\, Redmond\, OR\, 97756
END:VEVENT
BEGIN:VEVENT
DTSTART;TZID=UTC:20260321T193000
DTEND;TZID=UTC:20260321T213000
DTSTAMP:20260424T000841
CREATED:20250908T125419Z
LAST-MODIFIED:20250908T125419Z
UID:2009-1774121400-1774128600@highdesertbits.com
SUMMARY:Cascade Theatrical Company presents 39 STEPS
DESCRIPTION:Cascade Theatrical Company presents 39 STEPS \nAdapted by Patrick Barlow\nFrom the novel by John Buchan \nSat.\, 3/21 @ 7:30pm \nSun.\, 3/22 @ 2pm \n  \nThu.\, 3/26 @ 7:30pm \nFri.\, 3/27 @ 7:30pm \nSat.\, 3/28 @ 7:30pm \nSun.\, 3/28 @ 2pm \n  \nThu.\, 4/2 @ 7:30pm \nFri.\, 4/3 @ 7:30pm \nSat.\, 4/4 @ 7:30pm \nSun.\, 4/5 @ 2pm
URL:https://highdesertbits.com/event/cascade-theatrical-company-presents-39-steps-2/
LOCATION:CTC Cascade Theatrical Company\, 148 NW Greenwood Ave\, Bend\, OR\, 97703
ORGANIZER;CN="CTC Cascade Theatrical Company":MAILTO:ctcinfo@cascadestheatrical.org
END:VEVENT
BEGIN:VEVENT
DTSTART;TZID=UTC:20260322T140000
DTEND;TZID=UTC:20260322T160000
DTSTAMP:20260424T000841
CREATED:20250908T125539Z
LAST-MODIFIED:20250908T125539Z
UID:2011-1774188000-1774195200@highdesertbits.com
SUMMARY:Cascade Theatrical Company presents 39 STEPS
DESCRIPTION:Cascade Theatrical Company presents 39 STEPS \nAdapted by Patrick Barlow\nFrom the novel by John Buchan \nSun.\, 3/22 @ 2pm \n  \nThu.\, 3/26 @ 7:30pm \nFri.\, 3/27 @ 7:30pm \nSat.\, 3/28 @ 7:30pm \nSun.\, 3/28 @ 2pm \n  \nThu.\, 4/2 @ 7:30pm \nFri.\, 4/3 @ 7:30pm \nSat.\, 4/4 @ 7:30pm \nSun.\, 4/5 @ 2pm
URL:https://highdesertbits.com/event/cascade-theatrical-company-presents-39-steps-3/
LOCATION:CTC Cascade Theatrical Company\, 148 NW Greenwood Ave\, Bend\, OR\, 97703
ORGANIZER;CN="CTC Cascade Theatrical Company":MAILTO:ctcinfo@cascadestheatrical.org
END:VEVENT
BEGIN:VEVENT
DTSTART;TZID=UTC:20260322T150000
DTEND;TZID=UTC:20260322T170000
DTSTAMP:20260424T000841
CREATED:20260217T004925Z
LAST-MODIFIED:20260316T131523Z
UID:2436-1774191600-1774198800@highdesertbits.com
SUMMARY:Meadow Sky Productions presents MUCH ADO ABOUT NOTHING
DESCRIPTION:Meadow Sky Productions presents MUCH ADO ABOUT NOTHING \nBy Willliam Shakespeare \nSun.\, 3/22 @ 3pm \nAt Redmond’s High Desert Music Hall
URL:https://highdesertbits.com/event/2436/
LOCATION:High Desert Music Hall\, 818 SW Forest Ave\, Redmond\, OR\, 97756
END:VEVENT
BEGIN:VEVENT
DTSTART;TZID=UTC:20260322T150000
DTEND;TZID=UTC:20260322T180000
DTSTAMP:20260424T000841
CREATED:20260307T185335Z
LAST-MODIFIED:20260307T185335Z
UID:2444-1774191600-1774202400@highdesertbits.com
SUMMARY:Callback Auditions for TMP's new work ROSIE THE RIVETER the musical
DESCRIPTION:Auditions for TMP’s new work ROSIE THE RIVETER the musical written and directed by Marilyn Magness \nTMP combines with Marilyn Magness for a premiere production of a new American musical \nSat.\, March 21 at noon \nCallbacks \nSun.\, March 22 at 3pm \nAt Open Space Event Studio \nBring resume\, up-tempo Braodway sond\, Dance combo will be given \nPerformances run June 19-21 at Tower Theatre
URL:https://highdesertbits.com/event/callback-auditions-for-tmps-new-work-rosie-the-riveter-the-musical/
LOCATION:Open Space Event Studio\, 220 NE Lafayette Ave\, Bend\, OR\, 97701
ORGANIZER;CN="TMP Thoroughly Modern Productions":MAILTO:tmpbend@gmail.com
END:VEVENT
BEGIN:VEVENT
DTSTART;TZID=UTC:20260326T193000
DTEND;TZID=UTC:20260326T213000
DTSTAMP:20260424T000841
CREATED:20250908T125658Z
LAST-MODIFIED:20260217T002921Z
UID:2013-1774553400-1774560600@highdesertbits.com
SUMMARY:Cascade Theatrical Company presents 39 STEPS
DESCRIPTION:Cascade Theatrical Company presents 39 STEPS \nAdapted by Patrick Barlow\nFrom the novel by John Buchan \nThu.\, 3/26 @ 7:30pm \nFri.\, 3/27 @ 7:30pm \nSat.\, 3/28 @ 7:30pm \nSun.\, 3/29 @ 2pm \n  \nThu.\, 4/2 @ 7:30pm \nFri.\, 4/3 @ 7:30pm \nSat.\, 4/4 @ 7:30pm \nSun.\, 4/5 @ 2pm
URL:https://highdesertbits.com/event/cascade-theatrical-company-presents-39-steps-4/
LOCATION:CTC Cascade Theatrical Company\, 148 NW Greenwood Ave\, Bend\, OR\, 97703
ORGANIZER;CN="CTC Cascade Theatrical Company":MAILTO:ctcinfo@cascadestheatrical.org
END:VEVENT
BEGIN:VEVENT
DTSTART;TZID=UTC:20260327T193000
DTEND;TZID=UTC:20260327T213000
DTSTAMP:20260424T000841
CREATED:20250908T125848Z
LAST-MODIFIED:20260223T215038Z
UID:2015-1774639800-1774647000@highdesertbits.com
SUMMARY:Cascade Theatrical Company presents 39 STEPS
DESCRIPTION:Cascade Theatrical Company presents 39 STEPS \nAdapted by Patrick Barlow\nFrom the novel by John Buchan \nFri.\, 3/27 @ 7:30pm \nSat.\, 3/28 @ 7:30pm \nSun.\, 3/28 @ 2pm \n  \nThu.\, 4/2 @ 7:30pm \nFri.\, 4/3 @ 7:30pm \nSat.\, 4/4 @ 7:30pm \nSun.\, 4/5 @ 2pm
URL:https://highdesertbits.com/event/cascade-theatrical-company-presents-39-steps-5/
LOCATION:CTC Cascade Theatrical Company\, 148 NW Greenwood Ave\, Bend\, OR\, 97703
ORGANIZER;CN="CTC Cascade Theatrical Company":MAILTO:ctcinfo@cascadestheatrical.org
END:VEVENT
BEGIN:VEVENT
DTSTART;TZID=UTC:20260328T193000
DTEND;TZID=UTC:20260328T213000
DTSTAMP:20260424T000841
CREATED:20250908T130013Z
LAST-MODIFIED:20260217T002810Z
UID:2017-1774726200-1774733400@highdesertbits.com
SUMMARY:Cascade Theatrical Company presents 39 STEPS
DESCRIPTION:Cascade Theatrical Company presents 39 STEPS \nAdapted by Patrick Barlow\nFrom the novel by John Buchan \nSat.\, 3/28 @ 7:30pm \nSun.\, 3/29 @ 2pm \n  \nThu.\, 4/2 @ 7:30pm \nFri.\, 4/3 @ 7:30pm \nSat.\, 4/4 @ 7:30pm \nSun.\, 4/5 @ 2pm
URL:https://highdesertbits.com/event/cascade-theatrical-company-presents-39-steps-6/
LOCATION:CTC Cascade Theatrical Company\, 148 NW Greenwood Ave\, Bend\, OR\, 97703
ORGANIZER;CN="CTC Cascade Theatrical Company":MAILTO:ctcinfo@cascadestheatrical.org
END:VEVENT
BEGIN:VEVENT
DTSTART;TZID=UTC:20260329T140000
DTEND;TZID=UTC:20260329T160000
DTSTAMP:20260424T000841
CREATED:20250908T130208Z
LAST-MODIFIED:20250908T130208Z
UID:2019-1774792800-1774800000@highdesertbits.com
SUMMARY:Cascade Theatrical Company presents 39 STEPS
DESCRIPTION:Cascade Theatrical Company presents 39 STEPS \nAdapted by Patrick Barlow\nFrom the novel by John Buchan \nSun.\, 3/29 @ 2pm \n  \nThu.\, 4/2 @ 7:30pm \nFri.\, 4/3 @ 7:30pm \nSat.\, 4/4 @ 7:30pm \nSun.\, 4/5 @ 2pm
URL:https://highdesertbits.com/event/cascade-theatrical-company-presents-39-steps-7/
LOCATION:CTC Cascade Theatrical Company\, 148 NW Greenwood Ave\, Bend\, OR\, 97703
ORGANIZER;CN="CTC Cascade Theatrical Company":MAILTO:ctcinfo@cascadestheatrical.org
END:VEVENT
BEGIN:VEVENT
DTSTART;TZID=UTC:20260402T193000
DTEND;TZID=UTC:20260402T213000
DTSTAMP:20260424T000841
CREATED:20250908T130333Z
LAST-MODIFIED:20250908T130333Z
UID:2021-1775158200-1775165400@highdesertbits.com
SUMMARY:Cascade Theatrical Company presents 39 STEPS
DESCRIPTION:Cascade Theatrical Company presents 39 STEPS \nAdapted by Patrick Barlow\nFrom the novel by John Buchan \nThu.\, 4/2 @ 7:30pm \nFri.\, 4/3 @ 7:30pm \nSat.\, 4/4 @ 7:30pm \nSun.\, 4/5 @ 2pm
URL:https://highdesertbits.com/event/cascade-theatrical-company-presents-39-steps-8/
LOCATION:CTC Cascade Theatrical Company\, 148 NW Greenwood Ave\, Bend\, OR\, 97703
ORGANIZER;CN="CTC Cascade Theatrical Company":MAILTO:ctcinfo@cascadestheatrical.org
END:VEVENT
BEGIN:VEVENT
DTSTART;TZID=UTC:20260403T193000
DTEND;TZID=UTC:20260403T213000
DTSTAMP:20260424T000841
CREATED:20250908T130444Z
LAST-MODIFIED:20250908T130444Z
UID:2023-1775244600-1775251800@highdesertbits.com
SUMMARY:Cascade Theatrical Company presents 39 STEPS
DESCRIPTION:Cascade Theatrical Company presents 39 STEPS \nAdapted by Patrick Barlow\nFrom the novel by John Buchan \nFri.\, 4/3 @ 7:30pm \nSat.\, 4/4 @ 7:30pm \nSun.\, 4/5 @ 2pm
URL:https://highdesertbits.com/event/cascade-theatrical-company-presents-39-steps-9/
LOCATION:CTC Cascade Theatrical Company\, 148 NW Greenwood Ave\, Bend\, OR\, 97703
ORGANIZER;CN="CTC Cascade Theatrical Company":MAILTO:ctcinfo@cascadestheatrical.org
END:VEVENT
BEGIN:VEVENT
DTSTART;TZID=UTC:20260403T193000
DTEND;TZID=UTC:20260403T220000
DTSTAMP:20260424T000841
CREATED:20260331T125632Z
LAST-MODIFIED:20260331T125736Z
UID:2482-1775244600-1775253600@highdesertbits.com
SUMMARY:Greenhouse Cabaret presents Natasha\, Pierre & the Great Comet of 1812
DESCRIPTION:Greenhouse Cabaret presents Natasha\, Pierre & the Great Comet of 1812 \nElectropop Opera by Dave Malloy \nFri.\, 4/3/@ 7:30pm \nSat.\, 4/4 @ 7:30pm \nSun.\, 4/5 @ 7:30pm \n  \nThu.\, 4/9 @ 7:30pm \nFri.\, 4/10 /@ 7:30pm \nSat.\, 4/11 @ 7:30pm \nSun.\, 4/12 @ 7:30pm \n  \nThu.\, 4/16@ 7:30pm \nFri.\, 4/17/@ 7:30pm \nSat.\, 4/18 @ 7:30pm \nSun.\, 4/19 @ 7:30pm \n  \nThu.\, 4/23 @ 7:30pm \nFri.\, 4/24 /@ 7:30pm \nSat.\, 4/25 @ 7:30pm \nSun.\, 4/26 @ 7:30pm \n  \nThu.\, 4/30 @ 7:30pm \nFri.\, 5/1 /@ 7:30pm \nSat.\, 5/2 @ 7:30pm \n 
URL:https://highdesertbits.com/event/greenhouse-cabaret-presents-natasha-pierre-the-great-comet-of-1812/
LOCATION:Greenhouse Cabaret\, 1017 NE 2nd St.\, Bend\, OR\, 97701\, United States
END:VEVENT
BEGIN:VEVENT
DTSTART;TZID=UTC:20260404T080000
DTEND;TZID=UTC:20260404T170000
DTSTAMP:20260424T000841
CREATED:20250908T130548Z
LAST-MODIFIED:20250908T130548Z
UID:2025-1775289600-1775322000@highdesertbits.com
SUMMARY:Cascade Theatrical Company presents 39 STEPS
DESCRIPTION:Cascade Theatrical Company presents 39 STEPS \nAdapted by Patrick Barlow\nFrom the novel by John Buchan \nSat.\, 4/4 @ 7:30pm \nSun.\, 4/5 @ 2pm
URL:https://highdesertbits.com/event/cascade-theatrical-company-presents-39-steps-10/
LOCATION:CTC Cascade Theatrical Company\, 148 NW Greenwood Ave\, Bend\, OR\, 97703
ORGANIZER;CN="CTC Cascade Theatrical Company":MAILTO:ctcinfo@cascadestheatrical.org
END:VEVENT
BEGIN:VEVENT
DTSTART;TZID=UTC:20260404T193000
DTEND;TZID=UTC:20260404T220000
DTSTAMP:20260424T000841
CREATED:20260331T125906Z
LAST-MODIFIED:20260331T125906Z
UID:2485-1775331000-1775340000@highdesertbits.com
SUMMARY:Greenhouse Cabaret presents Natasha\, Pierre & the Great Comet of 1812
DESCRIPTION:Greenhouse Cabaret presents Natasha\, Pierre & the Great Comet of 1812 \nElectropop Opera by Dave Malloy \nSat.\, 4/4 @ 7:30pm \nSun.\, 4/5 @ 7:30pm \n  \nThu.\, 4/9 @ 7:30pm \nFri.\, 4/10 /@ 7:30pm \nSat.\, 4/11 @ 7:30pm \nSun.\, 4/12 @ 7:30pm \n  \nThu.\, 4/16@ 7:30pm \nFri.\, 4/17/@ 7:30pm \nSat.\, 4/18 @ 7:30pm \nSun.\, 4/19 @ 7:30pm \n  \nThu.\, 4/23 @ 7:30pm \nFri.\, 4/24 /@ 7:30pm \nSat.\, 4/25 @ 7:30pm \nSun.\, 4/26 @ 7:30pm \n  \nThu.\, 4/30 @ 7:30pm \nFri.\, 5/1 /@ 7:30pm \nSat.\, 5/2 @ 7:30pm
URL:https://highdesertbits.com/event/greenhouse-cabaret-presents-natasha-pierre-the-great-comet-of-1812-2/
LOCATION:Greenhouse Cabaret\, 1017 NE 2nd St.\, Bend\, OR\, 97701\, United States
END:VEVENT
BEGIN:VEVENT
DTSTART;TZID=UTC:20260405T140000
DTEND;TZID=UTC:20260405T160000
DTSTAMP:20260424T000841
CREATED:20250908T130709Z
LAST-MODIFIED:20250908T130709Z
UID:2027-1775397600-1775404800@highdesertbits.com
SUMMARY:Cascade Theatrical Company presents 39 STEPS
DESCRIPTION:Cascade Theatrical Company presents 39 STEPS \nAdapted by Patrick Barlow\nFrom the novel by John Buchan \nSun.\, 4/5 @ 2pm
URL:https://highdesertbits.com/event/cascade-theatrical-company-presents-39-steps-11/
LOCATION:CTC Cascade Theatrical Company\, 148 NW Greenwood Ave\, Bend\, OR\, 97703
ORGANIZER;CN="CTC Cascade Theatrical Company":MAILTO:ctcinfo@cascadestheatrical.org
END:VEVENT
BEGIN:VEVENT
DTSTART;TZID=UTC:20260405T193000
DTEND;TZID=UTC:20260405T220000
DTSTAMP:20260424T000841
CREATED:20260331T130101Z
LAST-MODIFIED:20260331T130101Z
UID:2487-1775417400-1775426400@highdesertbits.com
SUMMARY:Greenhouse Cabaret presents Natasha\, Pierre & the Great Comet of 1812
DESCRIPTION:Greenhouse Cabaret presents Natasha\, Pierre & the Great Comet of 1812 \nElectropop Opera by Dave Malloy \nSun.\, 4/5 @ 7:30pm \n  \nThu.\, 4/9 @ 7:30pm \nFri.\, 4/10 /@ 7:30pm \nSat.\, 4/11 @ 7:30pm \nSun.\, 4/12 @ 7:30pm \n  \nThu.\, 4/16@ 7:30pm \nFri.\, 4/17/@ 7:30pm \nSat.\, 4/18 @ 7:30pm \nSun.\, 4/19 @ 7:30pm \n  \nThu.\, 4/23 @ 7:30pm \nFri.\, 4/24 /@ 7:30pm \nSat.\, 4/25 @ 7:30pm \nSun.\, 4/26 @ 7:30pm \n  \nThu.\, 4/30 @ 7:30pm \nFri.\, 5/1 /@ 7:30pm \nSat.\, 5/2 @ 7:30pm
URL:https://highdesertbits.com/event/greenhouse-cabaret-presents-natasha-pierre-the-great-comet-of-1812-3/
LOCATION:Greenhouse Cabaret\, 1017 NE 2nd St.\, Bend\, OR\, 97701\, United States
END:VEVENT
BEGIN:VEVENT
DTSTART;TZID=UTC:20260409T193000
DTEND;TZID=UTC:20260409T220000
DTSTAMP:20260424T000841
CREATED:20260331T130220Z
LAST-MODIFIED:20260331T130220Z
UID:2489-1775763000-1775772000@highdesertbits.com
SUMMARY:Greenhouse Cabaret presents Natasha\, Pierre & the Great Comet of 1812
DESCRIPTION:Greenhouse Cabaret presents Natasha\, Pierre & the Great Comet of 1812 \nElectropop Opera by Dave Malloy \nThu.\, 4/9 @ 7:30pm \nFri.\, 4/10 /@ 7:30pm \nSat.\, 4/11 @ 7:30pm \nSun.\, 4/12 @ 7:30pm \n  \nThu.\, 4/16@ 7:30pm \nFri.\, 4/17/@ 7:30pm \nSat.\, 4/18 @ 7:30pm \nSun.\, 4/19 @ 7:30pm \n  \nThu.\, 4/23 @ 7:30pm \nFri.\, 4/24 /@ 7:30pm \nSat.\, 4/25 @ 7:30pm \nSun.\, 4/26 @ 7:30pm \n  \nThu.\, 4/30 @ 7:30pm \nFri.\, 5/1 /@ 7:30pm \nSat.\, 5/2 @ 7:30pm
URL:https://highdesertbits.com/event/greenhouse-cabaret-presents-natasha-pierre-the-great-comet-of-1812-4/
LOCATION:Greenhouse Cabaret\, 1017 NE 2nd St.\, Bend\, OR\, 97701\, United States
END:VEVENT
BEGIN:VEVENT
DTSTART;TZID=UTC:20260410T190000
DTEND;TZID=UTC:20260410T210000
DTSTAMP:20260424T000841
CREATED:20250301T144212Z
LAST-MODIFIED:20260406T123730Z
UID:1268-1775847600-1775854800@highdesertbits.com
SUMMARY:Ellipse Theatre Community presents INTO THE BREECHES
DESCRIPTION:Ellipse Theatre Community presents INTO THE BREECHES \nBy George Brant \nFri.\, 4/10 Open Space @ 7pm \nSat.\, 4/11 Open Space @ 2pm and 7pm \nSun.\, High Desert Music Hall 2pm and 7pm (Redmond) \n  \nSat.\, 4/18 Sunriver Christian Fellowship at 2pm \nSun.\, 4/19 LaPine Activity Center @ 2pm \n  \nSat.\, 4/25 Sisters/ Camp Sherman RFPD Center @ 2pm and 7pm \nSun.\, 4/26 Bowman Museum @ 2pm (Prineville) \n  \nSat.\, 5/2 Unity Community Central Oregon @ 3pm
URL:https://highdesertbits.com/event/ellipse-community-theatre-presents-into-the-breeches/
LOCATION:Open Space Event Studio\, 220 NE Lafayette Ave\, Bend\, OR\, 97701
ORGANIZER;CN="ETC Ellipse Theatre Community":MAILTO:https://www.etcbend.org/contact
END:VEVENT
BEGIN:VEVENT
DTSTART;TZID=UTC:20260410T193000
DTEND;TZID=UTC:20260410T220000
DTSTAMP:20260424T000841
CREATED:20260331T130404Z
LAST-MODIFIED:20260331T130404Z
UID:2491-1775849400-1775858400@highdesertbits.com
SUMMARY:Greenhouse Cabaret presents Natasha\, Pierre & the Great Comet of 1812
DESCRIPTION:Greenhouse Cabaret presents Natasha\, Pierre & the Great Comet of 1812 \nElectropop Opera by Dave Malloy \nFri.\, 4/10 /@ 7:30pm \nSat.\, 4/11 @ 7:30pm \nSun.\, 4/12 @ 7:30pm \n  \nThu.\, 4/16@ 7:30pm \nFri.\, 4/17/@ 7:30pm \nSat.\, 4/18 @ 7:30pm \nSun.\, 4/19 @ 7:30pm \n  \nThu.\, 4/23 @ 7:30pm \nFri.\, 4/24 /@ 7:30pm \nSat.\, 4/25 @ 7:30pm \nSun.\, 4/26 @ 7:30pm \n  \nThu.\, 4/30 @ 7:30pm \nFri.\, 5/1 /@ 7:30pm \nSat.\, 5/2 @ 7:30pm
URL:https://highdesertbits.com/event/greenhouse-cabaret-presents-natasha-pierre-the-great-comet-of-1812-5/
LOCATION:Greenhouse Cabaret\, 1017 NE 2nd St.\, Bend\, OR\, 97701\, United States
END:VEVENT
BEGIN:VEVENT
DTSTART;TZID=UTC:20260411T140000
DTEND;TZID=UTC:20260411T160000
DTSTAMP:20260424T000841
CREATED:20260330T123922Z
LAST-MODIFIED:20260406T123652Z
UID:2460-1775916000-1775923200@highdesertbits.com
SUMMARY:Ellipse Theatre Community presents INTO THE BREECHES
DESCRIPTION:EllipseTheatre Community presents INTO THE BREECHES \nBy George Brant \nSat.\, 4/11 Open Space @ 2pm and 7pm \nSun.\, High Desert Music Hall 2pm and 7pm (Redmond) \n  \nSat.\, 4/18 Sunriver Christian Fellowship at 2pm \nSun.\, 4/19 LaPine Activity Center @ 2pm \n  \nSat.\, 4/25 Sisters/ Camp Sherman RFPD Center @ 2pm and 7pm \nSun.\, 4/26 Bowman Museum @ 2pm (Prineville) \n  \nSat.\, 5/2 Unity Community Central Oregon @ 3pm
URL:https://highdesertbits.com/event/ellipse-community-theatre-presents-into-the-breeches-2/
LOCATION:Open Space Event Studio\, 220 NE Lafayette Ave\, Bend\, OR\, 97701
ORGANIZER;CN="ETC Ellipse Theatre Community":MAILTO:https://www.etcbend.org/contact
END:VEVENT
BEGIN:VEVENT
DTSTART;TZID=UTC:20260411T190000
DTEND;TZID=UTC:20260411T210000
DTSTAMP:20260424T000841
CREATED:20260330T124140Z
LAST-MODIFIED:20260406T123620Z
UID:2462-1775934000-1775941200@highdesertbits.com
SUMMARY:Ellipse  Theatre Community presents INTO THE BREECHES
DESCRIPTION:Ellipse Theatre Community presents INTO THE BREECHES \nBy George Brant \nSat.\, 4/11 Open Space @ 7pm \nSun.\, 4/12 High Desert Music Hall 2pm and 7pm (Redmond) \n  \nSat.\, 4/18 Sunriver Christian Fellowship at 2pm \nSun.\, 4/19 LaPine Activity Center @ 2pm \n  \nSat.\, 4/25 Sisters/ Camp Sherman RFPD Center @ 2pm and 7pm \nSun.\, 4/26 Bowman Museum @ 2pm (Prineville) \n  \nSat.\, 5/2 Unity Community Central Oregon @ 3pm
URL:https://highdesertbits.com/event/ellipse-community-theatre-presents-into-the-breeches-3/
LOCATION:Open Space Event Studio\, 220 NE Lafayette Ave\, Bend\, OR\, 97701
ORGANIZER;CN="ETC Ellipse Theatre Community":MAILTO:https://www.etcbend.org/contact
END:VEVENT
BEGIN:VEVENT
DTSTART;TZID=UTC:20260411T193000
DTEND;TZID=UTC:20260411T220000
DTSTAMP:20260424T000841
CREATED:20260331T130541Z
LAST-MODIFIED:20260331T130541Z
UID:2493-1775935800-1775944800@highdesertbits.com
SUMMARY:Greenhouse Cabaret presents Natasha\, Pierre & the Great Comet of 1812
DESCRIPTION:Greenhouse Cabaret presents Natasha\, Pierre & the Great Comet of 1812 \nElectropop Opera by Dave Malloy \nSat.\, 4/11 @ 7:30pm \nSun.\, 4/12 @ 7:30pm \n  \nThu.\, 4/16@ 7:30pm \nFri.\, 4/17/@ 7:30pm \nSat.\, 4/18 @ 7:30pm \nSun.\, 4/19 @ 7:30pm \n  \nThu.\, 4/23 @ 7:30pm \nFri.\, 4/24 /@ 7:30pm \nSat.\, 4/25 @ 7:30pm \nSun.\, 4/26 @ 7:30pm \n  \nThu.\, 4/30 @ 7:30pm \nFri.\, 5/1 /@ 7:30pm \nSat.\, 5/2 @ 7:30pm
URL:https://highdesertbits.com/event/greenhouse-cabaret-presents-natasha-pierre-the-great-comet-of-1812-6/
LOCATION:Greenhouse Cabaret\, 1017 NE 2nd St.\, Bend\, OR\, 97701\, United States
END:VEVENT
BEGIN:VEVENT
DTSTART;TZID=UTC:20260412T140000
DTEND;TZID=UTC:20260412T160000
DTSTAMP:20260424T000841
CREATED:20260330T124417Z
LAST-MODIFIED:20260406T123545Z
UID:2464-1776002400-1776009600@highdesertbits.com
SUMMARY:Ellipse  Theatre Community presents INTO THE BREECHES
DESCRIPTION:Ellipse Theatre Community presents INTO THE BREECHES \nBy George Brant \nSun.\, 4/12 High Desert Music Hall 2pm and 7pm (Redmond) \n  \nSat.\, 4/18 Sunriver Christian Fellowship at 2pm \nSun.\, 4/19 LaPine Activity Center @ 2pm \n  \nSat.\, 4/25 Sisters/ Camp Sherman RFPD Center @ 2pm and 7pm \nSun.\, 4/26 Bowman Museum @ 2pm (Prineville) \n  \nSat.\, 5/2 Unity Community Central Oregon @ 3pm and 7pm
URL:https://highdesertbits.com/event/ellipse-community-theatre-presents-into-the-breeches-4/
LOCATION:High Desert Music Hall\, 818 SW Forest Ave\, Redmond\, OR\, 97756
ORGANIZER;CN="ETC Ellipse Theatre Community":MAILTO:https://www.etcbend.org/contact
END:VEVENT
END:VCALENDAR