BEGIN:VCALENDAR
VERSION:2.0
PRODID:-//High Desert B.I.T.S. - ECPv6.15.20//NONSGML v1.0//EN
CALSCALE:GREGORIAN
METHOD:PUBLISH
X-ORIGINAL-URL:https://highdesertbits.com
X-WR-CALDESC:Events for High Desert B.I.T.S.
REFRESH-INTERVAL;VALUE=DURATION:PT1H
X-Robots-Tag:noindex
X-PUBLISHED-TTL:PT1H
BEGIN:VTIMEZONE
TZID:UTC
BEGIN:STANDARD
TZOFFSETFROM:+0000
TZOFFSETTO:+0000
TZNAME:UTC
DTSTART:20230101T000000
END:STANDARD
END:VTIMEZONE
BEGIN:VEVENT
DTSTART;TZID=UTC:20241005T140000
DTEND;TZID=UTC:20241005T160000
DTSTAMP:20260425T135204
CREATED:20240919T151803Z
LAST-MODIFIED:20240924T053056Z
UID:182-1728136800-1728144000@highdesertbits.com
SUMMARY:Ellipse Theatre Community presents LAST TRAIN TO NIBROC
DESCRIPTION:
URL:https://highdesertbits.com/event/ellipse-theatre-community-presents-last-train-to-nibroc-8/
LOCATION:Sisters/Camp Sherman RFPD Community Hall\, 301 S Elm St\, Sisters\, OR\, 97759
ATTACH;FMTTYPE=image/jpeg:https://highdesertbits.com/wp-content/uploads/2024/08/images.jpeg
ORGANIZER;CN="ETC Ellipse Theatre Community":MAILTO:https://www.etcbend.org/contact
END:VEVENT
BEGIN:VEVENT
DTSTART;TZID=UTC:20241005T140000
DTEND;TZID=UTC:20241005T160000
DTSTAMP:20260425T135204
CREATED:20240929T011550Z
LAST-MODIFIED:20240929T011550Z
UID:546-1728136800-1728144000@highdesertbits.com
SUMMARY:Meadow Sky Producitons presents A Midsummer Night's Dream matinee
DESCRIPTION:Meadow Sky Producitons presents Shakespear’s A MIDSUMMER NIGHT’S Dream \n10/4 @7pm \n10/5 @ 2pm and 7pm \n10/11 @ 7pm \n10/12 @ 2pm and 7pm
URL:https://highdesertbits.com/event/meadow-sky-producitons-presents-a-midsummer-nights-dream-matinee/
LOCATION:High Desert Music Hall\, 818 SW Forest Ave\, Redmond\, OR\, 97756
END:VEVENT
BEGIN:VEVENT
DTSTART;TZID=UTC:20241005T190000
DTEND;TZID=UTC:20241005T210000
DTSTAMP:20260425T135204
CREATED:20240919T151913Z
LAST-MODIFIED:20240919T151913Z
UID:185-1728154800-1728162000@highdesertbits.com
SUMMARY:Ellipse Theatre Community presents LAST TRAIN TO NIBROC
DESCRIPTION:
URL:https://highdesertbits.com/event/ellipse-theatre-community-presents-last-train-to-nibroc-9/
LOCATION:Sisters/Camp Sherman RFPD Community Hall\, 301 S Elm St\, Sisters\, OR\, 97759
ORGANIZER;CN="ETC Ellipse Theatre Community":MAILTO:https://www.etcbend.org/contact
END:VEVENT
BEGIN:VEVENT
DTSTART;TZID=UTC:20241005T190000
DTEND;TZID=UTC:20241005T210000
DTSTAMP:20260425T135204
CREATED:20240929T011730Z
LAST-MODIFIED:20240929T011730Z
UID:548-1728154800-1728162000@highdesertbits.com
SUMMARY:Meadow Sky Productions presents A MIDSUMMER NIGHT'S DREAM
DESCRIPTION:Meadow Sky Producitons presents Shakespear’s A MIDSUMMER NIGHT’S Dream \n10/4 @7pm \n10/5 @ 2pm and 7pm \n10/11 @ 7pm \n10/12 @ 2pm and 7pm
URL:https://highdesertbits.com/event/meadow-sky-productions-presents-a-midsummer-nights-dream-2/
LOCATION:High Desert Music Hall\, 818 SW Forest Ave\, Redmond\, OR\, 97756
END:VEVENT
BEGIN:VEVENT
DTSTART;TZID=UTC:20241006T120000
DTEND;TZID=UTC:20241006T150000
DTSTAMP:20260425T135204
CREATED:20240928T221546Z
LAST-MODIFIED:20240928T221546Z
UID:487-1728216000-1728226800@highdesertbits.com
SUMMARY:AUDITIONS for CTC's THE PROM
DESCRIPTION:The Prom \nMusic by Matthew Sklar \nBook by Bob Martin\, Chad Beguelin \nLyrics by Chad Beguelin \nOct. 4\, 6-9pm \nOct. 5\, noon-3pm \nOct 6\, noon-3pm \nShow dates jan 10-19\, 2025 \nRole details on CTC website
URL:https://highdesertbits.com/event/auditions-for-ctcs-the-prom-3/
LOCATION:CTC Cascade Theatrical Company\, 148 NW Greenwood Ave\, Bend\, OR\, 97703
END:VEVENT
BEGIN:VEVENT
DTSTART;TZID=UTC:20241006T140000
DTEND;TZID=UTC:20241006T160000
DTSTAMP:20260425T135204
CREATED:20240919T152146Z
LAST-MODIFIED:20240919T152146Z
UID:187-1728223200-1728230400@highdesertbits.com
SUMMARY:Ellipse Theatre Community presents LAST TRAIN TO NIBROC
DESCRIPTION:
URL:https://highdesertbits.com/event/ellipse-theatre-community-presents-last-train-to-nibroc-10/
LOCATION:Bowman Historical Museum\, 246 N Main Street\, Prineville\, OR\, 97754\, United States
ORGANIZER;CN="ETC Ellipse Theatre Community":MAILTO:https://www.etcbend.org/contact
END:VEVENT
BEGIN:VEVENT
DTSTART;TZID=UTC:20241011T190000
DTEND;TZID=UTC:20241011T210000
DTSTAMP:20260425T135204
CREATED:20240929T011908Z
LAST-MODIFIED:20240929T011908Z
UID:550-1728673200-1728680400@highdesertbits.com
SUMMARY:Meadow Sky Productions presents A MIDSUMMER NIIGHT'S DREAM
DESCRIPTION:Meadow Sky Producitons presents Shakespear’s A MIDSUMMER NIGHT’S Dream \n10/4 @7pm \n10/5 @ 2pm and 7pm \n10/11 @ 7pm \n10/12 @ 2pm and 7pm
URL:https://highdesertbits.com/event/meadow-sky-productions-presents-a-midsummer-niights-dream/
LOCATION:High Desert Music Hall\, 818 SW Forest Ave\, Redmond\, OR\, 97756
END:VEVENT
BEGIN:VEVENT
DTSTART;TZID=UTC:20241012T140000
DTEND;TZID=UTC:20241012T160000
DTSTAMP:20260425T135204
CREATED:20240929T012041Z
LAST-MODIFIED:20240929T012041Z
UID:552-1728741600-1728748800@highdesertbits.com
SUMMARY:Meadow Sky Productions presents A MIDSUMMER NIGHT'S DREAM matinee
DESCRIPTION:Meadow Sky Producitons presents Shakespear’s A MIDSUMMER NIGHT’S Dream \n10/4 @7pm \n10/5 @ 2pm and 7pm \n10/11 @ 7pm \n10/12 @ 2pm and 7pm
URL:https://highdesertbits.com/event/meadow-sky-productions-presents-a-midsummer-nights-dream-matinee/
LOCATION:High Desert Music Hall\, 818 SW Forest Ave\, Redmond\, OR\, 97756
END:VEVENT
BEGIN:VEVENT
DTSTART;TZID=UTC:20241012T190000
DTEND;TZID=UTC:20241012T210000
DTSTAMP:20260425T135204
CREATED:20240929T012312Z
LAST-MODIFIED:20240929T012312Z
UID:554-1728759600-1728766800@highdesertbits.com
SUMMARY:Meadow Sky Producitons presents A MIDSUMMER NIGHT'S DREAM
DESCRIPTION:Meadow Sky Producitons presents Shakespear’s A MIDSUMMER NIGHT’S Dream \n10/4 @7pm \n10/5 @ 2pm and 7pm \n10/11 @ 7pm \n10/12 @ 2pm and 7pm
URL:https://highdesertbits.com/event/meadow-sky-producitons-presents-a-midsummer-nights-dream/
LOCATION:High Desert Music Hall\, 818 SW Forest Ave\, Redmond\, OR\, 97756
END:VEVENT
BEGIN:VEVENT
DTSTART;TZID=UTC:20241013T140000
DTEND;TZID=UTC:20241013T160000
DTSTAMP:20260425T135204
CREATED:20240919T152414Z
LAST-MODIFIED:20240919T152414Z
UID:190-1728828000-1728835200@highdesertbits.com
SUMMARY:Ellipse Theatre Community presents LAST TRAIN TO NIBROC
DESCRIPTION:
URL:https://highdesertbits.com/event/ellipse-theatre-community-presents-last-train-to-nibroc-11/
LOCATION:Downtown Bend Library\, 601 NW Wall Street\, Bend\, OR\, 97703
ORGANIZER;CN="ETC Ellipse Theatre Community":MAILTO:https://www.etcbend.org/contact
END:VEVENT
BEGIN:VEVENT
DTSTART;TZID=UTC:20241018T080000
DTEND;TZID=UTC:20241019T170000
DTSTAMP:20260425T135204
CREATED:20240830T061238Z
LAST-MODIFIED:20240925T004210Z
UID:102-1729238400-1729357200@highdesertbits.com
SUMMARY:Ellipse Theater Community presents VOICELESS: A Musical
DESCRIPTION:Ellipse Theater Community presents VOICELESS: A MUSICAL \nWritten by Yasmina Reza \nOctober 18-19\, 2024
URL:https://highdesertbits.com/event/ellipse-theater-community-presents-voiceless-a-musical/
LOCATION:OR
END:VEVENT
BEGIN:VEVENT
DTSTART;TZID=UTC:20241018T180000
DTEND;TZID=UTC:20241018T210000
DTSTAMP:20260425T135204
CREATED:20241014T135525Z
LAST-MODIFIED:20241014T163255Z
UID:612-1729274400-1729285200@highdesertbits.com
SUMMARY:CCHS presents STAGE FRIGHT HAUNTED HOUSE FUNDRAISER
DESCRIPTION:Crook County High School presents Stage Fright Haunted House Fundraiser \n10/18 from 6-9pm\,  10/20 from 6-10pm\,  10/20 6-9pm \n10/25 6-9pm\,  10/26 6-10pm\,  10/27 6-9pm \nAt the Crooked River Amphitheater at Les Scwab fields
URL:https://highdesertbits.com/event/cchs-presents-stage-fright-haunted-house-fundraiser/
LOCATION:Crooked River Amphitheater @ Les Schwab fields\, S Main St\, Prineville\, OR\, 97754
END:VEVENT
BEGIN:VEVENT
DTSTART;TZID=UTC:20241018T190000
DTEND;TZID=UTC:20241018T210000
DTSTAMP:20260425T135204
CREATED:20240919T153541Z
LAST-MODIFIED:20240919T153541Z
UID:193-1729278000-1729285200@highdesertbits.com
SUMMARY:Ridgeview High School Presents FALL RADIO PLAYS
DESCRIPTION:Fall Radio Plays directed and performed in Ridgeview’s Black Box theater. \nHouse opens 30 minutes before curtain. \nGeneral admission/ seats approx 110 \n 
URL:https://highdesertbits.com/event/ridgeview-high-school-presents-fall-radio-plays/
LOCATION:Ridgeview High School\, 4555 SW Elkhorn Ave\, Redmond\, OR\, 97756
END:VEVENT
BEGIN:VEVENT
DTSTART;TZID=UTC:20241018T193000
DTEND;TZID=UTC:20241018T213000
DTSTAMP:20260425T135204
CREATED:20240830T052539Z
LAST-MODIFIED:20240928T141233Z
UID:94-1729279800-1729287000@highdesertbits.com
SUMMARY:CTC presents  DRACULA: A COMEDY OF TERRORS
DESCRIPTION:CTC’s Dracula: A Comedy of Terrors \nby Gordon Greenberg and Steve Rosen \nOct 18-Nov. 3rd\, 2024
URL:https://highdesertbits.com/event/ctcs-dracula-a-comedy-of-terrors-by-gordon-greenberg-and-steve-rosen/
LOCATION:CTC Cascade Theatrical Company\, 148 NW Greenwood Ave\, Bend\, OR\, 97703
END:VEVENT
BEGIN:VEVENT
DTSTART;TZID=UTC:20241019T140000
DTEND;TZID=UTC:20241019T160000
DTSTAMP:20260425T135204
CREATED:20240919T153717Z
LAST-MODIFIED:20240919T153717Z
UID:196-1729346400-1729353600@highdesertbits.com
SUMMARY:Ridgeview High School presents Fall Radio Plays
DESCRIPTION:Fall Radio Plays directed and performed in Ridgeview’s Black Box theater. \nHouse opens 30 minutes before curtain. \nGeneral admission/ seats approx 110
URL:https://highdesertbits.com/event/ridgeview-high-school-presents-fall-radio-plays-2/
LOCATION:Ridgeview High School\, 4555 SW Elkhorn Ave\, Redmond\, OR\, 97756
END:VEVENT
BEGIN:VEVENT
DTSTART;TZID=UTC:20241019T180000
DTEND;TZID=UTC:20241019T220000
DTSTAMP:20260425T135204
CREATED:20241014T135717Z
LAST-MODIFIED:20241014T135717Z
UID:616-1729360800-1729375200@highdesertbits.com
SUMMARY:CCHS presents STAGE FRIGHT HAUNTED HOUSE FUNDRAISER
DESCRIPTION:Crook County High School presents Stage Fright Haunted House Fundraiser \n10/18 from 6-9pm\,  10/20 from 6-10pm\,  10/20 6-9pm \n10/25 6-9pm\,  10/26 6-10pm\,  10/27 6-9pm \nAt the Crooked River Amphitheater at Les Scwab fields
URL:https://highdesertbits.com/event/cchs-presents-stage-fright-haunted-house-fundraiser-2/
LOCATION:Crooked River Amphitheater @ Les Schwab fields\, S Main St\, Prineville\, OR\, 97754
END:VEVENT
BEGIN:VEVENT
DTSTART;TZID=UTC:20241019T190000
DTEND;TZID=UTC:20241019T210000
DTSTAMP:20260425T135204
CREATED:20240919T154034Z
LAST-MODIFIED:20240919T154052Z
UID:198-1729364400-1729371600@highdesertbits.com
SUMMARY:Ridgeview High School presents Fall Radio Plays
DESCRIPTION:Ridgeview students direct and perform Fall Radio Plays \nBlack Box Theater \nGeneral admission/ 110 seating available \nHouse opens 30 minutes before curtain
URL:https://highdesertbits.com/event/ridgeview-high-school-presents-fall-radio-plays-3/
LOCATION:Ridgeview High School\, 4555 SW Elkhorn Ave\, Redmond\, OR\, 97756
END:VEVENT
BEGIN:VEVENT
DTSTART;TZID=UTC:20241019T193000
DTEND;TZID=UTC:20241019T213000
DTSTAMP:20260425T135204
CREATED:20240928T141420Z
LAST-MODIFIED:20240928T141420Z
UID:436-1729366200-1729373400@highdesertbits.com
SUMMARY:CTC presents DRACULA: A COMEDY OF TERRORS
DESCRIPTION:CTC’s Dracula: A Comedy of Terrors \nby Gordon Greenberg and Steve Rosen \nOct 18-Nov. 3rd\, 2024
URL:https://highdesertbits.com/event/ctc-presents-dracula-a-comedy-of-terrors/
LOCATION:CTC Cascade Theatrical Company\, 148 NW Greenwood Ave\, Bend\, OR\, 97703
END:VEVENT
BEGIN:VEVENT
DTSTART;TZID=UTC:20241020T140000
DTEND;TZID=UTC:20241020T160000
DTSTAMP:20260425T135204
CREATED:20240929T001409Z
LAST-MODIFIED:20240929T002703Z
UID:539-1729432800-1729440000@highdesertbits.com
SUMMARY:CHURCHILL at the Tower Theatre
DESCRIPTION:Presented by Emery Producitons\, starring David Payne in this riviting one man show. \nTickets at www.Towertheatre.org \nOct. 20 at 2pm
URL:https://highdesertbits.com/event/churchill-at-the-tower-theatre/
LOCATION:Tower Theatre\, 835 NW Wall St\, Bend\, OR\, 97703\, United States
END:VEVENT
BEGIN:VEVENT
DTSTART;TZID=UTC:20241020T180000
DTEND;TZID=UTC:20241020T210000
DTSTAMP:20260425T135204
CREATED:20241014T140528Z
LAST-MODIFIED:20241014T164208Z
UID:618-1729447200-1729458000@highdesertbits.com
SUMMARY:CCHS presents STAGE FRIGHT HAUNTED HOUSE FUNDRAISER
DESCRIPTION:Crook County High School presents Stage Fright Haunted House Fundraiser \n10/18 from 6-9pm\,  10/20 from 6-10pm\,  10/20 6-9pm \n10/25 6-9pm\,  10/26 6-10pm\,  10/27 6-9pm \nAt the Crooked River Amphitheater at Les Scwab fields
URL:https://highdesertbits.com/event/cchs-presents-stae-fright/
LOCATION:Crooked River Amphitheater @ Les Schwab fields\, S Main St\, Prineville\, OR\, 97754
END:VEVENT
BEGIN:VEVENT
DTSTART;TZID=UTC:20241020T193000
DTEND;TZID=UTC:20241020T213000
DTSTAMP:20260425T135204
CREATED:20240928T141533Z
LAST-MODIFIED:20240928T141533Z
UID:438-1729452600-1729459800@highdesertbits.com
SUMMARY:CTC presents DRACULA: A COMEDY OF TERRORS
DESCRIPTION:CTC’s Dracula: A Comedy of Terrors \nby Gordon Greenberg and Steve Rosen \nOct 18-Nov. 3rd\, 2024
URL:https://highdesertbits.com/event/ctc-presents-dracula-a-comedy-of-terrors-2/
LOCATION:CTC Cascade Theatrical Company\, 148 NW Greenwood Ave\, Bend\, OR\, 97703
END:VEVENT
BEGIN:VEVENT
DTSTART;TZID=UTC:20241024T193000
DTEND;TZID=UTC:20241024T213000
DTSTAMP:20260425T135204
CREATED:20240928T141647Z
LAST-MODIFIED:20240928T141647Z
UID:440-1729798200-1729805400@highdesertbits.com
SUMMARY:CTC presents DRACULA: A COMDEY OF TERRORS
DESCRIPTION:CTC’s Dracula: A Comedy of Terrors \nby Gordon Greenberg and Steve Rosen \nOct 18-Nov. 3rd\, 2024
URL:https://highdesertbits.com/event/ctc-presents-dracula-a-comdey-of-terrors/
LOCATION:CTC Cascade Theatrical Company\, 148 NW Greenwood Ave\, Bend\, OR\, 97703
END:VEVENT
BEGIN:VEVENT
DTSTART;TZID=UTC:20241025T080000
DTEND;TZID=UTC:20241025T170000
DTSTAMP:20260425T135204
CREATED:20240928T141749Z
LAST-MODIFIED:20240928T141749Z
UID:442-1729843200-1729875600@highdesertbits.com
SUMMARY:CTC presents DRACULA: A COMEDY OF TERRORS
DESCRIPTION:CTC’s Dracula: A Comedy of Terrors \nby Gordon Greenberg and Steve Rosen \nOct 18-Nov. 3rd\, 2024
URL:https://highdesertbits.com/event/ctc-presents-dracula-a-comedy-of-terrors-3/
LOCATION:CTC Cascade Theatrical Company\, 148 NW Greenwood Ave\, Bend\, OR\, 97703
END:VEVENT
BEGIN:VEVENT
DTSTART;TZID=UTC:20241025T180000
DTEND;TZID=UTC:20241025T210000
DTSTAMP:20260425T135204
CREATED:20241021T044154Z
LAST-MODIFIED:20241021T044154Z
UID:662-1729879200-1729890000@highdesertbits.com
SUMMARY:RPA presents THE SERVANT OF TWO MASTERS
DESCRIPTION:Redmond Proficiency Academy presents The Servant of Two Masters\, a hilarious modern adaptation by Oded Gross of the classic Italian farce! \n10/25 and 10/26 at 6pm\, 10/27 at 2pm \n11/1 and 11/2 at 6pm \nRPA McClay Center of the Performing Arts \nTickets at https://ticketleap.events/tickets/rpatheatre/servant \nhttps://www.facebook.com/rpatheatre/
URL:https://highdesertbits.com/event/rpa-presents-the-servant-of-two-masters/
LOCATION:RPA at McClay Center of the Performing Arts\, 640 SW Evrgreen Ave\, Redmond\, OR\, 97756\, United States
END:VEVENT
BEGIN:VEVENT
DTSTART;TZID=UTC:20241025T180000
DTEND;TZID=UTC:20241025T220000
DTSTAMP:20260425T135204
CREATED:20241014T163628Z
LAST-MODIFIED:20241014T163628Z
UID:623-1729879200-1729893600@highdesertbits.com
SUMMARY:CCHS presents STAGE FRIGHT HAUNTED HOUSE FUNDRAISER
DESCRIPTION:Crook County High School presents Stage Fright Haunted House Fundraiser \n10/18 from 6-9pm\,  10/20 from 6-10pm\,  10/20 6-9pm \n10/25 6-9pm\,  10/26 6-10pm\,  10/27 6-9pm \nAt the Crooked River Amphitheater at Les Scwab fields
URL:https://highdesertbits.com/event/cchs-presents-stage-fright-haunted-house-fundraiser-3/
LOCATION:Crooked River Amphitheater @ Les Schwab fields\, S Main St\, Prineville\, OR\, 97754
END:VEVENT
BEGIN:VEVENT
DTSTART;TZID=UTC:20241025T190000
DTEND;TZID=UTC:20241025T210000
DTSTAMP:20260425T135204
CREATED:20240830T060127Z
LAST-MODIFIED:20240928T134621Z
UID:98-1729882800-1729890000@highdesertbits.com
SUMMARY:Greenhouse Cabaret presents Sweeney Todd
DESCRIPTION:Greenhouse Cabaret presents SWEENEY TODD \nMusic and lyrics by Stephen Sondheim \nBook by Hugh Wheeler \n  \nOct. 25-Nov. 23
URL:https://highdesertbits.com/event/greenhouse-cabaret-presents-sweeney-todd/
LOCATION:Greenhouse Cabaret\, 1017 NE 2nd St.\, Bend\, OR\, 97701\, United States
END:VEVENT
BEGIN:VEVENT
DTSTART;TZID=UTC:20241025T190000
DTEND;TZID=UTC:20241025T220000
DTSTAMP:20260425T135204
CREATED:20241010T142201Z
LAST-MODIFIED:20241013T141330Z
UID:592-1729882800-1729893600@highdesertbits.com
SUMMARY:Mountain View High School Presents TRAVELING TERRORS
DESCRIPTION:Traveling Terrors is an immersive haunted house experience! \nOct 25-27 \n  \nInstagram @mvhstheatredepartment \nHome page  https://sites.google.com/bend.k12.or.us/mountain-view-theatre/home?authuser=O
URL:https://highdesertbits.com/event/mountain-view-high-school-presents-traveling-terrors-3/
LOCATION:Mt. View High School\, 2755 NE 27th St\,\, Bend\, OR\, 97701\, United States
END:VEVENT
BEGIN:VEVENT
DTSTART;TZID=UTC:20241026T080000
DTEND;TZID=UTC:20241026T170000
DTSTAMP:20260425T135204
CREATED:20240928T141850Z
LAST-MODIFIED:20240928T141850Z
UID:444-1729929600-1729962000@highdesertbits.com
SUMMARY:CTC presents DRACULA: A COMEDY OF TERRORS
DESCRIPTION:CTC’s Dracula: A Comedy of Terrors \nby Gordon Greenberg and Steve Rosen \nOct 18-Nov. 3rd\, 2024
URL:https://highdesertbits.com/event/ctc-presents-dracula-a-comedy-of-terrors-4/
LOCATION:CTC Cascade Theatrical Company\, 148 NW Greenwood Ave\, Bend\, OR\, 97703
END:VEVENT
BEGIN:VEVENT
DTSTART;TZID=UTC:20241026T100000
DTEND;TZID=UTC:20241026T160000
DTSTAMP:20260425T135204
CREATED:20240928T145520Z
LAST-MODIFIED:20240928T220816Z
UID:480-1729936800-1729958400@highdesertbits.com
SUMMARY:AUDITIONS for CTC 's GRAND HORIZONS
DESCRIPTION:CTC presents Grand Horizons by Sean Grennan \nRomantic Comedy \nShow dates are Feb 14-March 2\, 2024 \n  \nAUDITIONS 10/26 10am-4pm
URL:https://highdesertbits.com/event/auditions-for-ctc-s-grand-horizons/
LOCATION:CTC Cascade Theatrical Company\, 148 NW Greenwood Ave\, Bend\, OR\, 97703
END:VEVENT
BEGIN:VEVENT
DTSTART;TZID=UTC:20241026T170000
DTEND;TZID=UTC:20241026T220000
DTSTAMP:20260425T135204
CREATED:20241010T141903Z
LAST-MODIFIED:20241013T141907Z
UID:590-1729962000-1729980000@highdesertbits.com
SUMMARY:Mountain View High School presents TRAVELING TERRORS
DESCRIPTION:Traveling Terrors is an immersive haunted house experience! \nOct 25-27 \n  \nInstagram @mvhstheatredepartment \nHome page  https://sites.google.com/bend.k12.or.us/mountain-view-theatre/home?authuser=O
URL:https://highdesertbits.com/event/mountain-view-high-school-presents-traveling-terrors-2/
LOCATION:Mt. View High School\, 2755 NE 27th St\,\, Bend\, OR\, 97701\, United States
END:VEVENT
END:VCALENDAR