BEGIN:VCALENDAR
VERSION:2.0
PRODID:-//High Desert B.I.T.S. - ECPv6.15.20//NONSGML v1.0//EN
CALSCALE:GREGORIAN
METHOD:PUBLISH
X-ORIGINAL-URL:https://highdesertbits.com
X-WR-CALDESC:Events for High Desert B.I.T.S.
REFRESH-INTERVAL;VALUE=DURATION:PT1H
X-Robots-Tag:noindex
X-PUBLISHED-TTL:PT1H
BEGIN:VTIMEZONE
TZID:UTC
BEGIN:STANDARD
TZOFFSETFROM:+0000
TZOFFSETTO:+0000
TZNAME:UTC
DTSTART:20250101T000000
END:STANDARD
END:VTIMEZONE
BEGIN:VEVENT
DTSTART;TZID=UTC:20260416T193000
DTEND;TZID=UTC:20260416T220000
DTSTAMP:20260423T211433
CREATED:20260331T130825Z
LAST-MODIFIED:20260331T130825Z
UID:2497-1776367800-1776376800@highdesertbits.com
SUMMARY:Greenhouse Cabaret presents Natasha\, Pierre & the Great Comet of 1812
DESCRIPTION:Greenhouse Cabaret presents Natasha\, Pierre & the Great Comet of 1812 \nElectropop Opera by Dave Malloy \nThu.\, 4/16@ 7:30pm \nFri.\, 4/17/@ 7:30pm \nSat.\, 4/18 @ 7:30pm \nSun.\, 4/19 @ 7:30pm \n  \nThu.\, 4/23 @ 7:30pm \nFri.\, 4/24 /@ 7:30pm \nSat.\, 4/25 @ 7:30pm \nSun.\, 4/26 @ 7:30pm \n  \nThu.\, 4/30 @ 7:30pm \nFri.\, 5/1 /@ 7:30pm \nSat.\, 5/2 @ 7:30pm
URL:https://highdesertbits.com/event/greenhouse-cabaret-presents-natasha-pierre-the-great-comet-of-1812-8/
LOCATION:Greenhouse Cabaret\, 1017 NE 2nd St.\, Bend\, OR\, 97701\, United States
END:VEVENT
BEGIN:VEVENT
DTSTART;TZID=UTC:20260417T193000
DTEND;TZID=UTC:20260417T220000
DTSTAMP:20260423T211433
CREATED:20260331T130954Z
LAST-MODIFIED:20260331T130954Z
UID:2499-1776454200-1776463200@highdesertbits.com
SUMMARY:Greenhouse Cabaret presents Natasha\, Pierre & the Great Comet of 1812
DESCRIPTION:Greenhouse Cabaret presents Natasha\, Pierre & the Great Comet of 1812 \nElectropop Opera by Dave Malloy \nFri.\, 4/17/@ 7:30pm \nSat.\, 4/18 @ 7:30pm \nSun.\, 4/19 @ 7:30pm \n  \nThu.\, 4/23 @ 7:30pm \nFri.\, 4/24 /@ 7:30pm \nSat.\, 4/25 @ 7:30pm \nSun.\, 4/26 @ 7:30pm \n  \nThu.\, 4/30 @ 7:30pm \nFri.\, 5/1 /@ 7:30pm \nSat.\, 5/2 @ 7:30pm
URL:https://highdesertbits.com/event/greenhouse-cabaret-presents-natasha-pierre-the-great-comet-of-1812-9/
LOCATION:Greenhouse Cabaret\, 1017 NE 2nd St.\, Bend\, OR\, 97701\, United States
END:VEVENT
BEGIN:VEVENT
DTSTART;TZID=UTC:20260418T140000
DTEND;TZID=UTC:20260418T160000
DTSTAMP:20260423T211433
CREATED:20260330T124904Z
LAST-MODIFIED:20260330T124904Z
UID:2468-1776520800-1776528000@highdesertbits.com
SUMMARY:Ellipse Community Theatre presents INTO THE BREECHES
DESCRIPTION:Ellipse Community Theatre presents INTO THE BREECHES \nBy George Brant \nSat.\, 4/18 Sunriver Christian Fellowship at 2pm \nSun.\, 4/19 LaPine Activity Center @ 2pm \n  \nSat.\, 4/25 Sisters/ Camp Sherman RFPD Center @ 2pm and 7pm \nSun.\, 4/26 Bowman Museum @ 2pm (Prineville) \n  \nSat.\, 5/2 Unity Community Central Oregon @ 3pm and 7pm
URL:https://highdesertbits.com/event/ellipse-community-theatre-presents-into-the-breeches-6/
LOCATION:Sunriver Christian Fellowship\, 18139 Cottonwood Road\, Sunriver\, OR\, 97707
ORGANIZER;CN="ETC Ellipse Theatre Community":MAILTO:https://www.etcbend.org/contact
END:VEVENT
BEGIN:VEVENT
DTSTART;TZID=UTC:20260418T193000
DTEND;TZID=UTC:20260418T220000
DTSTAMP:20260423T211433
CREATED:20260331T131113Z
LAST-MODIFIED:20260331T131113Z
UID:2501-1776540600-1776549600@highdesertbits.com
SUMMARY:Greenhouse Cabaret presents Natasha\, Pierre & the Great Comet of 1812
DESCRIPTION:Greenhouse Cabaret presents Natasha\, Pierre & the Great Comet of 1812 \nElectropop Opera by Dave Malloy \nSat.\, 4/18 @ 7:30pm \nSun.\, 4/19 @ 7:30pm \n  \nThu.\, 4/23 @ 7:30pm \nFri.\, 4/24 /@ 7:30pm \nSat.\, 4/25 @ 7:30pm \nSun.\, 4/26 @ 7:30pm \n  \nThu.\, 4/30 @ 7:30pm \nFri.\, 5/1 /@ 7:30pm \nSat.\, 5/2 @ 7:30pm
URL:https://highdesertbits.com/event/greenhouse-cabaret-presents-natasha-pierre-the-great-comet-of-1812-10/
LOCATION:Greenhouse Cabaret\, 1017 NE 2nd St.\, Bend\, OR\, 97701\, United States
END:VEVENT
BEGIN:VEVENT
DTSTART;TZID=UTC:20260419T140000
DTEND;TZID=UTC:20260419T160000
DTSTAMP:20260423T211433
CREATED:20260330T125031Z
LAST-MODIFIED:20260406T123410Z
UID:2470-1776607200-1776614400@highdesertbits.com
SUMMARY:Ellipse Theatre Community presents INTO THE BREECHES
DESCRIPTION:Ellipse Theatre Community  presents INTO THE BREECHES \nBy George Brant \nSun.\, 4/19 LaPine Activity Center @ 2pm \n  \nSat.\, 4/25 Sisters/ Camp Sherman RFPD Center @ 2pm and 7pm \nSun.\, 4/26 Bowman Museum @ 2pm (Prineville) \n  \nSat.\, 5/2 Unity Community Central Oregon @ 3pm and 7pm
URL:https://highdesertbits.com/event/ellipse-community-theatre-presents-into-the-breeches-7/
LOCATION:LaPine Activity Center\, 16450 Victory Way\, LaPine\, OR\, 97739\, United States
ORGANIZER;CN="ETC Ellipse Theatre Community":MAILTO:https://www.etcbend.org/contact
END:VEVENT
BEGIN:VEVENT
DTSTART;TZID=UTC:20260419T193000
DTEND;TZID=UTC:20260419T220000
DTSTAMP:20260423T211433
CREATED:20260331T131245Z
LAST-MODIFIED:20260331T131245Z
UID:2503-1776627000-1776636000@highdesertbits.com
SUMMARY:Greenhouse Cabaret presents Natasha\, Pierre & the Great Comet of 1812
DESCRIPTION:Greenhouse Cabaret presents Natasha\, Pierre & the Great Comet of 1812 \nElectropop Opera by Dave Malloy \nSun.\, 4/19 @ 7:30pm \n  \nThu.\, 4/23 @ 7:30pm \nFri.\, 4/24 /@ 7:30pm \nSat.\, 4/25 @ 7:30pm \nSun.\, 4/26 @ 7:30pm \n  \nThu.\, 4/30 @ 7:30pm \nFri.\, 5/1 /@ 7:30pm \nSat.\, 5/2 @ 7:30pm
URL:https://highdesertbits.com/event/greenhouse-cabaret-presents-natasha-pierre-the-great-comet-of-1812-11/
LOCATION:Greenhouse Cabaret\, 1017 NE 2nd St.\, Bend\, OR\, 97701\, United States
END:VEVENT
BEGIN:VEVENT
DTSTART;TZID=UTC:20260423T190000
DTEND;TZID=UTC:20260423T210000
DTSTAMP:20260423T211433
CREATED:20250620T133432Z
LAST-MODIFIED:20250620T133432Z
UID:1639-1776970800-1776978000@highdesertbits.com
SUMMARY:Summit High School presents SHE KILLS MONSTERS: Young Adventurer's Edition
DESCRIPTION:Summit High School presents SHE KILLS MONSTERS: Young Adventurer’s Edition \nBy Qui Nguyen \nThu.\, April 23 @ 7pm \nFri.\, April 24 @ 7pm \nSat.\, April 25 @ 7pm \nSun.\, April 26 @ 2pm
URL:https://highdesertbits.com/event/summit-high-school-presents-she-kills-monsters-young-adventurers-edition/
LOCATION:Summit High School\, 2855 NW Clearwater Dr\,\, Bend\, OR\, 97703\, United States
END:VEVENT
BEGIN:VEVENT
DTSTART;TZID=UTC:20260423T190000
DTEND;TZID=UTC:20260423T210000
DTSTAMP:20260423T211433
CREATED:20260419T170940Z
LAST-MODIFIED:20260419T170940Z
UID:2567-1776970800-1776978000@highdesertbits.com
SUMMARY:LaPine High School presents SPONGEBOB\, THE MUSICAL
DESCRIPTION:LaPine High School presents SPONGEBOB\, THE MUSICAL \nBook by Kyle Jarrow with songs by various artists \nThu.\, 4/23 @ 7pm \nFri.\, 4/24 @ 7pm \nSat.\, 4/25 @ 1pm and 7pm
URL:https://highdesertbits.com/event/lapine-high-school-presents-spongebob-the-musical/
LOCATION:LaPine High School\, 51633 Coach Road\, LaPine\, OR\, 97739\, United States
END:VEVENT
BEGIN:VEVENT
DTSTART;TZID=UTC:20260423T193000
DTEND;TZID=UTC:20260423T220000
DTSTAMP:20260423T211433
CREATED:20260331T131402Z
LAST-MODIFIED:20260331T131402Z
UID:2505-1776972600-1776981600@highdesertbits.com
SUMMARY:Greenhouse Cabaret presents Natasha\, Pierre & the Great Comet of 1812
DESCRIPTION:Greenhouse Cabaret presents Natasha\, Pierre & the Great Comet of 1812 \nElectropop Opera by Dave Malloy \nThu.\, 4/23 @ 7:30pm \nFri.\, 4/24 /@ 7:30pm \nSat.\, 4/25 @ 7:30pm \nSun.\, 4/26 @ 7:30pm \n  \nThu.\, 4/30 @ 7:30pm \nFri.\, 5/1 /@ 7:30pm \nSat.\, 5/2 @ 7:30pm
URL:https://highdesertbits.com/event/greenhouse-cabaret-presents-natasha-pierre-the-great-comet-of-1812-12/
LOCATION:Greenhouse Cabaret\, 1017 NE 2nd St.\, Bend\, OR\, 97701\, United States
END:VEVENT
BEGIN:VEVENT
DTSTART;TZID=UTC:20260424T190000
DTEND;TZID=UTC:20260424T210000
DTSTAMP:20260423T211433
CREATED:20250620T133606Z
LAST-MODIFIED:20250620T133606Z
UID:1641-1777057200-1777064400@highdesertbits.com
SUMMARY:Summit High School presents SHE KILLS MONSTERS: Young Adventurer's Edition
DESCRIPTION:Summit High School presents SHE KILLS MONSTERS: Young Adventurer’s Edition \nBy Qui Nguyen \nThu.\, April 23 @ 7pm \nFri.\, April 24 @ 7pm \nSat.\, April 25 @ 7pm \nSun.\, April 26 @ 2pm
URL:https://highdesertbits.com/event/summit-high-school-presents-she-kills-monsters-young-adventurers-edition-2/
LOCATION:Summit High School\, 2855 NW Clearwater Dr\,\, Bend\, OR\, 97703\, United States
END:VEVENT
BEGIN:VEVENT
DTSTART;TZID=UTC:20260424T190000
DTEND;TZID=UTC:20260424T210000
DTSTAMP:20260423T211433
CREATED:20260419T171119Z
LAST-MODIFIED:20260419T171119Z
UID:2570-1777057200-1777064400@highdesertbits.com
SUMMARY:LaPine High School presents SPONGEBOB\, THE MUSICAL
DESCRIPTION:LaPine High School presents SPONGEBOB\, THE MUSICAL \nBook by Kyle Jarrow with songs by various artists \nFri.\, 4/24 @ 7pm \nSat.\, 4/25 @ 1pm and 7pm
URL:https://highdesertbits.com/event/lapine-high-school-presents-spongebob-the-musical-2/
LOCATION:LaPine High School\, 51633 Coach Road\, LaPine\, OR\, 97739\, United States
END:VEVENT
BEGIN:VEVENT
DTSTART;TZID=UTC:20260424T193000
DTEND;TZID=UTC:20260424T213000
DTSTAMP:20260423T211433
CREATED:20250908T131215Z
LAST-MODIFIED:20250908T131215Z
UID:2029-1777059000-1777066200@highdesertbits.com
SUMMARY:Cascade Theatrical Company presents AMERICAN BUFFALO
DESCRIPTION:Cascade Theatrical Company presents AMERICAN BUFFALO \nBy David Mamet \nFri.\, 4/24 @ 7:30pm \nSat.\, 4/25 @ 7:30pm \nSun.\, 4/26 @ 2pm \n  \nThu.\, 4/30 @ 7:30pm \nFri.\, 5/1 @ 7:30pm \nSat.\, 5/2 @ 7:30pm \nSun.\, 5/3 @ 2pm \n  \nThu.\, 5/7 @ 7:30pm \nFri.\, 5/8 @ 7:30pm \n@ 7:30pmSat.\, 5/9 \nSun.\, 5/10 @ 2pm
URL:https://highdesertbits.com/event/cascade-theatrical-company-presents-american-buffalo/
LOCATION:CTC Cascade Theatrical Company\, 148 NW Greenwood Ave\, Bend\, OR\, 97703
ORGANIZER;CN="CTC Cascade Theatrical Company":MAILTO:ctcinfo@cascadestheatrical.org
END:VEVENT
BEGIN:VEVENT
DTSTART;TZID=UTC:20260424T193000
DTEND;TZID=UTC:20260424T220000
DTSTAMP:20260423T211433
CREATED:20260331T131517Z
LAST-MODIFIED:20260331T131517Z
UID:2507-1777059000-1777068000@highdesertbits.com
SUMMARY:Greenhouse Cabaret presents Natasha\, Pierre & the Great Comet of 1812
DESCRIPTION:Greenhouse Cabaret presents Natasha\, Pierre & the Great Comet of 1812 \nElectropop Opera by Dave Malloy \nFri.\, 4/24 /@ 7:30pm \nSat.\, 4/25 @ 7:30pm \nSun.\, 4/26 @ 7:30pm \n  \nThu.\, 4/30 @ 7:30pm \nFri.\, 5/1 /@ 7:30pm \nSat.\, 5/2 @ 7:30pm
URL:https://highdesertbits.com/event/greenhouse-cabaret-presents-natasha-pierre-the-great-comet-of-1812-13/
LOCATION:Greenhouse Cabaret\, 1017 NE 2nd St.\, Bend\, OR\, 97701\, United States
END:VEVENT
BEGIN:VEVENT
DTSTART;TZID=UTC:20260425T000000
DTEND;TZID=UTC:20260425T235959
DTSTAMP:20260423T211433
CREATED:20260316T131140Z
LAST-MODIFIED:20260316T131140Z
UID:2451-1777075200-1777161599@highdesertbits.com
SUMMARY:AUDITIONS for Meadow Sky Productions  THE PLAY THAT GOES WRONG
DESCRIPTION:AUDITIONS for Meadow Sky Productions THE PLAY THAT GOES WRONG \nWritten by Jonathan Sayer\, Henry Lewis and Henry Shields \nSaturday\, April 25th Location and time TBD
URL:https://highdesertbits.com/event/auditions-for-meadow-sky-productions-the-play-that-goes-wrong/
LOCATION:OR
END:VEVENT
BEGIN:VEVENT
DTSTART;TZID=UTC:20260425T130000
DTEND;TZID=UTC:20260425T150000
DTSTAMP:20260423T211433
CREATED:20260419T171234Z
LAST-MODIFIED:20260419T171234Z
UID:2572-1777122000-1777129200@highdesertbits.com
SUMMARY:LaPine High School presents SPONGEBOB\, THE MUSICAL
DESCRIPTION:LaPine High School presents SPONGEBOB\, THE MUSICAL \nBook by Kyle Jarrow with songs by various artists \nSat.\, 4/25 @ 1pm and 7pm
URL:https://highdesertbits.com/event/lapine-high-school-presents-spongebob-the-musical-3/
LOCATION:LaPine High School\, 51633 Coach Road\, LaPine\, OR\, 97739\, United States
END:VEVENT
BEGIN:VEVENT
DTSTART;TZID=UTC:20260425T140000
DTEND;TZID=UTC:20260425T160000
DTSTAMP:20260423T211433
CREATED:20260330T125214Z
LAST-MODIFIED:20260406T123318Z
UID:2472-1777125600-1777132800@highdesertbits.com
SUMMARY:Ellipse Theatre Community  presents INTO THE BREECHES
DESCRIPTION:Ellipse Theatre Community  presents INTO THE BREECHES \nBy George Brant \nSat.\, 4/25 Sisters/ Camp Sherman RFPD Center @ 2pm and 7pm \nSun.\, 4/26 Bowman Museum @ 2pm (Prineville) \n  \nSat.\, 5/2 Unity Community Central Oregon @ 3pm and 7pm
URL:https://highdesertbits.com/event/ellipse-community-theatre-presents-into-the-breeches-8/
LOCATION:Sisters Firehouse Community Hall\, 301 S Elm St\, Sisters\, Oregon\, 57759
ORGANIZER;CN="ETC Ellipse Theatre Community":MAILTO:https://www.etcbend.org/contact
END:VEVENT
BEGIN:VEVENT
DTSTART;TZID=UTC:20260425T190000
DTEND;TZID=UTC:20260425T210000
DTSTAMP:20260423T211433
CREATED:20250620T133725Z
LAST-MODIFIED:20250620T133725Z
UID:1643-1777143600-1777150800@highdesertbits.com
SUMMARY:Summit High School presents SHE KILLS MONSTERS: Young Adventurer's Edition
DESCRIPTION:Summit High School presents SHE KILLS MONSTERS: Young Adventurer’s Edition \nBy Qui Nguyen \nThu.\, April 23 @ 7pm \nFri.\, April 24 @ 7pm \nSat.\, April 25 @ 7pm \nSun.\, April 26 @ 2pm
URL:https://highdesertbits.com/event/summit-high-school-presents-she-kills-monsters-young-adventurers-edition-3/
LOCATION:Summit High School\, 2855 NW Clearwater Dr\,\, Bend\, OR\, 97703\, United States
END:VEVENT
BEGIN:VEVENT
DTSTART;TZID=UTC:20260425T190000
DTEND;TZID=UTC:20260425T210000
DTSTAMP:20260423T211433
CREATED:20260330T125340Z
LAST-MODIFIED:20260406T123235Z
UID:2474-1777143600-1777150800@highdesertbits.com
SUMMARY:Ellipse Theatre Community  presents INTO THE BREECHES
DESCRIPTION:Ellipse Theatre Community  presents INTO THE BREECHES \nBy George Brant \nSat.\, 4/25 Sisters/ Camp Sherman RFPD Center @ 7pm \nSun.\, 4/26 Bowman Museum @ 2pm (Prineville) \n  \nSat.\, 5/2 Unity Community Central Oregon @ 3pm and 7pm
URL:https://highdesertbits.com/event/ellipse-community-theatre-presents-into-the-breeches-9/
LOCATION:Sisters Firehouse Community Hall\, 301 S Elm St\, Sisters\, Oregon\, 57759
ORGANIZER;CN="ETC Ellipse Theatre Community":MAILTO:https://www.etcbend.org/contact
END:VEVENT
BEGIN:VEVENT
DTSTART;TZID=UTC:20260425T190000
DTEND;TZID=UTC:20260425T210000
DTSTAMP:20260423T211433
CREATED:20260419T171401Z
LAST-MODIFIED:20260419T171401Z
UID:2574-1777143600-1777150800@highdesertbits.com
SUMMARY:LaPine High School presents SPONGEBOB\, THE MUSICAL
DESCRIPTION:LaPine High School presents SPONGEBOB\, THE MUSICAL \nBook by Kyle Jarrow with songs by various artists \nSat.\, 4/25 @ 7pm
URL:https://highdesertbits.com/event/lapine-high-school-presents-spongebob-the-musical-4/
LOCATION:LaPine High School\, 51633 Coach Road\, LaPine\, OR\, 97739\, United States
END:VEVENT
BEGIN:VEVENT
DTSTART;TZID=UTC:20260425T193000
DTEND;TZID=UTC:20260425T213000
DTSTAMP:20260423T211433
CREATED:20250908T131333Z
LAST-MODIFIED:20250908T131413Z
UID:2031-1777145400-1777152600@highdesertbits.com
SUMMARY:Cascade Theatrical Company presents AMERICAN BUFFALO
DESCRIPTION:Cascade Theatrical Company presents AMERICAN BUFFALO \nBy David Mamet \nSat.\, 4/25 @ 7:30pm \nSun.\, 4/26 @ 2pm \n  \nThu.\, 4/30 @ 7:30pm \nFri.\, 5/1 @ 7:30pm \nSat.\, 5/2 @ 7:30pm \nSun.\, 5/3 @ 2pm \n  \nThu.\, 5/7 @ 7:30pm \nFri.\, 5/8 @ 7:30pm \nSat.\, 5/9 @ 7:30pm \nSun.\, 5/10 @ 2pm
URL:https://highdesertbits.com/event/cascade-theatrical-company-presents-american-buffalo-2/
LOCATION:CTC Cascade Theatrical Company\, 148 NW Greenwood Ave\, Bend\, OR\, 97703
ORGANIZER;CN="CTC Cascade Theatrical Company":MAILTO:ctcinfo@cascadestheatrical.org
END:VEVENT
BEGIN:VEVENT
DTSTART;TZID=UTC:20260425T193000
DTEND;TZID=UTC:20260425T220000
DTSTAMP:20260423T211433
CREATED:20260331T131628Z
LAST-MODIFIED:20260331T131628Z
UID:2509-1777145400-1777154400@highdesertbits.com
SUMMARY:Greenhouse Cabaret presents Natasha\, Pierre & the Great Comet of 1812
DESCRIPTION:Greenhouse Cabaret presents Natasha\, Pierre & the Great Comet of 1812 \nElectropop Opera by Dave Malloy \nSat.\, 4/25 @ 7:30pm \nSun.\, 4/26 @ 7:30pm \n  \nThu.\, 4/30 @ 7:30pm \nFri.\, 5/1 /@ 7:30pm \nSat.\, 5/2 @ 7:30pm
URL:https://highdesertbits.com/event/greenhouse-cabaret-presents-natasha-pierre-the-great-comet-of-1812-14/
LOCATION:Greenhouse Cabaret\, 1017 NE 2nd St.\, Bend\, OR\, 97701\, United States
END:VEVENT
BEGIN:VEVENT
DTSTART;TZID=UTC:20260426T140000
DTEND;TZID=UTC:20260426T160000
DTSTAMP:20260423T211433
CREATED:20250620T133849Z
LAST-MODIFIED:20250620T133849Z
UID:1645-1777212000-1777219200@highdesertbits.com
SUMMARY:Summit High School presents SHE KILLS MONSTERS: Young Adventurer's Edition
DESCRIPTION:Summit High School presents SHE KILLS MONSTERS: Young Adventurer’s Edition \nBy Qui Nguyen \nThu.\, April 23 @ 7pm \nFri.\, April 24 @ 7pm \nSat.\, April 25 @ 7pm \nSun.\, April 26 @ 2pm
URL:https://highdesertbits.com/event/summit-high-school-presents-she-kills-monsters-young-adventurers-edition-4/
LOCATION:Summit High School\, 2855 NW Clearwater Dr\,\, Bend\, OR\, 97703\, United States
END:VEVENT
BEGIN:VEVENT
DTSTART;TZID=UTC:20260426T140000
DTEND;TZID=UTC:20260426T160000
DTSTAMP:20260423T211433
CREATED:20250908T131530Z
LAST-MODIFIED:20250908T131530Z
UID:2034-1777212000-1777219200@highdesertbits.com
SUMMARY:Cascade Theatrical Company presents AMERICAN BUFFALO
DESCRIPTION:Cascade Theatrical Company presents AMERICAN BUFFALO \nBy David Mamet \nSun.\, 4/26 @ 2pm \n  \nThu.\, 4/30 @ 7:30pm \nFri.\, 5/1 @ 7:30pm \nSat.\, 5/2 @ 7:30pm \nSun.\, 5/3 @ 2pm \n  \nThu.\, 5/7 @ 7:30pm \nFri.\, 5/8 @ 7:30pm \nSat.\, 5/9 @ 7:30pm \nSun.\, 5/10 @ 2pm
URL:https://highdesertbits.com/event/cascade-theatrical-company-presents-american-buffalo-3/
LOCATION:CTC Cascade Theatrical Company\, 148 NW Greenwood Ave\, Bend\, OR\, 97703
ORGANIZER;CN="CTC Cascade Theatrical Company":MAILTO:ctcinfo@cascadestheatrical.org
END:VEVENT
BEGIN:VEVENT
DTSTART;TZID=UTC:20260426T140000
DTEND;TZID=UTC:20260426T160000
DTSTAMP:20260423T211433
CREATED:20260330T125507Z
LAST-MODIFIED:20260406T123150Z
UID:2476-1777212000-1777219200@highdesertbits.com
SUMMARY:Ellipse Theatre Community  presents INTO THE BREECHES
DESCRIPTION:Ellipse Theatre Community  presents INTO THE BREECHES \nBy George Brant \nSun.\, 4/26 Bowman Museum @ 2pm (Prineville) \n  \nSat.\, 5/2 Unity Community Central Oregon @ 3pm and 7pm
URL:https://highdesertbits.com/event/ellipse-community-theatre-presents-into-the-breeches-10/
LOCATION:Bowman Historical Museum\, 246 N Main Street\, Prineville\, OR\, 97754\, United States
ORGANIZER;CN="ETC Ellipse Theatre Community":MAILTO:https://www.etcbend.org/contact
END:VEVENT
BEGIN:VEVENT
DTSTART;TZID=UTC:20260426T150000
DTEND;TZID=UTC:20260426T180000
DTSTAMP:20260423T211433
CREATED:20260411T235708Z
LAST-MODIFIED:20260412T000022Z
UID:2556-1777215600-1777226400@highdesertbits.com
SUMMARY:Auditions for Ellipse Theatre Community  for Venus in Furs
DESCRIPTION:Ellipse Theatre Community Auditions for Venus in Furs \nSun.\, April 26 from 3-6pm \nTue.\, April 28 from 6-8pm
URL:https://highdesertbits.com/event/ellipse-theatre-community-auditions-for-venus-in-furs/
LOCATION:Holy Communion Church\, 1245 SE 3rd St\, Bend\, OR\, 97702
ORGANIZER;CN="ETC Ellipse Theatre Community":MAILTO:https://www.etcbend.org/contact
END:VEVENT
BEGIN:VEVENT
DTSTART;TZID=UTC:20260426T193000
DTEND;TZID=UTC:20260426T220000
DTSTAMP:20260423T211433
CREATED:20260331T131741Z
LAST-MODIFIED:20260419T163919Z
UID:2511-1777231800-1777240800@highdesertbits.com
SUMMARY:Greenhouse Cabaret presents Natasha\, Pierre & the Great Comet of 1812
DESCRIPTION:Greenhouse Cabaret presents Natasha\, Pierre & the Great Comet of 1812 \nElectropop Opera by Dave Malloy \nSun.\, 4/26 @ 7:30pm \n  \nThu.\, 4/30 @ 7:30pm \nFri.\, 5/1 /@ 7:30pm \nSat.\, 5/2 @ 7:30pm
URL:https://highdesertbits.com/event/greenhouse-cabaret-presents-natasha-pierre-the-great-comet-of-1812-electropop-opera-by-dave-malloy-sat-4-25-730pm-sun-4-26-730pm-thu-4-30-730pm-fri-5-1-730pm-sat-5-2/
LOCATION:Greenhouse Cabaret\, 1017 NE 2nd St.\, Bend\, OR\, 97701\, United States
END:VEVENT
BEGIN:VEVENT
DTSTART;TZID=UTC:20260428T180000
DTEND;TZID=UTC:20260428T200000
DTSTAMP:20260423T211433
CREATED:20260411T235818Z
LAST-MODIFIED:20260412T000059Z
UID:2558-1777399200-1777406400@highdesertbits.com
SUMMARY:Auditions for Ellipse Theatre Community  for Venus in Furs
DESCRIPTION:Ellipse Theatre Community Auditions for Venus in Furs \nTue.\, April 28 from 6-8pm
URL:https://highdesertbits.com/event/ellipse-theatre-community-auditions-for-venus-in-furs-2/
LOCATION:Holy Communion Church\, 1245 SE 3rd St\, Bend\, OR\, 97702
ORGANIZER;CN="ETC Ellipse Theatre Community":MAILTO:https://www.etcbend.org/contact
END:VEVENT
BEGIN:VEVENT
DTSTART;TZID=UTC:20260430T080000
DTEND;TZID=UTC:20260430T170000
DTSTAMP:20260423T211433
CREATED:20250907T131802Z
LAST-MODIFIED:20250907T131802Z
UID:1828-1777536000-1777568400@highdesertbits.com
SUMMARY:Crook County High School presents 12 ANGRY JURORS
DESCRIPTION:Crook County High School presents 12 ANGRY JURORS \n12 Angry Jurors\, based on the 1954 teleplay ‘12 Angry Men‘ by Reginald Rose \nThu.\, 4/30 \nFri.\, 5/1 \nSat.\, 5/2 \nSun.\, 5/3
URL:https://highdesertbits.com/event/crook-county-high-school-presents-12-angry-jurors/
LOCATION:Crook County High School\, 1100 SE Lynn Blvd\, Prineville\, OR\, 97754
END:VEVENT
BEGIN:VEVENT
DTSTART;TZID=UTC:20260430T193000
DTEND;TZID=UTC:20260430T213000
DTSTAMP:20260423T211433
CREATED:20250908T131708Z
LAST-MODIFIED:20250908T131708Z
UID:2036-1777577400-1777584600@highdesertbits.com
SUMMARY:Cascade Theatrical Company presents AMERICAN BUFFALO
DESCRIPTION:Cascade Theatrical Company presents AMERICAN BUFFALO \nBy David Mamet \nThu.\, 4/30 @ 7:30pm \nFri.\, 5/1 @ 7:30pm \nSat.\, 5/2 @ 7:30pm \nSun.\, 5/3 @ 2pm \n  \nThu.\, 5/7 @ 7:30pm \nFri.\, 5/8 @ 7:30pm \nSat.\, 5/9 @ 7:30pm \nSun.\, 5/10 @ 2pm
URL:https://highdesertbits.com/event/cascade-theatrical-company-presents-american-buffalo-4/
LOCATION:CTC Cascade Theatrical Company\, 148 NW Greenwood Ave\, Bend\, OR\, 97703
ORGANIZER;CN="CTC Cascade Theatrical Company":MAILTO:ctcinfo@cascadestheatrical.org
END:VEVENT
BEGIN:VEVENT
DTSTART;TZID=UTC:20260430T193000
DTEND;TZID=UTC:20260430T220000
DTSTAMP:20260423T211433
CREATED:20260331T131903Z
LAST-MODIFIED:20260331T131903Z
UID:2513-1777577400-1777586400@highdesertbits.com
SUMMARY:Greenhouse Cabaret presents Natasha\, Pierre & the Great Comet of 1812
DESCRIPTION:Greenhouse Cabaret presents Natasha\, Pierre & the Great Comet of 1812 \nElectropop Opera by Dave Malloy \nThu.\, 4/30 @ 7:30pm \nFri.\, 5/1 /@ 7:30pm \nSat.\, 5/2 @ 7:30pm
URL:https://highdesertbits.com/event/greenhouse-cabaret-presents-natasha-pierre-the-great-comet-of-1812-15/
LOCATION:Greenhouse Cabaret\, 1017 NE 2nd St.\, Bend\, OR\, 97701\, United States
END:VEVENT
END:VCALENDAR