BEGIN:VCALENDAR
VERSION:2.0
PRODID:-//High Desert B.I.T.S. - ECPv6.15.20//NONSGML v1.0//EN
CALSCALE:GREGORIAN
METHOD:PUBLISH
X-WR-CALNAME:High Desert B.I.T.S.
X-ORIGINAL-URL:https://highdesertbits.com
X-WR-CALDESC:Events for High Desert B.I.T.S.
REFRESH-INTERVAL;VALUE=DURATION:PT1H
X-Robots-Tag:noindex
X-PUBLISHED-TTL:PT1H
BEGIN:VTIMEZONE
TZID:UTC
BEGIN:STANDARD
TZOFFSETFROM:+0000
TZOFFSETTO:+0000
TZNAME:UTC
DTSTART:20240101T000000
END:STANDARD
END:VTIMEZONE
BEGIN:VEVENT
DTSTART;TZID=UTC:20251109T000000
DTEND;TZID=UTC:20251109T020000
DTSTAMP:20260425T122903
CREATED:20250926T153934Z
LAST-MODIFIED:20251103T153724Z
UID:2171-1762646400-1762653600@highdesertbits.com
SUMMARY:Thoroughly Modern Productions presents ROCKY HORROR SHOW at the Tower Theatre
DESCRIPTION:Thoroughly Modern Productions presents ROCKY HORROR SHOW at the Tower Theatre \nBook\, music and lyrics by Richard O’Brien \n  \nSun.\, November 9 at  Midnight and 7:30pm \nAt the Tower Theatre
URL:https://highdesertbits.com/event/thoroughly-modern-productions-presents-rocky-horror-show-at-the-tower-theatre-2/
LOCATION:Tower Theatre\, 835 NW Wall St\, Bend\, OR\, 97703\, United States
ORGANIZER;CN="TMP Thoroughly Modern Productions":MAILTO:tmpbend@gmail.com
END:VEVENT
BEGIN:VEVENT
DTSTART;TZID=UTC:20251108T193000
DTEND;TZID=UTC:20251108T213000
DTSTAMP:20260425T122903
CREATED:20251003T135302Z
LAST-MODIFIED:20251003T135302Z
UID:2204-1762630200-1762637400@highdesertbits.com
SUMMARY:Greenhouse Cabaret presents ONCE
DESCRIPTION:Greenhouse Cabaret presents ONCE \nMusic and lyrics by Glen Hansard and Markéta Irglová and book by Enda Walsh. \nSat.\, 11/8 and Sun.\, 11/9 at 7:30pm \nThu.\, 11/13\, Fri.\, 11/14 and Sat.\, 11/15 at 7:30pm
URL:https://highdesertbits.com/event/greenhouse-cabaret-presents-once-14/
LOCATION:Greenhouse Cabaret\, 1017 NE 2nd St.\, Bend\, OR\, 97701\, United States
END:VEVENT
BEGIN:VEVENT
DTSTART;TZID=UTC:20251108T193000
DTEND;TZID=UTC:20251108T213000
DTSTAMP:20260425T122903
CREATED:20250926T154122Z
LAST-MODIFIED:20250926T154122Z
UID:2173-1762630200-1762637400@highdesertbits.com
SUMMARY:Thoroughly Modern Productions presents ROCKY HORROR SHOW at the Tower Theatre
DESCRIPTION:Thoroughly Modern Productions presents ROCKY HORROR SHOW at the Tower Theatre \nBook\, music and lyrics by Richard O’Brien \n  \nSat.\, November 8 @ 7:30pm \nAt the Tower Theatre
URL:https://highdesertbits.com/event/thoroughly-modern-productions-presents-rocky-horror-show-at-the-tower-theatre-3/
LOCATION:Tower Theatre\, 835 NW Wall St\, Bend\, OR\, 97703\, United States
ORGANIZER;CN="TMP Thoroughly Modern Productions":MAILTO:tmpbend@gmail.com
END:VEVENT
BEGIN:VEVENT
DTSTART;TZID=UTC:20251108T183000
DTEND;TZID=UTC:20251108T200000
DTSTAMP:20260425T122903
CREATED:20250926T151820Z
LAST-MODIFIED:20250926T151820Z
UID:2167-1762626600-1762632000@highdesertbits.com
SUMMARY:BEAT Childrens Theatre presents BEETLEJUICE JR
DESCRIPTION:BEAT Childrens Theatre presents BEETLEJUICE JR \nWritten by Eddie Perfect\, Scott Brown and Anthony King \nSat.\, 11/8 @ 6:30pm
URL:https://highdesertbits.com/event/beat-childrens-theatre-presents-beetlejuice-jr-10/
LOCATION:Open Space Event Studio\, 220 NE Lafayette Ave\, Bend\, OR\, 97701
END:VEVENT
BEGIN:VEVENT
DTSTART;TZID=UTC:20251108T133000
DTEND;TZID=UTC:20251108T150000
DTSTAMP:20260425T122903
CREATED:20250926T151656Z
LAST-MODIFIED:20250926T151656Z
UID:2165-1762608600-1762614000@highdesertbits.com
SUMMARY:BEAT Childrens Theatre presents BEETLEJUICE JR
DESCRIPTION:BEAT Childrens Theatre presents BEETLEJUICE JR \nWritten by Eddie Perfect\, Scott Brown and Anthony King \nSat.\, 11/8 @ 1:30pm and 6:30pm
URL:https://highdesertbits.com/event/beat-childrens-theatre-presents-beetlejuice-jr-9/
LOCATION:Open Space Event Studio\, 220 NE Lafayette Ave\, Bend\, OR\, 97701
END:VEVENT
BEGIN:VEVENT
DTSTART;TZID=UTC:20251107T203000
DTEND;TZID=UTC:20251107T213000
DTSTAMP:20260425T122903
CREATED:20250926T151344Z
LAST-MODIFIED:20250926T151344Z
UID:2163-1762547400-1762551000@highdesertbits.com
SUMMARY:BEAT Childrens Theatre presents BEETLEJUICE JR
DESCRIPTION:BEAT Childrens Theatre presents BEETLEJUICE JR \nWritten by Eddie Perfect\, Scott Brown and Anthony King \nFri.\, 11/7 @  8:30pm \nSat.\, 11/8 @ 1:30pm and 6:30pm
URL:https://highdesertbits.com/event/beat-childrens-theatre-presents-beetlejuice-jr-8/
LOCATION:Open Space Event Studio\, 220 NE Lafayette Ave\, Bend\, OR\, 97701
END:VEVENT
BEGIN:VEVENT
DTSTART;TZID=UTC:20251107T193000
DTEND;TZID=UTC:20251107T213000
DTSTAMP:20260425T122903
CREATED:20251003T135150Z
LAST-MODIFIED:20251003T135150Z
UID:2202-1762543800-1762551000@highdesertbits.com
SUMMARY:Greenhouse Cabaret presents ONCE
DESCRIPTION:Greenhouse Cabaret presents ONCE \nMusic and lyrics by Glen Hansard and Markéta Irglová and book by Enda Walsh. \nFri.\, 11/7\, Sat.\, 11/8 and Sun.\, 11/9 at 7:30pm \nThu.\, 11/13\, Fri.\, 11/14 and Sat.\, 11/15 at 7:30pm
URL:https://highdesertbits.com/event/greenhouse-cabaret-presents-once-13/
LOCATION:Greenhouse Cabaret\, 1017 NE 2nd St.\, Bend\, OR\, 97701\, United States
END:VEVENT
BEGIN:VEVENT
DTSTART;TZID=UTC:20251107T193000
DTEND;TZID=UTC:20251107T213000
DTSTAMP:20260425T122903
CREATED:20250926T153619Z
LAST-MODIFIED:20250926T154224Z
UID:2169-1762543800-1762551000@highdesertbits.com
SUMMARY:Thoroughly Modern Productions presents ROCKY HORROR SHOW at the Tower Theatre
DESCRIPTION:Thoroughly Modern Productions presents ROCKY HORROR SHOW at the Tower Theatre \nBook\, music and lyrics by Richard O’Brien \nFri.\, November 7 @ 7:30pm \nSat.\, November 8 at Midnight and 7:30pm \nAt the Tower Theatre
URL:https://highdesertbits.com/event/thoroughly-modern-productions-presents-rocky-horror-show-at-the-tower-theatre/
LOCATION:Tower Theatre\, 835 NW Wall St\, Bend\, OR\, 97703\, United States
ORGANIZER;CN="TMP Thoroughly Modern Productions":MAILTO:tmpbend@gmail.com
END:VEVENT
BEGIN:VEVENT
DTSTART;TZID=UTC:20251107T183000
DTEND;TZID=UTC:20251107T200000
DTSTAMP:20260425T122903
CREATED:20250926T151213Z
LAST-MODIFIED:20250926T151213Z
UID:2161-1762540200-1762545600@highdesertbits.com
SUMMARY:BEAT Childrens Theatre presents BEETLEJUICE JR
DESCRIPTION:BEAT Childrens Theatre presents BEETLEJUICE JR \nWritten by Eddie Perfect\, Scott Brown and Anthony King \nFri.\, 11/7 @ 6:30pm and 8:30pm \nSat.\, 11/8 @ 1:30pm and 6:30pm
URL:https://highdesertbits.com/event/beat-childrens-theatre-presents-beetlejuice-jr-7/
LOCATION:Open Space Event Studio\, 220 NE Lafayette Ave\, Bend\, OR\, 97701
END:VEVENT
BEGIN:VEVENT
DTSTART;TZID=UTC:20251106T193000
DTEND;TZID=UTC:20251106T213000
DTSTAMP:20260425T122903
CREATED:20251003T135041Z
LAST-MODIFIED:20251003T135041Z
UID:2200-1762457400-1762464600@highdesertbits.com
SUMMARY:Greenhouse Cabaret presents ONCE
DESCRIPTION:Greenhouse Cabaret presents ONCE \nMusic and lyrics by Glen Hansard and Markéta Irglová and book by Enda Walsh. \nThu.\, 11/6\, Fri.\, 11/7\, Sat.\, 11/8 and Sun.\, 11/9 at 7:30pm \nThu.\, 11/13\, Fri.\, 11/14 and Sat.\, 11/15 at 7:30pm
URL:https://highdesertbits.com/event/greenhouse-cabaret-presents-once-12/
LOCATION:Greenhouse Cabaret\, 1017 NE 2nd St.\, Bend\, OR\, 97701\, United States
END:VEVENT
BEGIN:VEVENT
DTSTART;TZID=UTC:20251106T183000
DTEND;TZID=UTC:20251106T200000
DTSTAMP:20260425T122903
CREATED:20250924T135009Z
LAST-MODIFIED:20250924T135009Z
UID:2159-1762453800-1762459200@highdesertbits.com
SUMMARY:BEAT Childrens Theatre presents BEETLEJUICE JR
DESCRIPTION:BEAT Childrens Theatre presents BEETLEJUICE JR \nWritten by Eddie Perfect\, Scott Brown and Anthony King \nThu.\, 11/6 @ 6:30pm \nFri.\, 11/7 @ 6:30pm and 8:30pm \nSat.\, 11/8 @ 1:30pm and 6:30pm
URL:https://highdesertbits.com/event/beat-childrens-theatre-presents-beetlejuice-jr-6/
LOCATION:Open Space Event Studio\, 220 NE Lafayette Ave\, Bend\, OR\, 97701
END:VEVENT
BEGIN:VEVENT
DTSTART;TZID=UTC:20251102T193000
DTEND;TZID=UTC:20251102T213000
DTSTAMP:20260425T122903
CREATED:20251003T134903Z
LAST-MODIFIED:20251003T134903Z
UID:2198-1762111800-1762119000@highdesertbits.com
SUMMARY:Greenhouse Cabaret presents ONCE
DESCRIPTION:Greenhouse Cabaret presents ONCE \nMusic and lyrics by Glen Hansard and Markéta Irglová and book by Enda Walsh. \nSun.\, 11/2 at 7:30pm \nThu.\, 11/6\, Fri.\, 11/7\, Sat.\, 11/8 and Sun.\, 11/9 at 7:30pm \nThu.\, 11/13\, Fri.\, 11/14 and Sat.\, 11/15 at 7:30pm
URL:https://highdesertbits.com/event/greenhouse-cabaret-presents-once-11/
LOCATION:Greenhouse Cabaret\, 1017 NE 2nd St.\, Bend\, OR\, 97701\, United States
END:VEVENT
BEGIN:VEVENT
DTSTART;TZID=UTC:20251102T140000
DTEND;TZID=UTC:20251102T160000
DTSTAMP:20260425T122903
CREATED:20250907T164617Z
LAST-MODIFIED:20250907T164617Z
UID:1938-1762092000-1762099200@highdesertbits.com
SUMMARY:Cascade Theatrical Company presents THE HAUNTING OF HILL HOUSE
DESCRIPTION:Cascade Theatrical Company presents THE HAUNTING OF HILL HOUSE \nby F.  Andrew Leslie from the novel by Shirley Jackson \nSun.\, 11/2 @ 2pm
URL:https://highdesertbits.com/event/cascade-theatrical-company-presents-the-haunting-of-hill-house-10/
LOCATION:CTC Cascade Theatrical Company\, 148 NW Greenwood Ave\, Bend\, OR\, 97703
ORGANIZER;CN="CTC Cascade Theatrical Company":MAILTO:ctcinfo@cascadestheatrical.org
END:VEVENT
BEGIN:VEVENT
DTSTART;TZID=UTC:20251101T193000
DTEND;TZID=UTC:20251101T213000
DTSTAMP:20260425T122903
CREATED:20251003T134736Z
LAST-MODIFIED:20251003T134736Z
UID:2196-1762025400-1762032600@highdesertbits.com
SUMMARY:Greenhouse Cabaret presents ONCE
DESCRIPTION:Greenhouse Cabaret presents ONCE \nMusic and lyrics by Glen Hansard and Markéta Irglová and book by Enda Walsh. \nSat.\, 11/1 and Sun.\, 11/2 at 7:30pm \nThu.\, 11/6\, Fri.\, 11/7\, Sat.\, 11/8 and Sun.\, 11/9 at 7:30pm \nThu.\, 11/13\, Fri.\, 11/14 and Sat.\, 11/15 at 7:30pm
URL:https://highdesertbits.com/event/greenhouse-cabaret-presents-once-10/
LOCATION:Greenhouse Cabaret\, 1017 NE 2nd St.\, Bend\, OR\, 97701\, United States
END:VEVENT
BEGIN:VEVENT
DTSTART;TZID=UTC:20251101T193000
DTEND;TZID=UTC:20251101T213000
DTSTAMP:20260425T122903
CREATED:20250907T164502Z
LAST-MODIFIED:20250907T164502Z
UID:1936-1762025400-1762032600@highdesertbits.com
SUMMARY:Cascade Theatrical Company presents THE HAUNTING OF HILL HOUSE
DESCRIPTION:Cascade Theatrical Company presents THE HAUNTING OF HILL HOUSE \nby F.  Andrew Leslie from the novel by Shirley Jackson \nSat.\, 11/1 @ 7:30pm \nSun.\, 11/2 @ 2pm
URL:https://highdesertbits.com/event/cascade-theatrical-company-presents-the-haunting-of-hill-house-9/
LOCATION:CTC Cascade Theatrical Company\, 148 NW Greenwood Ave\, Bend\, OR\, 97703
ORGANIZER;CN="CTC Cascade Theatrical Company":MAILTO:ctcinfo@cascadestheatrical.org
END:VEVENT
BEGIN:VEVENT
DTSTART;TZID=UTC:20251101T190000
DTEND;TZID=UTC:20251101T210000
DTSTAMP:20260425T122903
CREATED:20251017T132331Z
LAST-MODIFIED:20251017T132331Z
UID:2245-1762023600-1762030800@highdesertbits.com
SUMMARY:Ridgeview High School presents MURDER'S IN THE HEIR
DESCRIPTION:Ridgeview High School presents MURDER’S IN THE HEIR \nBy Billy St. John \n  \nSat.\, Nov 1 @ 7pm
URL:https://highdesertbits.com/event/ridgeview-high-school-presents-murders-in-the-heir-7/
LOCATION:Ridgeview High School\, 4555 SW Elkhorn Ave\, Redmond\, OR\, 97756
END:VEVENT
BEGIN:VEVENT
DTSTART;TZID=UTC:20251101T183000
DTEND;TZID=UTC:20251101T200000
DTSTAMP:20260425T122903
CREATED:20250924T134846Z
LAST-MODIFIED:20250924T134846Z
UID:2157-1762021800-1762027200@highdesertbits.com
SUMMARY:BEAT Childrens Theatre presents BEETLEJUICE JR
DESCRIPTION:BEAT Childrens Theatre presents BEETLEJUICE JR \nWritten by Eddie Perfect\, Scott Brown and Anthony King \nSat.\, 11/1 @ 6:30pm \nThu.\, 11/6 @ 6:30pm \nFri.\, 11/7 @ 6:30pm and 8:30pm \nSat.\, 11/8 @ 1:30pm and 6:30pm
URL:https://highdesertbits.com/event/beat-childrens-theatre-presents-beetlejuice-jr-5/
LOCATION:Open Space Event Studio\, 220 NE Lafayette Ave\, Bend\, OR\, 97701
END:VEVENT
BEGIN:VEVENT
DTSTART;TZID=UTC:20251101T180000
DTEND;TZID=UTC:20251101T200000
DTSTAMP:20260425T122903
CREATED:20250902T125306Z
LAST-MODIFIED:20251022T143717Z
UID:1784-1762020000-1762027200@highdesertbits.com
SUMMARY:RPA presents THE YELLOW BOAT
DESCRIPTION:RPA\, Redmond Proficiency Academy\, presents THE YELLOW BOAT \nBy David Saar \nFri.\, Oct. 24 @ 6pm \nSat.\, Oct. 25 @ 6pm \nSun.\, Oct. 26 @ 2pm \nThu.\, Oct. 30 @ 6pm \nSat.\, Nov. 1 @ 2pm and 6pm
URL:https://highdesertbits.com/event/rpa-presents-the-yellow-boat-5/
LOCATION:RPA at McClay Center of the Performing Arts\, 640 SW Evrgreen Ave\, Redmond\, OR\, 97756\, United States
END:VEVENT
BEGIN:VEVENT
DTSTART;TZID=UTC:20251101T140000
DTEND;TZID=UTC:20251101T160000
DTSTAMP:20260425T122903
CREATED:20251017T132223Z
LAST-MODIFIED:20251017T132223Z
UID:2243-1762005600-1762012800@highdesertbits.com
SUMMARY:Ridgeview High School presents MURDER'S IN THE HEIR
DESCRIPTION:Ridgeview High School presents MURDER’S IN THE HEIR \nBy Billy St. John \n  \nSat.\, Nov 1 @ 2pm and 7pm
URL:https://highdesertbits.com/event/ridgeview-high-school-presents-murders-in-the-heir-6/
LOCATION:Ridgeview High School\, 4555 SW Elkhorn Ave\, Redmond\, OR\, 97756
END:VEVENT
BEGIN:VEVENT
DTSTART;TZID=UTC:20251101T140000
DTEND;TZID=UTC:20251101T150000
DTSTAMP:20260425T122903
CREATED:20250902T125147Z
LAST-MODIFIED:20251022T143854Z
UID:1782-1762005600-1762009200@highdesertbits.com
SUMMARY:RPA presents THE YELLOW BOAT
DESCRIPTION:RPA\, Redmond Proficiency Academy\, presents THE YELLOW BOAT \nBy David Saar \nFri.\, Oct. 24 @ 6pm \nSat.\, Oct. 25 @ 6pm \nSun.\, Oct. 26 @ 2pm \nThu.\, Oct. 30 @ 6pm \nSat.\, Nov. 1 @ 2pm and 6pm
URL:https://highdesertbits.com/event/rpa-presents-the-yellow-boat-4/
LOCATION:RPA at McClay Center of the Performing Arts\, 640 SW Evrgreen Ave\, Redmond\, OR\, 97756\, United States
END:VEVENT
BEGIN:VEVENT
DTSTART;TZID=UTC:20251101T133000
DTEND;TZID=UTC:20251101T150000
DTSTAMP:20260425T122903
CREATED:20250924T134713Z
LAST-MODIFIED:20250924T134713Z
UID:2155-1762003800-1762009200@highdesertbits.com
SUMMARY:BEAT Childrens Theatre presents BEETLEJUICE JR
DESCRIPTION:BEAT Childrens Theatre presents BEETLEJUICE JR \nWritten by Eddie Perfect\, Scott Brown and Anthony King \nSat.\, 11/1 @ 1:30 and 6:30pm \nThu.\, 11/6 @ 6:30pm \nFri.\, 11/7 @ 6:30pm and 8:30pm \nSat.\, 11/8 @ 1:30pm and 6:30pm
URL:https://highdesertbits.com/event/beat-childrens-theatre-presents-beetlejuice-jr-4/
LOCATION:Open Space Event Studio\, 220 NE Lafayette Ave\, Bend\, OR\, 97701
END:VEVENT
BEGIN:VEVENT
DTSTART;TZID=UTC:20251031T203000
DTEND;TZID=UTC:20251031T220000
DTSTAMP:20260425T122903
CREATED:20250924T134527Z
LAST-MODIFIED:20250924T134527Z
UID:2153-1761942600-1761948000@highdesertbits.com
SUMMARY:BEAT Childrens Theatre presents BEETLEJUICE JR
DESCRIPTION:BEAT Childrens Theatre presents BEETLEJUICE JR \nWritten by Eddie Perfect\, Scott Brown and Anthony King \nFri.\, 10/31 @  8:30pm \nSat.\, 11/1 @ 1:30 and 6:30pm \nThu.\, 11/6 @ 6:30pm \nFri.\, 11/7 @ 6:30pm and 8:30pm \nSat.\, 11/8 @ 1:30pm and 6:30pm
URL:https://highdesertbits.com/event/beat-childrens-theatre-presents-beetlejuice-jr-3/
LOCATION:Open Space Event Studio\, 220 NE Lafayette Ave\, Bend\, OR\, 97701
END:VEVENT
BEGIN:VEVENT
DTSTART;TZID=UTC:20251031T193000
DTEND;TZID=UTC:20251031T213000
DTSTAMP:20260425T122903
CREATED:20250907T164353Z
LAST-MODIFIED:20250907T164353Z
UID:1934-1761939000-1761946200@highdesertbits.com
SUMMARY:Cascade Theatrical Company presents THE HAUNTING OF HILL HOUSE
DESCRIPTION:Cascade Theatrical Company presents THE HAUNTING OF HILL HOUSE \nby F.  Andrew Leslie from the novel by Shirley Jackson \nFri.\, 10/31 @ 7:30pm \nSat.\, 11/1 @ 7:30pm \nSun.\, 11/2 @ 2pm
URL:https://highdesertbits.com/event/cascade-theatrical-company-presents-the-haunting-of-hill-house-8/
LOCATION:CTC Cascade Theatrical Company\, 148 NW Greenwood Ave\, Bend\, OR\, 97703
ORGANIZER;CN="CTC Cascade Theatrical Company":MAILTO:ctcinfo@cascadestheatrical.org
END:VEVENT
BEGIN:VEVENT
DTSTART;TZID=UTC:20251031T183000
DTEND;TZID=UTC:20251031T200000
DTSTAMP:20260425T122903
CREATED:20250924T134348Z
LAST-MODIFIED:20250924T134348Z
UID:2151-1761935400-1761940800@highdesertbits.com
SUMMARY:BEAT Childrens Theatre presents BEETLEJUICE JR
DESCRIPTION:BEAT Childrens Theatre presents BEETLEJUICE JR \nWritten by Eddie Perfect\, Scott Brown and Anthony King \nFri.\, 10/31 @ 6:30pm and 8:30pm \nSat.\, 11/1 @ 1:30 and 6:30pm \nThu.\, 11/6 @ 6:30pm \nFri.\, 11/7 @ 6:30pm and 8:30pm \nSat.\, 11/8 @ 1:30pm and 6:30pm
URL:https://highdesertbits.com/event/beat-childrens-theatre-presents-beetlejuice-jr-2/
LOCATION:Open Space Event Studio\, 220 NE Lafayette Ave\, Bend\, OR\, 97701
END:VEVENT
BEGIN:VEVENT
DTSTART;TZID=UTC:20251030T193000
DTEND;TZID=UTC:20251030T213000
DTSTAMP:20260425T122903
CREATED:20251003T134509Z
LAST-MODIFIED:20251003T134509Z
UID:2192-1761852600-1761859800@highdesertbits.com
SUMMARY:Greenhouse Cabaret presents ONCE
DESCRIPTION:Greenhouse Cabaret presents ONCE \nMusic and lyrics by Glen Hansard and Markéta Irglová and book by Enda Walsh. \nThu.\, 10/30\, Fri.\, 10/31\, Sat.\, 11/1 and Sun.\, 11/2 at 7:30pm \nThu.\, 11/6\, Fri.\, 11/7\, Sat.\, 11/8 and Sun.\, 11/9 at 7:30pm \nThu.\, 11/13\, Fri.\, 11/14 and Sat.\, 11/15 at 7:30pm
URL:https://highdesertbits.com/event/greenhouse-cabaret-presents-once-8/
LOCATION:Greenhouse Cabaret\, 1017 NE 2nd St.\, Bend\, OR\, 97701\, United States
END:VEVENT
BEGIN:VEVENT
DTSTART;TZID=UTC:20251030T193000
DTEND;TZID=UTC:20251030T213000
DTSTAMP:20260425T122903
CREATED:20250907T164240Z
LAST-MODIFIED:20250907T164240Z
UID:1932-1761852600-1761859800@highdesertbits.com
SUMMARY:Cascade Theatrical Company presents THE HAUNTING OF HILL HOUSE
DESCRIPTION:Cascade Theatrical Company presents THE HAUNTING OF HILL HOUSE \nby F.  Andrew Leslie from the novel by Shirley Jackson \nThu.\, 10/30 @ 7:30pm \nFri.\, 10/31 @ 7:30pm \nSat.\, 11/1 @ 7:30pm \nSun.\, 11/2 @ 2pm
URL:https://highdesertbits.com/event/cascade-theatrical-company-presents-the-haunting-of-hill-house-7/
LOCATION:CTC Cascade Theatrical Company\, 148 NW Greenwood Ave\, Bend\, OR\, 97703
ORGANIZER;CN="CTC Cascade Theatrical Company":MAILTO:ctcinfo@cascadestheatrical.org
END:VEVENT
BEGIN:VEVENT
DTSTART;TZID=UTC:20251030T190000
DTEND;TZID=UTC:20251030T210000
DTSTAMP:20260425T122903
CREATED:20251017T132126Z
LAST-MODIFIED:20251017T132126Z
UID:2241-1761850800-1761858000@highdesertbits.com
SUMMARY:Ridgeview High School presents MURDER'S IN THE HEIR
DESCRIPTION:Ridgeview High School presents MURDER’S IN THE HEIR \nBy Billy St. John \n  \nThu.\, 10/30 @ 7pm \nSat.\, Nov 1 @ 2pm and 7pm
URL:https://highdesertbits.com/event/ridgeview-high-school-presents-murders-in-the-heir-5/
LOCATION:Ridgeview High School\, 4555 SW Elkhorn Ave\, Redmond\, OR\, 97756
END:VEVENT
BEGIN:VEVENT
DTSTART;TZID=UTC:20251030T183000
DTEND;TZID=UTC:20251030T200000
DTSTAMP:20260425T122903
CREATED:20250924T134230Z
LAST-MODIFIED:20250924T134230Z
UID:2149-1761849000-1761854400@highdesertbits.com
SUMMARY:BEAT Childrens Theatre presents BEETLEJUICE JR
DESCRIPTION:BEAT Childrens Theatre presents BEETLEJUICE JR \nWritten by Eddie Perfect\, Scott Brown and Anthony King \nThu.\, 10/30 @ 6:30pm \nFri.\, 10/31 @ 6:30pm and 8:30pm \nSat.\, 11/1 @ 1:30 and 6:30pm \nThu.\, 11/6 @ 6:30pm \nFri.\, 11/7 @ 6:30pm and 8:30pm \nSat.\, 11/8 @ 1:30pm and 6:30pm
URL:https://highdesertbits.com/event/beat-childrens-theatre-presents-beetlejuice-jr/
LOCATION:Open Space Event Studio\, 220 NE Lafayette Ave\, Bend\, OR\, 97701
END:VEVENT
BEGIN:VEVENT
DTSTART;TZID=UTC:20251030T180000
DTEND;TZID=UTC:20251030T200000
DTSTAMP:20260425T122903
CREATED:20250902T125031Z
LAST-MODIFIED:20251022T143522Z
UID:1780-1761847200-1761854400@highdesertbits.com
SUMMARY:RPA presents THE YELLOW BOAT
DESCRIPTION:RPA\, Redmond Proficiency Academy\, presents THE YELLOW BOAT \nBy David Saar \nFri.\, Oct. 24 @ 6pm \nSat.\, Oct. 25 @ 6pm \nSun.\, Oct. 26 @ 2pm \nThu.\, Oct. 30 @ 6pm \nSat.\, Nov. 1 @ 2pm and 6pm
URL:https://highdesertbits.com/event/rpa-presents-the-yellow-boat-3/
LOCATION:RPA at McClay Center of the Performing Arts\, 640 SW Evrgreen Ave\, Redmond\, OR\, 97756\, United States
END:VEVENT
BEGIN:VEVENT
DTSTART;TZID=UTC:20251026T193000
DTEND;TZID=UTC:20251026T213000
DTSTAMP:20260425T122903
CREATED:20251003T134345Z
LAST-MODIFIED:20251003T134345Z
UID:2190-1761507000-1761514200@highdesertbits.com
SUMMARY:Greenhouse Cabaret presents ONCE
DESCRIPTION:Greenhouse Cabaret presents ONCE \nMusic and lyrics by Glen Hansard and Markéta Irglová and book by Enda Walsh. \nSun.\, 10/26 at 7:30pm \nThu.\, 10/30\, Fri.\, 10/31\, Sat.\, 11/1 and Sun.\, 11/2 at 7:30pm \nThu.\, 11/6\, Fri.\, 11/7\, Sat.\, 11/8 and Sun.\, 11/9 at 7:30pm \nThu.\, 11/13\, Fri.\, 11/14 and Sat.\, 11/15 at 7:30pm
URL:https://highdesertbits.com/event/greenhouse-cabaret-presents-once-7/
LOCATION:Greenhouse Cabaret\, 1017 NE 2nd St.\, Bend\, OR\, 97701\, United States
END:VEVENT
END:VCALENDAR