BEGIN:VCALENDAR
VERSION:2.0
PRODID:-//High Desert B.I.T.S. - ECPv6.15.20//NONSGML v1.0//EN
CALSCALE:GREGORIAN
METHOD:PUBLISH
X-WR-CALNAME:High Desert B.I.T.S.
X-ORIGINAL-URL:https://highdesertbits.com
X-WR-CALDESC:Events for High Desert B.I.T.S.
REFRESH-INTERVAL;VALUE=DURATION:PT1H
X-Robots-Tag:noindex
X-PUBLISHED-TTL:PT1H
BEGIN:VTIMEZONE
TZID:UTC
BEGIN:STANDARD
TZOFFSETFROM:+0000
TZOFFSETTO:+0000
TZNAME:UTC
DTSTART:20240101T000000
END:STANDARD
END:VTIMEZONE
BEGIN:VEVENT
DTSTART;TZID=UTC:20250510T140000
DTEND;TZID=UTC:20250510T163000
DTSTAMP:20260425T162850
CREATED:20250429T215617Z
LAST-MODIFIED:20250429T215617Z
UID:1399-1746885600-1746894600@highdesertbits.com
SUMMARY:Trinity Lutheran presents GUYS AND DOLLS
DESCRIPTION:Trinity Lutheran presents GUYS AND DOLLS \nMusic and lyrics by Frank Loesser and book by Jo Swerling and Abe Burrows \nTrinity Lutheran HS \nFri.\, May 9th @ 7pm \nSat.\, May 10th @ 2pm and 7pm \nSun.\, May 11th @ 2pm
URL:https://highdesertbits.com/event/trinity-lutheran-presents-guys-and-dolls-5/
LOCATION:Trinity Lutheran High School\, 2550 NE Butler Market Rd\, Bend\, OR\, 97701\, United States
END:VEVENT
BEGIN:VEVENT
DTSTART;TZID=UTC:20250510T140000
DTEND;TZID=UTC:20250510T160000
DTSTAMP:20260425T162850
CREATED:20250429T211119Z
LAST-MODIFIED:20250429T211119Z
UID:1393-1746885600-1746892800@highdesertbits.com
SUMMARY:Deschutes Theater Company presents THE FOREIGNER
DESCRIPTION:Deschutes Theater Company presents THE FOREIGNER by Larry Shue \nFri.\, May 2nd @ 7:30pm \nSat.\, May 3rd @ 7:30pm \nThu.\, May 8tth @ 7:30pm \nFri.\, May 9th @ 7:30pm \nSat.\, May 10th @ 2pm and 7:30 \nUnity Spiritual Community of Central Oregon
URL:https://highdesertbits.com/event/deschutes-theater-company-presents-the-foreigner-5/
LOCATION:Unity Community Central Oregon\, 63645 Scenic Dr\, Bend\, OR\, 97701
ORGANIZER;CN="Deschutes Community Theater":MAILTO:deschutestheatercompany@gmail.com
END:VEVENT
BEGIN:VEVENT
DTSTART;TZID=UTC:20250510T140000
DTEND;TZID=UTC:20250510T160000
DTSTAMP:20260425T162850
CREATED:20250429T035322Z
LAST-MODIFIED:20250429T035322Z
UID:1362-1746885600-1746892800@highdesertbits.com
SUMMARY:Ellipse Theater Community presents TINY BEAUTIFUL THINGS
DESCRIPTION:Ellipse Theater Community presents TINY BEAUTIFUL THINGS \nWritten by Arlene Hutton \nThis production is part of the ETC Roadshow Program which sees our productions touring across multiple venues throughout Central Oregon. \nBend (Open Space Theatre) \nFri.\, May 9 @ 7pm \nSat.\, May 10 @ 2pm and 7pm \nRedmond (High Desert Music Hall) \nSun.\, May 11 @ 2pm and 7pm \nSisters (Susters Firehouse Community Hall) \nSat.\, May 17 @ 2pm and 7pm \nPrineville (Bowman Museum) \nSun.\, 5/18 @ 2pm \nBend (OSU Cascade Campus) \nFri.\, May 30 @ 7pm \nSat.\, 5/31 @ 2pm and 7pm
URL:https://highdesertbits.com/event/ellipse-theater-community-presents-tiny-beautiful-things-2/
LOCATION:Open Space Event Studio\, 220 NE Lafayette Ave\, Bend\, OR\, 97701
ORGANIZER;CN="ETC Ellipse Theatre Community":MAILTO:https://www.etcbend.org/contact
END:VEVENT
BEGIN:VEVENT
DTSTART;TZID=UTC:20250510T000000
DTEND;TZID=UTC:20250510T235959
DTSTAMP:20260425T162850
CREATED:20250211T215206Z
LAST-MODIFIED:20250211T215206Z
UID:1139-1746835200-1746921599@highdesertbits.com
SUMMARY:Trinity Lutheran presents GUYS AND DOLLS
DESCRIPTION:Trinity Lutheran presents GUYS AND DOLLS \nMusic by Frank Loesser and book by Jo Swerling and Abe Burrows \nFri.\, May 9 \nSat.\, May 10 \nSun.\, May 11
URL:https://highdesertbits.com/event/trinity-lutheran-presents-guys-and-dolls-2/
LOCATION:Trinity Lutheran High School\, 2550 NE Butler Market Rd\, Bend\, OR\, 97701\, United States
END:VEVENT
BEGIN:VEVENT
DTSTART;TZID=UTC:20250509T193000
DTEND;TZID=UTC:20250509T213000
DTSTAMP:20260425T162850
CREATED:20250429T210833Z
LAST-MODIFIED:20250429T210833Z
UID:1391-1746819000-1746826200@highdesertbits.com
SUMMARY:Deschutes Theater Company presents THE FOREIGNER
DESCRIPTION:Deschutes Theater Company presents THE FOREIGNER by Larry Shue \nFri.\, May 2nd @ 7:30pm \nSat.\, May 3rd @ 7:30pm \nThu.\, May 8tth @ 7:30pm \nFri.\, May 9th @ 7:30pm \nSat.\, May 10th @ 2pm and 7:30 \nUnity Spiritual Community of Central Oregon
URL:https://highdesertbits.com/event/deschutes-theater-company-presents-the-foreigner-4/
LOCATION:Unity Community Central Oregon\, 63645 Scenic Dr\, Bend\, OR\, 97701
ORGANIZER;CN="Deschutes Community Theater":MAILTO:deschutestheatercompany@gmail.com
END:VEVENT
BEGIN:VEVENT
DTSTART;TZID=UTC:20250509T190000
DTEND;TZID=UTC:20250509T213000
DTSTAMP:20260425T162850
CREATED:20250429T215451Z
LAST-MODIFIED:20250429T215451Z
UID:1397-1746817200-1746826200@highdesertbits.com
SUMMARY:Trinity Lutheran presents GUYS AND DOLLS
DESCRIPTION:Trinity Lutheran presents GUYS AND DOLLS \nMusic and lyrics by Frank Loesser and book by Jo Swerling and Abe Burrows \nTrinity Lutheran HS \nFri.\, May 9th @ 7pm \nSat.\, May 10th @ 2pm and 7pm \nSun.\, May 11th @ 2pm
URL:https://highdesertbits.com/event/trinity-lutheran-presents-guys-and-dolls-4/
LOCATION:Trinity Lutheran High School\, 2550 NE Butler Market Rd\, Bend\, OR\, 97701\, United States
END:VEVENT
BEGIN:VEVENT
DTSTART;TZID=UTC:20250509T190000
DTEND;TZID=UTC:20250509T210000
DTSTAMP:20260425T162850
CREATED:20250210T135104Z
LAST-MODIFIED:20250210T135104Z
UID:1119-1746817200-1746824400@highdesertbits.com
SUMMARY:Crook County High School presents LITTLE SHOP OF HORRORS
DESCRIPTION:Crook County High School presents LITTLE SHOP OF HORRORS \nMusic by Alan Menken\, lyrics and book by Howard Ashman \nThu.\, May 8 @ 7pm \nFri.\, May 9 @ 7pm \nSat.\, May 10 @ 7pm \nSun.\, May 11 @ 7pm
URL:https://highdesertbits.com/event/crook-county-high-school-presents-little-shop-of-horrors-2/
LOCATION:Crook County High School\, 1100 SE Lynn Blvd\, Prineville\, OR\, 97754
END:VEVENT
BEGIN:VEVENT
DTSTART;TZID=UTC:20250509T000000
DTEND;TZID=UTC:20250509T235959
DTSTAMP:20260425T162850
CREATED:20250211T215046Z
LAST-MODIFIED:20250211T215046Z
UID:1135-1746748800-1746835199@highdesertbits.com
SUMMARY:Trinity Lutheran presents GUYS AND DOLLS
DESCRIPTION:Trinity Lutheran presents GUYS AND DOLLS \nMusic by Frank Loesser and book by Jo Swerling and Abe Burrows \nFri.\, May 9 \nSat.\, May 10 \nSun.\, May 11
URL:https://highdesertbits.com/event/trinity-lutheran-presents-guys-and-dolls/
LOCATION:Trinity Lutheran High School\, 2550 NE Butler Market Rd\, Bend\, OR\, 97701\, United States
END:VEVENT
BEGIN:VEVENT
DTSTART;TZID=UTC:20250508T193000
DTEND;TZID=UTC:20250508T213000
DTSTAMP:20260425T162850
CREATED:20250429T210536Z
LAST-MODIFIED:20250429T210536Z
UID:1389-1746732600-1746739800@highdesertbits.com
SUMMARY:Deschutes Theater Company presents THE FOREIGNER
DESCRIPTION:Deschutes Theater Company presents THE FOREIGNER by Larry Shue \nFri.\, May 2nd @ 7:30pm \nSat.\, May 3rd @ 7:30pm \nThu.\, May 8tth @ 7:30pm \nFri.\, May 9th @ 7:30pm \nSat.\, May 10th @ 2pm and 7:30 \nUnity Spiritual Community of Cnetral Oregon
URL:https://highdesertbits.com/event/deschutes-theater-company-presents-the-foreigner-3/
LOCATION:Unity Community Central Oregon\, 63645 Scenic Dr\, Bend\, OR\, 97701
ORGANIZER;CN="Deschutes Community Theater":MAILTO:deschutestheatercompany@gmail.com
END:VEVENT
BEGIN:VEVENT
DTSTART;TZID=UTC:20250508T190000
DTEND;TZID=UTC:20250508T210000
DTSTAMP:20260425T162850
CREATED:20250429T224110Z
LAST-MODIFIED:20250429T224110Z
UID:1425-1746730800-1746738000@highdesertbits.com
SUMMARY:Crook County High School presents LITTLE SHOP OF HORRORS
DESCRIPTION:Crook County High School presents LITTLE SHOP OF HORRORS \nMusic by Alan Menken\, book and lyrics by Howard Ashman \nThu.\, May 8th @ 7pm \nFri.\, May 9th @ 7pm \nSat.\, May 10th @ 7 pm \nSun.\, May 11th @ 2pm \n$5 students/seniors \n$10 General adminssion at the door
URL:https://highdesertbits.com/event/crook-county-high-school-presents-little-shop-of-horrors-5/
LOCATION:Crook County High School\, 1100 SE Lynn Blvd\, Prineville\, OR\, 97754
END:VEVENT
BEGIN:VEVENT
DTSTART;TZID=UTC:20250508T190000
DTEND;TZID=UTC:20250508T210000
DTSTAMP:20260425T162850
CREATED:20250201T032016Z
LAST-MODIFIED:20250201T032016Z
UID:1097-1746730800-1746738000@highdesertbits.com
SUMMARY:Caldera High School presents ANYTHING GOES!
DESCRIPTION:Caldera High School presents ANYTHING GOES! \nMusic and lyrics by Cole Porter. Book was a collaborative effort by Guy Bolton and P.G. Wodehouse \nThu.\, May 8 Time TBD \nMay 10 \nMay 16 \nMat 17
URL:https://highdesertbits.com/event/caldera-high-school-presents-anything-goes/
LOCATION:Caldera High School\, 60925 SE 15th St\,\, Bend\, OR\, 97702\, United States
END:VEVENT
BEGIN:VEVENT
DTSTART;TZID=UTC:20250504T000000
DTEND;TZID=UTC:20250504T235959
DTSTAMP:20260425T162850
CREATED:20250211T222744Z
LAST-MODIFIED:20250211T222744Z
UID:1147-1746316800-1746403199@highdesertbits.com
SUMMARY:AUDITIONS for ROCK OF AGES with Theater in the Park
DESCRIPTION:AUDITIONS for ROCK OF AGES with Theater in the Park \nBook by Chris D’Arienzo\, arrangements and orchestrations by Ethan Popp \n  \nSat.\, May 3 \nSun.\, May 4
URL:https://highdesertbits.com/event/auditions-for-rock-of-ages-with-theater-in-the-park-2/
LOCATION:Theatre in the Park\, Drake Park\, Bend\, OR\, 97701\, United States
ORGANIZER;CN="Theatre in the Park":MAILTO:info@layitoutevents.com
END:VEVENT
BEGIN:VEVENT
DTSTART;TZID=UTC:20250503T193000
DTEND;TZID=UTC:20250503T213000
DTSTAMP:20260425T162850
CREATED:20250429T210308Z
LAST-MODIFIED:20250429T210308Z
UID:1386-1746300600-1746307800@highdesertbits.com
SUMMARY:Deschutes Theater Company presents THE FOREIGNER
DESCRIPTION:Deschutes Theater Company presents THE FOREIGNER by Larry Shue \nFri.\, May 2nd @ 7:30pm \nSat.\, May 3rd @ 7:30pm \nThu.\, May 8tth @ 7:30pm \nFri.\, May 9th @ 7:30pm \nSat.\, May 10th @ 2pm and 7:30 \nUnity Spiritual Community of Cnetral Oregon
URL:https://highdesertbits.com/event/deschutes-theater-company-presents-the-foreigner-2/
LOCATION:Unity Community Central Oregon\, 63645 Scenic Dr\, Bend\, OR\, 97701
ORGANIZER;CN="Deschutes Community Theater":MAILTO:deschutestheatercompany@gmail.com
END:VEVENT
BEGIN:VEVENT
DTSTART;TZID=UTC:20250503T193000
DTEND;TZID=UTC:20250503T213000
DTSTAMP:20260425T162850
CREATED:20250112T174811Z
LAST-MODIFIED:20250112T174811Z
UID:991-1746300600-1746307800@highdesertbits.com
SUMMARY:Greenhouse Cabaret presents NEXT TO NORMAL
DESCRIPTION:Greenhouse Cabaret presents NEXT TO NORMAL \nMusic by Tom Kitt\, lyrics and book by Brian Yorkey \n___                                              Thu.\, 4/17 @ 7:30pm                  Thu.\, 5/1 @ 7:30pm \nFri.\, 4/4 @ 7:30pm                        Fri.\, 4/18 @ 7:30pm                Fri.\, 5/2 @ 7:30pm \nSat.\, 4/5 @ 7:30pm                     Sat.\, 4/19 @ 7:30pm                    Sat.\, 5/3 @ 7:30pm \nSun.\, 4/6 @ 7:30pm                      Sun.\, 4/20 7:30pm \n  \nThu.\, 4/10 @ 7:30                        Thu.\, 4/24 @ 7:30pm \nFri.\, 4/11 @ 7:30pm                   Fri.\, 4/25 @ 7:30pm \nSat.\, 4/12 @ 7:30pm                  Sat.\, 4/26 @ 7:30pm \nSun.\, 4/13 @ 7:30pm                    Sun.\, 4/27 @ 7:30pm \nDirected by founder John Kish and Greenhouse returnee Josh Curtis (Proof)\, music directed by Natalie True (Sweeney Todd). \nAge recommendation: 14+ \nPlease note: This production contains some adult topics\, including depictions of various mental health conditions and disorders\, suicide\, themes of bereavement\, and strong language.
URL:https://highdesertbits.com/event/greenhouse-cabaret-presents-next-to-normal-16/
LOCATION:Greenhouse Cabaret\, 1017 NE 2nd St.\, Bend\, OR\, 97701\, United States
END:VEVENT
BEGIN:VEVENT
DTSTART;TZID=UTC:20250503T190000
DTEND;TZID=UTC:20250503T210000
DTSTAMP:20260425T162850
CREATED:20250301T204718Z
LAST-MODIFIED:20250301T204718Z
UID:1282-1746298800-1746306000@highdesertbits.com
SUMMARY:Sunriver Stars Community Theatre presents THE MAN WHO SHOT LIBERTY VALANCE
DESCRIPTION:Sunriver Stars Community Theatre presents THE MAN WHO SHOT LIBERTY VALANCE \nWritten by Jethro Compton \nPerformed at The Door in Sunriver \nFri.\, April 25 @ 7pm \nSat.\, April 26 @ 7pm \nSun.\, April 27 @ 2pm \nPerformed at Legend Cider Company in LaPine \nFri.\, May 2 @ 7pm \nSat.\, May 3 @ 7pm
URL:https://highdesertbits.com/event/sunriver-stars-community-theatre-presents-the-man-who-shot-liberty-valance-5/
LOCATION:Legend Cider Company\, 16481 Bluewood Pl\, LaPine\, OR\, 97753\, United States
END:VEVENT
BEGIN:VEVENT
DTSTART;TZID=UTC:20250503T000000
DTEND;TZID=UTC:20250503T235959
DTSTAMP:20260425T162850
CREATED:20250211T222625Z
LAST-MODIFIED:20250211T222625Z
UID:1143-1746230400-1746316799@highdesertbits.com
SUMMARY:AUDITIONS for ROCK OF AGES with Theater in the Park
DESCRIPTION:AUDITIONS for ROCK OF AGES with Theater in the Park \nBook by Chris D’Arienzo\, arrangements and orchestrations by Ethan Popp \n  \nSat.\, May 3 \nSun.\, May 4
URL:https://highdesertbits.com/event/auditions-for-rock-of-ages-with-theater-in-the-park/
LOCATION:Theatre in the Park\, Drake Park\, Bend\, OR\, 97701\, United States
ORGANIZER;CN="Theatre in the Park":MAILTO:info@layitoutevents.com
END:VEVENT
BEGIN:VEVENT
DTSTART;TZID=UTC:20250502T193000
DTEND;TZID=UTC:20250502T213000
DTSTAMP:20260425T162850
CREATED:20250429T210024Z
LAST-MODIFIED:20250429T210024Z
UID:1384-1746214200-1746221400@highdesertbits.com
SUMMARY:Deschutes Theater Company presents THE FOREIGNER
DESCRIPTION:Deschutes Theater Company presents THE FOREIGNER by Larry Shue \nFri.\, May 2nd @ 7:30pm \nSat.\, May 3rd @ 7:30pm \nThu.\, May 8tth @ 7:30pm \nFri.\, May 9th @ 7:30pm \nSat.\, May 10th @ 2pm and 7:30 \nUnity Spiritual Community of Cnetral Oregon
URL:https://highdesertbits.com/event/deschutes-theater-company-presents-the-foreigner/
LOCATION:Unity Community Central Oregon\, 63645 Scenic Dr\, Bend\, OR\, 97701
END:VEVENT
BEGIN:VEVENT
DTSTART;TZID=UTC:20250502T193000
DTEND;TZID=UTC:20250502T213000
DTSTAMP:20260425T162850
CREATED:20250112T174632Z
LAST-MODIFIED:20250112T174632Z
UID:989-1746214200-1746221400@highdesertbits.com
SUMMARY:Greenhouse Cabaret presnts NEXT TO NORMAL
DESCRIPTION:Greenhouse Cabaret presents NEXT TO NORMAL \nMusic by Tom Kitt\, lyrics and book by Brian Yorkey \n___                                              Thu.\, 4/17 @ 7:30pm                  Thu.\, 5/1 @ 7:30pm \nFri.\, 4/4 @ 7:30pm                        Fri.\, 4/18 @ 7:30pm                   Fri.\, 5/2 @ 7:30pm \nSat.\, 4/5 @ 7:30pm                     Sat.\, 4/19 @ 7:30pm                    Sat.\, 5/3 @ 7:30pm \nSun.\, 4/6 @ 7:30pm                      Sun.\, 4/20 7:30pm \n  \nThu.\, 4/10 @ 7:30                        Thu.\, 4/24 @ 7:30pm \nFri.\, 4/11 @ 7:30pm                   Fri.\, 4/25 @ 7:30pm \nSat.\, 4/12 @ 7:30pm                  Sat.\, 4/26 @ 7:30pm \nSun.\, 4/13 @ 7:30pm                    Sun.\, 4/27 @ 7:30pm \nDirected by founder John Kish and Greenhouse returnee Josh Curtis (Proof)\, music directed by Natalie True (Sweeney Todd). \nAge recommendation: 14+ \nPlease note: This production contains some adult topics\, including depictions of various mental health conditions and disorders\, suicide\, themes of bereavement\, and strong language.
URL:https://highdesertbits.com/event/greenhouse-cabaret-presnts-next-to-normal/
LOCATION:Greenhouse Cabaret\, 1017 NE 2nd St.\, Bend\, OR\, 97701\, United States
END:VEVENT
BEGIN:VEVENT
DTSTART;TZID=UTC:20250502T190000
DTEND;TZID=UTC:20250502T210000
DTSTAMP:20260425T162850
CREATED:20250301T204559Z
LAST-MODIFIED:20250301T204559Z
UID:1279-1746212400-1746219600@highdesertbits.com
SUMMARY:Sunriver Stars Community Theatre presents THE MAN WHO SHOT LIBERTY VALANCE
DESCRIPTION:Sunriver Stars Community Theatre presents THE MAN WHO SHOT LIBERTY VALANCE \nWritten by Jethro Compton \nPerformed at The Door in Sunriver \nFri.\, April 25 @ 7pm \nSat.\, April 26 @ 7pm \nSun.\, April 27 @ 2pm \nPerformed at Legend Cider Company in LaPine \nFri.\, May 2 @ 7pm \nSat.\, May 3 @ 7pm
URL:https://highdesertbits.com/event/sunriver-stars-community-theatre-presents-the-man-who-shot-liberty-valance-4/
LOCATION:Legend Cider Company\, 16481 Bluewood Pl\, LaPine\, OR\, 97753\, United States
END:VEVENT
BEGIN:VEVENT
DTSTART;TZID=UTC:20250501T080000
DTEND;TZID=UTC:20250501T170000
DTSTAMP:20260425T162850
CREATED:20250112T174437Z
LAST-MODIFIED:20250112T174437Z
UID:987-1746086400-1746118800@highdesertbits.com
SUMMARY:Greenhouse Cabaret presents NEXT TO NORMAL
DESCRIPTION:Greenhouse Cabaret presents NEXT TO NORMAL \nMusic by Tom Kitt\, lyrics and book by Brian Yorkey \n___                                              Thu.\, 4/17 @ 7:30pm                  Thu.\, 5/1 @ 7:30pm \nFri.\, 4/4 @ 7:30pm                        Fri.\, 4/18 @ 7:30pm                   Fri.\, 5/2 @ 7:30pm \nSat.\, 4/5 @ 7:30pm                     Sat.\, 4/19 @ 7:30pm                    Sat.\, 5/3 @ 7:30pm \nSun.\, 4/6 @ 7:30pm                      Sun.\, 4/20 7:30pm \n  \nThu.\, 4/10 @ 7:30                        Thu.\, 4/24 @ 7:30pm \nFri.\, 4/11 @ 7:30pm                   Fri.\, 4/25 @ 7:30pm \nSat.\, 4/12 @ 7:30pm                  Sat.\, 4/26 @ 7:30pm \nSun.\, 4/13 @ 7:30pm                    Sun.\, 4/27 @ 7:30pm \nDirected by founder John Kish and Greenhouse returnee Josh Curtis (Proof)\, music directed by Natalie True (Sweeney Todd). \nAge recommendation: 14+ \nPlease note: This production contains some adult topics\, including depictions of various mental health conditions and disorders\, suicide\, themes of bereavement\, and strong language.
URL:https://highdesertbits.com/event/greenhouse-cabaret-presents-next-to-normal-15/
LOCATION:Greenhouse Cabaret\, 1017 NE 2nd St.\, Bend\, OR\, 97701\, United States
END:VEVENT
BEGIN:VEVENT
DTSTART;TZID=UTC:20250427T193000
DTEND;TZID=UTC:20250427T213000
DTSTAMP:20260425T162850
CREATED:20250112T174237Z
LAST-MODIFIED:20250112T174951Z
UID:985-1745782200-1745789400@highdesertbits.com
SUMMARY:Greenhouse Cabaret presents NEXT TO NORMAL
DESCRIPTION:Greenhouse Cabaret presents NEXT TO NORMAL \nMusic by Tom Kitt\, lyrics and book by Brian Yorkey \n___                                              Thu.\, 4/17 @ 7:30pm                  Thu.\, 5/1 @ 7:30pm \nFri.\, 4/4 @ 7:30pm                        Fri.\, 4/18 @ 7:30pm                   Fri.\, 5/2 @ 7:30pm \nSat.\, 4/5 @ 7:30pm                     Sat.\, 4/19 @ 7:30pm                    Sat.\, 5/3 @ 7:30pm \nSun.\, 4/6 @ 7:30pm                      Sun.\, 4/20 7:30pm \n  \nThu.\, 4/10 @ 7:30                        Thu.\, 4/24 @ 7:30pm \nFri.\, 4/11 @ 7:30pm                   Fri.\, 4/25 @ 7:30pm \nSat.\, 4/12 @ 7:30pm                   Sat.\, 4/26 @ 7:30pm \nSun.\, 4/13 @ 7:30pm                    Sun.\, 4/27 @ 7:30pm \nDirected by founder John Kish and Greenhouse returnee Josh Curtis (Proof)\, music directed by Natalie True (Sweeney Todd). \nAge recommendation: 14+ \nPlease note: This production contains some adult topics\, including depictions of various mental health conditions and disorders\, suicide\, themes of bereavement\, and strong language.
URL:https://highdesertbits.com/event/greenhouse-cabaret-presents-next-to-normal-14/
LOCATION:Greenhouse Cabaret\, 1017 NE 2nd St.\, Bend\, OR\, 97701\, United States
END:VEVENT
BEGIN:VEVENT
DTSTART;TZID=UTC:20250427T140000
DTEND;TZID=UTC:20250427T160000
DTSTAMP:20260425T162850
CREATED:20250424T032508Z
LAST-MODIFIED:20250424T032508Z
UID:1349-1745762400-1745769600@highdesertbits.com
SUMMARY:Mountain View High School presents THE WIZARD OF OZ
DESCRIPTION:Mountain View High School presents THE WIZARD OF OZ \nBy L Frank Baum\, Music and Lyrics by Harold Arlen and E. Y. Harburg \nFri.\, April 25 @ 7pm \nSat.\, April 26 @ 2pm and 7pm \nSun.\, April 27 @ 7pm
URL:https://highdesertbits.com/event/mountain-view-high-school-presents-the-wizard-of-oz-4/
LOCATION:Mt. View High School\, 2755 NE 27th St\,\, Bend\, OR\, 97701\, United States
END:VEVENT
BEGIN:VEVENT
DTSTART;TZID=UTC:20250427T140000
DTEND;TZID=UTC:20250427T160000
DTSTAMP:20260425T162850
CREATED:20250301T204137Z
LAST-MODIFIED:20250301T204137Z
UID:1277-1745762400-1745769600@highdesertbits.com
SUMMARY:Sunriver Stars Community Theatre presents THE MAN WHO SHOT LIBERTY VALANCE
DESCRIPTION:Sunriver Stars Community Theatre presents THE MAN WHO SHOT LIBERTY VALANCE \nWritten by Jethro Compton \nPerformed at The Door in Sunriver \nFri.\, April 25 @ 7pm \nSat.\, April 26 @ 7pm \nSun.\, April 27 @ 2pm \nPerformed at Legend Cider Company in LaPine \nFri.\, May 2 @ 7pm \nSat.\, May 3 @ 7pm
URL:https://highdesertbits.com/event/sunriver-stars-community-theatre-presents-the-man-who-shot-liberty-valance-3/
LOCATION:The Door at Three Rivers\, 56885 Enterprise Dr\, Sunriver\, OR\, 97707\, United States
END:VEVENT
BEGIN:VEVENT
DTSTART;TZID=UTC:20250427T140000
DTEND;TZID=UTC:20250427T160000
DTSTAMP:20260425T162850
CREATED:20250212T000545Z
LAST-MODIFIED:20250212T000545Z
UID:1164-1745762400-1745769600@highdesertbits.com
SUMMARY:Summit High School presents SHAKESPEARE IN LOVE
DESCRIPTION:Summit High School presents SHAKESPEARE IN LOVE \n  \nThu.\, April 24 @ 7pm \nFri.\, April 25 @ 7pm \nSat.\, April 26 @ 7pm \nSun.\, April 27 @ 2pm \n  \n 
URL:https://highdesertbits.com/event/summit-high-school-presents-shakespeare-in-love-4/
LOCATION:Summit High School\, 2855 NW Clearwater Dr\,\, Bend\, OR\, 97703\, United States
END:VEVENT
BEGIN:VEVENT
DTSTART;TZID=UTC:20250426T193000
DTEND;TZID=UTC:20250426T213000
DTSTAMP:20260425T162850
CREATED:20250112T174053Z
LAST-MODIFIED:20250112T174053Z
UID:983-1745695800-1745703000@highdesertbits.com
SUMMARY:Greenhouse Cabaret presents NEXT TO NORMAL
DESCRIPTION:Greenhouse Cabaret presents NEXT TO NORMAL \nMusic by Tom Kitt\, lyrics and book by Brian Yorkey \n___                                              Thu.\, 4/17 @ 7:30pm                  Thu.\, 5/1 @ 7:30pm \nFri.\, 4/4 @ 7:30pm                        Fri.\, 4/18 @ 7:30pm                   Fri.\, 5/2 @ 7:30pm \nSat.\, 4/5 @ 7:30pm                     Sat.\, 4/19 @ 7:30pm                    Sat.\, 5/3 @ 7:30pm \nSun.\, 4/6 @ 7:30pm                      Sun.\, 4/20 7:30pm \n  \nThu.\, 4/10 @ 7:30                        Thu.\, 4/24 @ 7:30pm \nFri.\, 4/11 @ 7:30pm                   Fri.\, 4/25 @ 7:30pm \nSat.\, 4/12 @ 7:30pm                    Sat.\, 4/26 @ 7:30pm \nSun.\, 4/13 @ 7:30pm                    Sun.\, 4/27 @ 7:30pm \nDirected by founder John Kish and Greenhouse returnee Josh Curtis (Proof)\, music directed by Natalie True (Sweeney Todd). \nAge recommendation: 14+ \nPlease note: This production contains some adult topics\, including depictions of various mental health conditions and disorders\, suicide\, themes of bereavement\, and strong language.
URL:https://highdesertbits.com/event/greenhouse-cabaret-presents-next-to-normal-13/
LOCATION:Greenhouse Cabaret\, 1017 NE 2nd St.\, Bend\, OR\, 97701\, United States
END:VEVENT
BEGIN:VEVENT
DTSTART;TZID=UTC:20250426T190000
DTEND;TZID=UTC:20250426T210000
DTSTAMP:20260425T162850
CREATED:20250424T033302Z
LAST-MODIFIED:20250424T033302Z
UID:1358-1745694000-1745701200@highdesertbits.com
SUMMARY:LaPine High School Performing Arts presents CHARLIE AND THE CHOCOLATE FACTORY
DESCRIPTION:LaPine High School Performing Arts presents CHARLIE AND THE CHOCOLATE FACTORY \n  \nThu.\, April 24 @ 7pm \nFri.\, April 25 @ 7pm \nSat.\, April 26 @ 2pm and 7pm \nTickets on line or cash only at the door
URL:https://highdesertbits.com/event/lapine-high-school-performing-arts-presents-charlie-and-the-chocolate-factory-4/
LOCATION:Ponderosa Players\, 705 NE Majesty Ln\, Bend\, OR\, 97701
END:VEVENT
BEGIN:VEVENT
DTSTART;TZID=UTC:20250426T190000
DTEND;TZID=UTC:20250426T210000
DTSTAMP:20260425T162850
CREATED:20250424T032135Z
LAST-MODIFIED:20250424T032135Z
UID:1347-1745694000-1745701200@highdesertbits.com
SUMMARY:Mountain View High School presents THE WIZARD OF OZ
DESCRIPTION:Mountain View High School presents THE WIZARD OF OZ \nBy L Frank Baum\, Music and Lyrics by Harold Arlen and E. Y. Harburg \nFri.\, April 25 @ 7pm \nSat.\, April 26 @ 2pm and 7pm \nSun.\, April 27 @ 7pm
URL:https://highdesertbits.com/event/mountain-view-high-school-presents-the-wizard-of-oz-3/
LOCATION:Mt. View High School\, 2755 NE 27th St\,\, Bend\, OR\, 97701\, United States
END:VEVENT
BEGIN:VEVENT
DTSTART;TZID=UTC:20250426T190000
DTEND;TZID=UTC:20250426T210000
DTSTAMP:20260425T162850
CREATED:20250301T204020Z
LAST-MODIFIED:20250301T204020Z
UID:1275-1745694000-1745701200@highdesertbits.com
SUMMARY:Sunriver Stars Community Theatre presents THE MAN WHO SHOT LIBERTY VALANCE
DESCRIPTION:Sunriver Stars Community Theatre presents THE MAN WHO SHOT LIBERTY VALANCE \nWritten by Jethro Compton \nPerformed at The Door in Sunriver \nFri.\, April 25 @ 7pm \nSat.\, April 26 @ 7pm \nSun.\, April 27 @ 2pm \nPerformed at Legend Cider Company in LaPine \nFri.\, May 2 @ 7pm \nSat.\, May 3 @ 7pm
URL:https://highdesertbits.com/event/sunriver-stars-community-theatre-presents-the-man-who-shot-liberty-valance-2/
LOCATION:The Door at Three Rivers\, 56885 Enterprise Dr\, Sunriver\, OR\, 97707\, United States
END:VEVENT
BEGIN:VEVENT
DTSTART;TZID=UTC:20250426T190000
DTEND;TZID=UTC:20250426T210000
DTSTAMP:20260425T162850
CREATED:20250212T000216Z
LAST-MODIFIED:20250212T000216Z
UID:1162-1745694000-1745701200@highdesertbits.com
SUMMARY:Summit High School presents SHAKESPEARE IN LOVE
DESCRIPTION:Summit High School presents SHAKESPEARE IN LOVE \n  \nThu.\, April 24 @ 7pm \nFri.\, April 25 @ 7pm \nSat.\, April 26 @ 7pm \nSun.\, April 27 @ 2pm
URL:https://highdesertbits.com/event/summit-high-school-presents-shakespeare-in-love-3/
LOCATION:Summit High School\, 2855 NW Clearwater Dr\,\, Bend\, OR\, 97703\, United States
END:VEVENT
BEGIN:VEVENT
DTSTART;TZID=UTC:20250426T190000
DTEND;TZID=UTC:20250426T210000
DTSTAMP:20260425T162850
CREATED:20250110T164739Z
LAST-MODIFIED:20250211T234240Z
UID:881-1745694000-1745701200@highdesertbits.com
SUMMARY:Redmond High School presents  25th ANNUAL PUTNAM COUNTY SPELLING BEE
DESCRIPTION:Redmond High School presents 25th ANNUAL PUTNAM COUNTY SPELLING BEE \n  \nThu.\, 4/17 Spring Musical 7pm                Thu.\,  4/24 Spring Musical 7pm \nFri.\, 4/18 Spring Musical 7pm                  Fri.\, 4/25 Spring Musical 7pm \nSat.\, 4/19 Spring Musical 2pm                  Sat.\, 4/26  Spring Musical 2pm \nSat.\, 4/19 Spring Musical 7pm                 Sat.\, 4/26  Spring Musical 7pm
URL:https://highdesertbits.com/event/redmond-high-school-presents-spring-musical-tbd-7/
LOCATION:Redmond High School\, 675 SW Rimrock Way\, Redmond\, OR\, 97756
END:VEVENT
END:VCALENDAR