BEGIN:VCALENDAR
VERSION:2.0
PRODID:-//High Desert B.I.T.S. - ECPv6.15.20//NONSGML v1.0//EN
CALSCALE:GREGORIAN
METHOD:PUBLISH
X-WR-CALNAME:High Desert B.I.T.S.
X-ORIGINAL-URL:https://highdesertbits.com
X-WR-CALDESC:Events for High Desert B.I.T.S.
REFRESH-INTERVAL;VALUE=DURATION:PT1H
X-Robots-Tag:noindex
X-PUBLISHED-TTL:PT1H
BEGIN:VTIMEZONE
TZID:UTC
BEGIN:STANDARD
TZOFFSETFROM:+0000
TZOFFSETTO:+0000
TZNAME:UTC
DTSTART:20240101T000000
END:STANDARD
END:VTIMEZONE
BEGIN:VEVENT
DTSTART;TZID=UTC:20250726T140000
DTEND;TZID=UTC:20250726T160000
DTSTAMP:20260425T152847
CREATED:20250604T135624Z
LAST-MODIFIED:20250604T140836Z
UID:1573-1753538400-1753545600@highdesertbits.com
SUMMARY:Ellipse Theatre Community presents VOICELESS: A MUSICAL
DESCRIPTION:Ellipse Theatre Community presents VOICELESS: A MUSICAL \nMusic and lyrics by Deena Kamm. Written by Anne Fenn. \nAt Caldera High School \nThu.\, July 24 @  7pm \nFri.\, July 25 @ 7pm \nSat.\, July 26 @ 2pm and 7pm \nSun.\, July 27 @ 2pm \n  \nThu.\, July 31 @ 7pm \nFri.\, Aug 1 @ 7pm \nSat.\, Aug 2 @ 7pm \nSun.\, Aug 3 @ 2pm
URL:https://highdesertbits.com/event/ellipse-theatre-community-presents-voiceless-a-musical-3/
LOCATION:Caldera High School\, 60925 SE 15th St\,\, Bend\, OR\, 97702\, United States
ORGANIZER;CN="ETC Ellipse Theatre Community":MAILTO:https://www.etcbend.org/contact
END:VEVENT
BEGIN:VEVENT
DTSTART;TZID=UTC:20250725T190000
DTEND;TZID=UTC:20250725T210000
DTSTAMP:20260425T152847
CREATED:20250629T043830Z
LAST-MODIFIED:20250629T043830Z
UID:1657-1753470000-1753477200@highdesertbits.com
SUMMARY:Ponderosa Players present TOO DARNED HOT
DESCRIPTION:Ponderosa Players present TOO DARNED HOT \nAnnual musical theatre review \n  \nFri.\, July 25 @ 7pm \nSat.\, July 26 @ 7pm \nAt the Tower Theatre
URL:https://highdesertbits.com/event/ponderosa-players-present-too-darned-hot/
LOCATION:Tower Theatre\, 835 NW Wall St\, Bend\, OR\, 97703\, United States
END:VEVENT
BEGIN:VEVENT
DTSTART;TZID=UTC:20250725T190000
DTEND;TZID=UTC:20250725T210000
DTSTAMP:20260425T152847
CREATED:20250604T135512Z
LAST-MODIFIED:20250604T141003Z
UID:1571-1753470000-1753477200@highdesertbits.com
SUMMARY:Ellipse Theatre Community presents VOICELESS: A MUSICAL
DESCRIPTION:Ellipse Theatre Community presents VOICELESS: A MUSICAL \nMusic and lyrics by Deena Kamm. Written by Anne Fenn. \nAt Caldera High School \nThu.\, July 24 @  7pm \nFri.\, July 25 @ 7pm \nSat.\, July 26 @ 2pm and 7pm \nSun.\, July 27 @ 2pm \n  \nThu.\, July 31 @ 7pm \nFri.\, Aug 1 @ 7pm \nSat.\, Aug 2 @ 7pm \nSun.\, Aug 3 @ 2pm
URL:https://highdesertbits.com/event/ellipse-theatre-community-presents-voiceless-a-musical-2/
LOCATION:Caldera High School\, 60925 SE 15th St\,\, Bend\, OR\, 97702\, United States
ORGANIZER;CN="ETC Ellipse Theatre Community":MAILTO:https://www.etcbend.org/contact
END:VEVENT
BEGIN:VEVENT
DTSTART;TZID=UTC:20250725T190000
DTEND;TZID=UTC:20250725T210000
DTSTAMP:20260425T152847
CREATED:20250520T172459Z
LAST-MODIFIED:20250521T143041Z
UID:1477-1753470000-1753477200@highdesertbits.com
SUMMARY:Guerilla Shakespeare presents AS YOU LIKE IT
DESCRIPTION:Guerilla Shakespeare presents AS YOU LIKE IT \nThu.\, July 24 and Fri.\, 25 @ 7pm  Deschutes Historical Museum\, Bend \nJuly 26 @ 7pm   Pioneer Park\, Bend \nJuly 27 @ 3pm   Pioneeer Park\, Bend \nJuly 30 @ 7pm   Suttle Lake Campground\, Sisters \nJuly 31st @ 7pm  Craft Kitchen\, Bend \nAugust 1 @ 7pm Maragas Winery\, Culver \nAugust 2 @ 7pm   Alpenglow Park\, Bend
URL:https://highdesertbits.com/event/guerilla-shakespeare-presents-as-you-like-it/
LOCATION:Deschutes Historical Museum\, 129 NW Idaho Ave\, Bend\, 97703
ORGANIZER;CN="Guerilla Shakespeare":MAILTO:clinton.k.clark@gmail.com
END:VEVENT
BEGIN:VEVENT
DTSTART;TZID=UTC:20250724T190000
DTEND;TZID=UTC:20250724T210000
DTSTAMP:20260425T152847
CREATED:20250604T135353Z
LAST-MODIFIED:20250604T135353Z
UID:1569-1753383600-1753390800@highdesertbits.com
SUMMARY:Ellipse Theatre Community presents VOICELESS: A MUSICAL
DESCRIPTION:Ellipse Theatre Community presents VOICELESS: A MUSICAL \nMusic and lyrics by Deena Kamm. Written by Anne Fenn. \nAt Caldera High School \nThu.\, July 24 @  7pm \nFri.\, July 25 @ 7pm \nSat.\, July 26 @ 2pm and 7pm \nSun.\, July 27 @ 2pm \n  \nThu.\, July 31 @ 7pm \nFri.\, Aug 1 @ 7pm \nSat.\, Aug 2 @ 7pm \nSun.\, Aug 3 @ 7pm
URL:https://highdesertbits.com/event/ellipse-theatre-community-presents-voiceless-a-musical/
LOCATION:Caldera High School\, 60925 SE 15th St\,\, Bend\, OR\, 97702\, United States
ORGANIZER;CN="ETC Ellipse Theatre Community":MAILTO:https://www.etcbend.org/contact
END:VEVENT
BEGIN:VEVENT
DTSTART;TZID=UTC:20250724T190000
DTEND;TZID=UTC:20250724T210000
DTSTAMP:20260425T152847
CREATED:20250102T060206Z
LAST-MODIFIED:20250521T143001Z
UID:864-1753383600-1753390800@highdesertbits.com
SUMMARY:Guerilla Shakespeare Presents AS YOU LIKE IT
DESCRIPTION:Thu.\, July 24 and Fri.\, 25 @ 7pm  Deschutes Historical Museum\, Bend \nJuly 26 @ 7pm   Pioneer Park\, Bend \nJuly 27 @ 3pm   Pioneeer Park\, Bend \nJuly 30 @ 7pm   Suttle Lake Campground\, Sisters \nJuly 31st @ 7pm  Craft Kitchen\, Bend \nAugust 1 @ 7pm Maragas Winery\, Culver \nAugust 2 @ 7pm   Alpenglow Park\, Bend
URL:https://highdesertbits.com/event/guerilla-shakespeare-presents-as-you-like-it-summer-2025/
LOCATION:Deschutes Historical Museum\, 129 NW Idaho Ave\, Bend\, 97703
ORGANIZER;CN="Guerilla Shakespeare":MAILTO:clinton.k.clark@gmail.com
END:VEVENT
BEGIN:VEVENT
DTSTART;TZID=UTC:20250712T140000
DTEND;TZID=UTC:20250712T160000
DTSTAMP:20260425T152847
CREATED:20250604T141931Z
LAST-MODIFIED:20250604T141931Z
UID:1597-1752328800-1752336000@highdesertbits.com
SUMMARY:Prineville Music Theatre Camp presents SPONGEBOB\, THE MUSICAL
DESCRIPTION:Prineville Music Theatre Camp presents SPONGEBOB\, THE MUSICAL \nCo-conceived and directed by Tina Landau with songs by various artists and a book by Kyle Jarrow. \n  \nFri.\, July 11 @ 6pm \nSat.\, July 12 @ 2pm \nAt Crook County High School
URL:https://highdesertbits.com/event/prineville-music-theatre-camp-presents-spongebob-the-musical-2/
LOCATION:Crook County High School\, 1100 SE Lynn Blvd\, Prineville\, OR\, 97754
END:VEVENT
BEGIN:VEVENT
DTSTART;TZID=UTC:20250711T180000
DTEND;TZID=UTC:20250711T200000
DTSTAMP:20260425T152847
CREATED:20250604T141824Z
LAST-MODIFIED:20250604T141824Z
UID:1594-1752256800-1752264000@highdesertbits.com
SUMMARY:Prineville Music Theatre Camp presents SPONGEBOB\, THE MUSICAL
DESCRIPTION:Prineville Music Theatre Camp presents SPONGEBOB\, THE MUSICAL \nCo-conceived and directed by Tina Landau with songs by various artists and a book by Kyle Jarrow. \n  \nFri.\, July 11 @ 6pm \nSat.\, July 12 @ 2pm \nAt Crook County High School
URL:https://highdesertbits.com/event/prineville-music-theatre-camp-presents-spongebob-the-musical/
LOCATION:Crook County High School\, 1100 SE Lynn Blvd\, Prineville\, OR\, 97754
END:VEVENT
BEGIN:VEVENT
DTSTART;TZID=UTC:20250707T170000
DTEND;TZID=UTC:20250707T200000
DTSTAMP:20260425T152847
CREATED:20250630T134621Z
LAST-MODIFIED:20250630T134621Z
UID:1662-1751907600-1751918400@highdesertbits.com
SUMMARY:AUDITIONS for CTC's UNDER THE STARS: A Cascades Cabaret
DESCRIPTION:AUDITIONS for CTC’s UNDER THE STARS: A Cascades Cabaret \nSat.\, July 7 from 5-8pm \n  \nShow dates Aug 15-16\, 22-23 \n 
URL:https://highdesertbits.com/event/auditions-for-ctcs-under-the-stars-a-cascades-cabaret-2/
LOCATION:CTC Cascade Theatrical Company\, 148 NW Greenwood Ave\, Bend\, OR\, 97703
ORGANIZER;CN="CTC Cascade Theatrical Company":MAILTO:ctcinfo@cascadestheatrical.org
END:VEVENT
BEGIN:VEVENT
DTSTART;TZID=UTC:20250705T110000
DTEND;TZID=UTC:20250705T140000
DTSTAMP:20260425T152847
CREATED:20250620T134902Z
LAST-MODIFIED:20250630T134707Z
UID:1649-1751713200-1751724000@highdesertbits.com
SUMMARY:AUDITIONS for CTC's UNDER THE STARS: A Cascades Cabaret
DESCRIPTION:AUDITIONS for CTC’s UNDER THE STARS: A Cascades Cabaret \nSat.\, July 5 from 11am-2pm \n  \nShow dates Aug 15-16\, 22-23
URL:https://highdesertbits.com/event/auditions-for-ctcs-under-the-stars-a-cascades-cabaret/
LOCATION:CTC Cascade Theatrical Company\, 148 NW Greenwood Ave\, Bend\, OR\, 97703
ORGANIZER;CN="CTC Cascade Theatrical Company":MAILTO:ctcinfo@cascadestheatrical.org
END:VEVENT
BEGIN:VEVENT
DTSTART;TZID=UTC:20250629T140000
DTEND;TZID=UTC:20250629T160000
DTSTAMP:20260425T152847
CREATED:20250604T132958Z
LAST-MODIFIED:20250604T132958Z
UID:1553-1751205600-1751212800@highdesertbits.com
SUMMARY:CTC presents CAT ON A HOT TIN ROOF
DESCRIPTION:CTC presents CAT ON A HOT TIN ROOF \nby Tennessee Williams \nFri.\, 6/13 @ 7:30pm \nSat.\, 6/14 @ 7:30pm \nSun.\, 6/15 @ 2pm \n  \nThu.\, 6/19 @ 7:30pm \nFri.\, 6/20 @7:30pm \nSat.\, 6/21 @ 7:30pm \nSun.\, 6/22 @ 2pm \n  \nThu.\, 6/26 @ 7:30pm \nFri.\, 6/27 @ 7:30pm \nSat.\, 6/28 @ 7:30pm \nSun.\, 6/29 @ 2pm
URL:https://highdesertbits.com/event/ctc-presents-cat-on-a-hot-tin-roof-11/
LOCATION:CTC Cascade Theatrical Company\, 148 NW Greenwood Ave\, Bend\, OR\, 97703
ORGANIZER;CN="CTC Cascade Theatrical Company":MAILTO:ctcinfo@cascadestheatrical.org
END:VEVENT
BEGIN:VEVENT
DTSTART;TZID=UTC:20250628T193000
DTEND;TZID=UTC:20250628T213000
DTSTAMP:20260425T152847
CREATED:20250604T132850Z
LAST-MODIFIED:20250604T132850Z
UID:1551-1751139000-1751146200@highdesertbits.com
SUMMARY:CTC presents CAT ON A HOT TIN ROOF
DESCRIPTION:CTC presents CAT ON A HOT TIN ROOF \nby Tennessee Williams \nFri.\, 6/13 @ 7:30pm \nSat.\, 6/14 @ 7:30pm \nSun.\, 6/15 @ 2pm \n  \nThu.\, 6/19 @ 7:30pm \nFri.\, 6/20 @7:30pm \nSat.\, 6/21 @ 7:30pm \nSun.\, 6/22 @ 2pm \n  \nThu.\, 6/26 @ 7:30pm \nFri.\, 6/27 @ 7:30pm \nSat.\, 6/28 @ 7:30pm \nSun.\, 6/29 @ 2pm
URL:https://highdesertbits.com/event/ctc-presents-cat-on-a-hot-tin-roof-10/
LOCATION:CTC Cascade Theatrical Company\, 148 NW Greenwood Ave\, Bend\, OR\, 97703
ORGANIZER;CN="CTC Cascade Theatrical Company":MAILTO:ctcinfo@cascadestheatrical.org
END:VEVENT
BEGIN:VEVENT
DTSTART;TZID=UTC:20250628T190000
DTEND;TZID=UTC:20250628T210000
DTSTAMP:20260425T152847
CREATED:20250518T232554Z
LAST-MODIFIED:20250518T232554Z
UID:1470-1751137200-1751144400@highdesertbits.com
SUMMARY:Ponderosa Players present GUYS AND DOLLS
DESCRIPTION:Ponderosa Players present GUYS AND DOLLS \nMusic and lyrics by Frank Loesser and book by Jo Swerling and Abe Burrows \nAt the Hayshed \nWed.\, 6/25 @ 7pm \nThu.\, 6.26 @ 7pm \nFri.\, 6/27 @ 7pm \nSat.\, 6/28 @ 2pm and 7pm
URL:https://highdesertbits.com/event/ponderosa-players-present-guys-and-dolls-5/
LOCATION:The Hayshed\, 65125 Hunnell Rd\, Bend\, OR\, 97703
END:VEVENT
BEGIN:VEVENT
DTSTART;TZID=UTC:20250628T140000
DTEND;TZID=UTC:20250628T160000
DTSTAMP:20260425T152847
CREATED:20250518T232449Z
LAST-MODIFIED:20250518T232449Z
UID:1468-1751119200-1751126400@highdesertbits.com
SUMMARY:Ponderosa Players present GUYS AND DOLLS
DESCRIPTION:Ponderosa Players present GUYS AND DOLLS \nMusic and lyrics by Frank Loesser and book by Jo Swerling and Abe Burrows \nAt the Hayshed \nWed.\, 6/25 @ 7pm \nThu.\, 6.26 @ 7pm \nFri.\, 6/27 @ 7pm \nSat.\, 6/28 @ 2pm and 7pm
URL:https://highdesertbits.com/event/ponderosa-players-present-guys-and-dolls-4/
LOCATION:The Hayshed\, 65125 Hunnell Rd\, Bend\, OR\, 97703
END:VEVENT
BEGIN:VEVENT
DTSTART;TZID=UTC:20250627T193000
DTEND;TZID=UTC:20250627T213000
DTSTAMP:20260425T152847
CREATED:20250604T132742Z
LAST-MODIFIED:20250604T132742Z
UID:1549-1751052600-1751059800@highdesertbits.com
SUMMARY:CTC presents CAT ON A HOT TIN ROOF
DESCRIPTION:CTC presents CAT ON A HOT TIN ROOF \nby Tennessee Williams \nFri.\, 6/13 @ 7:30pm \nSat.\, 6/14 @ 7:30pm \nSun.\, 6/15 @ 2pm \n  \nThu.\, 6/19 @ 7:30pm \nFri.\, 6/20 @7:30pm \nSat.\, 6/21 @ 7:30pm \nSun.\, 6/22 @ 2pm \n  \nThu.\, 6/26 @ 7:30pm \nFri.\, 6/27 @ 7:30pm \nSat.\, 6/28 @ 7:30pm \nSun.\, 6/29 @ 2pm
URL:https://highdesertbits.com/event/ctc-presents-cat-on-a-hot-tin-roof-9/
LOCATION:CTC Cascade Theatrical Company\, 148 NW Greenwood Ave\, Bend\, OR\, 97703
ORGANIZER;CN="CTC Cascade Theatrical Company":MAILTO:ctcinfo@cascadestheatrical.org
END:VEVENT
BEGIN:VEVENT
DTSTART;TZID=UTC:20250627T190000
DTEND;TZID=UTC:20250627T210000
DTSTAMP:20260425T152847
CREATED:20250518T232331Z
LAST-MODIFIED:20250518T232331Z
UID:1466-1751050800-1751058000@highdesertbits.com
SUMMARY:Ponderosa Players present GUYS AND DOLLS
DESCRIPTION:Ponderosa Players present GUYS AND DOLLS \nMusic and lyrics by Frank Loesser and book by Jo Swerling and Abe Burrows \nAt the Hayshed \nWed.\, 6/25 @ 7pm \nThu.\, 6.26 @ 7pm \nFri.\, 6/27 @ 7pm \nSat.\, 6/28 @ 2pm and 7pm
URL:https://highdesertbits.com/event/ponderosa-players-present-guys-and-dolls-3/
LOCATION:The Hayshed\, 65125 Hunnell Rd\, Bend\, OR\, 97703
END:VEVENT
BEGIN:VEVENT
DTSTART;TZID=UTC:20250626T193000
DTEND;TZID=UTC:20250626T213000
DTSTAMP:20260425T152847
CREATED:20250604T132631Z
LAST-MODIFIED:20250604T132631Z
UID:1547-1750966200-1750973400@highdesertbits.com
SUMMARY:CTC presents CAT ON A HOT TIN ROOF
DESCRIPTION:CTC presents CAT ON A HOT TIN ROOF \nby Tennessee Williams \nFri.\, 6/13 @ 7:30pm \nSat.\, 6/14 @ 7:30pm \nSun.\, 6/15 @ 2pm \n  \nThu.\, 6/19 @ 7:30pm \nFri.\, 6/20 @7:30pm \nSat.\, 6/21 @ 7:30pm \nSun.\, 6/22 @ 2pm \n  \nThu.\, 6/26 @ 7:30pm \nFri.\, 6/27 @ 7:30pm \nSat.\, 6/28 @ 7:30pm \nSun.\, 6/29 @ 2pm
URL:https://highdesertbits.com/event/ctc-presents-cat-on-a-hot-tin-roof-8/
LOCATION:CTC Cascade Theatrical Company\, 148 NW Greenwood Ave\, Bend\, OR\, 97703
ORGANIZER;CN="CTC Cascade Theatrical Company":MAILTO:ctcinfo@cascadestheatrical.org
END:VEVENT
BEGIN:VEVENT
DTSTART;TZID=UTC:20250626T190000
DTEND;TZID=UTC:20250626T210000
DTSTAMP:20260425T152847
CREATED:20250518T232206Z
LAST-MODIFIED:20250518T232206Z
UID:1463-1750964400-1750971600@highdesertbits.com
SUMMARY:Ponderosa Players present GUYS AND DOLLS
DESCRIPTION:Ponderosa Players present GUYS AND DOLLS \nMusic and lyrics by Frank Loesser and book by Jo Swerling and Abe Burrows \nAt the Hayshed \nWed.\, 6/25 @ 7pm \nThu.\, 6.26 @ 7pm \nFri.\, 6/27 @ 7pm \nSat.\, 6/28 @ 2pm and 7pm
URL:https://highdesertbits.com/event/ponderosa-players-present-guys-and-dolls-2/
LOCATION:The Hayshed\, 65125 Hunnell Rd\, Bend\, OR\, 97703
END:VEVENT
BEGIN:VEVENT
DTSTART;TZID=UTC:20250625T190000
DTEND;TZID=UTC:20250625T210000
DTSTAMP:20260425T152847
CREATED:20250518T231944Z
LAST-MODIFIED:20250518T231944Z
UID:1460-1750878000-1750885200@highdesertbits.com
SUMMARY:Ponderosa Players present GUYS AND DOLLS
DESCRIPTION:Ponderosa Players present GUYS AND DOLLS \nMusic and lyrics by Frank Loesser and book by Jo Swerling and Abe Burrows \nAt the Hayshed \nWed.\, 6/25 @ 7pm \nThu.\, 6.26 @ 7pm \nFri.\, 6/27 @ 7pm \nSat.\, 6/28 @ 2pm and 7pm
URL:https://highdesertbits.com/event/ponderosa-players-present-guys-and-dolls/
LOCATION:the\, 65125 Hynnell Rd\, Bend\, OR\, 97703\, United States
END:VEVENT
BEGIN:VEVENT
DTSTART;TZID=UTC:20250622T150000
DTEND;TZID=UTC:20250622T180000
DTSTAMP:20260425T152847
CREATED:20250604T161143Z
LAST-MODIFIED:20250604T162523Z
UID:1611-1750604400-1750615200@highdesertbits.com
SUMMARY:AUDITIONS for ETC's ALMOST\, MAINE
DESCRIPTION:AUDITIONS for ETC’s ALMOST\, MAINE \nWritten by John Cariani \nFri.\, June 20\, 6-9pm \nSun.\, June 22\, 3-6pm \nHoly Communion Chruch \n1245 SE 3rd Street\, c10     Bend\, OR \n  \nShow dates (Subject to change)  Sept. 25 through October 18
URL:https://highdesertbits.com/event/auditions-for-etcs-almost-maine/
LOCATION:Holy Communion Church\, 1245 SE 3rd St\, Bend\, OR\, 97702
ORGANIZER;CN="ETC Ellipse Theatre Community":MAILTO:https://www.etcbend.org/contact
END:VEVENT
BEGIN:VEVENT
DTSTART;TZID=UTC:20250622T150000
DTEND;TZID=UTC:20250622T170000
DTSTAMP:20260425T152847
CREATED:20250217T153843Z
LAST-MODIFIED:20250217T153843Z
UID:1257-1750604400-1750611600@highdesertbits.com
SUMMARY:Ovation PA presents NEWSIES
DESCRIPTION:Ovation PA presents NEWSIES \nBased on the Disney film\, Newsies.  Music by Alan Menken\, lyrics by Jack Feldman\, book by Harvey Fierstein. Based on the screenplay by Bob Tzudiker and Noni White. \nSat.\, June 14 @ 6:30pm \nSun.\, June 14 @ 3pm \nThu.\, June 19 @ 6:30pm \nFri.\, June 20 @ 6:30pm \nSat.\, June 21 @ 6:30pm \nSun.\, June 22 @ 3pm \nAt Ridgeview High School
URL:https://highdesertbits.com/event/ovation-pa-presents-newsies-6/
LOCATION:Ridgeview High School\, 4555 SW Elkhorn Ave\, Redmond\, OR\, 97756
ORGANIZER;CN="Ovation Performing Arts":MAILTO:theatre@ovationpa.com
END:VEVENT
BEGIN:VEVENT
DTSTART;TZID=UTC:20250622T140000
DTEND;TZID=UTC:20250622T160000
DTSTAMP:20260425T152847
CREATED:20250604T132518Z
LAST-MODIFIED:20250604T132518Z
UID:1545-1750600800-1750608000@highdesertbits.com
SUMMARY:CTC presents CAT ON A HOT TIN ROOF
DESCRIPTION:CTC presents CAT ON A HOT TIN ROOF \nby Tennessee Williams \nFri.\, 6/13 @ 7:30pm \nSat.\, 6/14 @ 7:30pm \nSun.\, 6/15 @ 2pm \n  \nThu.\, 6/19 @ 7:30pm \nFri.\, 6/20 @7:30pm \nSat.\, 6/21 @ 7:30pm \nSun.\, 6/22 @ 2pm \n  \nThu.\, 6/26 @ 7:30pm \nFri.\, 6/27 @ 7:30pm \nSat.\, 6/28 @ 7:30pm \nSun.\, 6/29 @ 2pm
URL:https://highdesertbits.com/event/ctc-presents-cat-on-a-hot-tin-roof-7/
LOCATION:CTC Cascade Theatrical Company\, 148 NW Greenwood Ave\, Bend\, OR\, 97703
ORGANIZER;CN="CTC Cascade Theatrical Company":MAILTO:ctcinfo@cascadestheatrical.org
END:VEVENT
BEGIN:VEVENT
DTSTART;TZID=UTC:20250621T193000
DTEND;TZID=UTC:20250621T213000
DTSTAMP:20260425T152847
CREATED:20250604T132408Z
LAST-MODIFIED:20250604T132408Z
UID:1543-1750534200-1750541400@highdesertbits.com
SUMMARY:CTC presents CAT ON A HOT TIN ROOF
DESCRIPTION:CTC presents CAT ON A HOT TIN ROOF \nby Tennessee Williams \nFri.\, 6/13 @ 7:30pm \nSat.\, 6/14 @ 7:30pm \nSun.\, 6/15 @ 2pm \n  \nThu.\, 6/19 @ 7:30pm \nFri.\, 6/20 @7:30pm \nSat.\, 6/21 @ 7:30pm \nSun.\, 6/22 @ 2pm \n  \nThu.\, 6/26 @ 7:30pm \nFri.\, 6/27 @ 7:30pm \nSat.\, 6/28 @ 7:30pm \nSun.\, 6/29 @ 2pm
URL:https://highdesertbits.com/event/ctc-presents-cat-on-a-hot-tin-roof-6/
LOCATION:CTC Cascade Theatrical Company\, 148 NW Greenwood Ave\, Bend\, OR\, 97703
ORGANIZER;CN="CTC Cascade Theatrical Company":MAILTO:ctcinfo@cascadestheatrical.org
END:VEVENT
BEGIN:VEVENT
DTSTART;TZID=UTC:20250621T183000
DTEND;TZID=UTC:20250621T203000
DTSTAMP:20260425T152847
CREATED:20250217T153728Z
LAST-MODIFIED:20250217T153728Z
UID:1255-1750530600-1750537800@highdesertbits.com
SUMMARY:Ovation PA presents NEWSIES
DESCRIPTION:Ovation PA presents NEWSIES \nBased on the Disney film\, Newsies.  Music by Alan Menken\, lyrics by Jack Feldman\, book by Harvey Fierstein. Based on the screenplay by Bob Tzudiker and Noni White. \nSat.\, June 14 @ 6:30pm \nSun.\, June 14 @ 3pm \nThu.\, June 19 @ 6:30pm \nFri.\, June 20 @ 6:30pm \nSat.\, June 21 @ 6:30pm \nSun.\, June 22 @ 3pm \nAt Ridgeview High School
URL:https://highdesertbits.com/event/ovation-pa-presents-newsies-5/
LOCATION:Ridgeview High School\, 4555 SW Elkhorn Ave\, Redmond\, OR\, 97756
ORGANIZER;CN="Ovation Performing Arts":MAILTO:theatre@ovationpa.com
END:VEVENT
BEGIN:VEVENT
DTSTART;TZID=UTC:20250620T193000
DTEND;TZID=UTC:20250620T213000
DTSTAMP:20260425T152847
CREATED:20250604T132254Z
LAST-MODIFIED:20250604T132254Z
UID:1541-1750447800-1750455000@highdesertbits.com
SUMMARY:CTC presents CAT ON A HOT TIN ROOF
DESCRIPTION:CTC presents CAT ON A HOT TIN ROOF \nby Tennessee Williams \nFri.\, 6/13 @ 7:30pm \nSat.\, 6/14 @ 7:30pm \nSun.\, 6/15 @ 2pm \n  \nThu.\, 6/19 @ 7:30pm \nFri.\, 6/20 @7:30pm \nSat.\, 6/21 @ 7:30pm \nSun.\, 6/22 @ 2pm \n  \nThu.\, 6/26 @ 7:30pm \nFri.\, 6/27 @ 7:30pm \nSat.\, 6/28 @ 7:30pm \nSun.\, 6/29 @ 2pm
URL:https://highdesertbits.com/event/ctc-presents-cat-on-a-hot-tin-roof-5/
LOCATION:OR
ORGANIZER;CN="CTC Cascade Theatrical Company":MAILTO:ctcinfo@cascadestheatrical.org
END:VEVENT
BEGIN:VEVENT
DTSTART;TZID=UTC:20250620T183000
DTEND;TZID=UTC:20250620T193000
DTSTAMP:20260425T152847
CREATED:20250217T153508Z
LAST-MODIFIED:20250217T153508Z
UID:1253-1750444200-1750447800@highdesertbits.com
SUMMARY:Ovation PA presents NEWSIES
DESCRIPTION:Ovation PA presents NEWSIES \nBased on the Disney film\, Newsies.  Music by Alan Menken\, lyrics by Jack Feldman\, book by Harvey Fierstein. Based on the screenplay by Bob Tzudiker and Noni White. \nSat.\, June 14 @ 6:30pm \nSun.\, June 14 @ 3pm \nThu.\, June 19 @ 6:30pm \nFri.\, June 20 @ 6:30pm \nSat.\, June 21 @ 6:30pm \nSun.\, June 22 @ 3pm \nAt Ridgeview High School
URL:https://highdesertbits.com/event/ovation-pa-presents-newsies-4/
LOCATION:Ridgeview High School\, 4555 SW Elkhorn Ave\, Redmond\, OR\, 97756
ORGANIZER;CN="Ovation Performing Arts":MAILTO:theatre@ovationpa.com
END:VEVENT
BEGIN:VEVENT
DTSTART;TZID=UTC:20250620T180000
DTEND;TZID=UTC:20250620T210000
DTSTAMP:20260425T152847
CREATED:20250604T161000Z
LAST-MODIFIED:20250604T161041Z
UID:1608-1750442400-1750453200@highdesertbits.com
SUMMARY:AUDITIONS for ETC's ALMOST\, MAINE
DESCRIPTION:AUDITIONS for ETC’s ALMOST\, MAINE \nWritten by John Cariani \nFri.\, June 20\, 6-9pm \nSun.\, June 22\, 3-6pm \nHoly Communion Chruch \n1245 SE 3rd Street\, c10     Bend\, OR \n  \nShow dates (Subject to change)  Sept. 25 through October 18
URL:https://highdesertbits.com/event/auditions-for-ects-almost-maine/
LOCATION:Holy Communion Church\, 1245 SE 3rd St\, Bend\, OR\, 97702
ORGANIZER;CN="ETC Ellipse Theatre Community":MAILTO:https://www.etcbend.org/contact
END:VEVENT
BEGIN:VEVENT
DTSTART;TZID=UTC:20250619T183000
DTEND;TZID=UTC:20250619T203000
DTSTAMP:20260425T152847
CREATED:20250217T153338Z
LAST-MODIFIED:20250217T153338Z
UID:1251-1750357800-1750365000@highdesertbits.com
SUMMARY:Ovation PA presents NEWSIES
DESCRIPTION:Ovation PA presents NEWSIES \nBased on the Disney film\, Newsies.  Music by Alan Menken\, lyrics by Jack Feldman\, book by Harvey Fierstein. Based on the screenplay by Bob Tzudiker and Noni White. \nSat.\, June 14 @ 6:30pm \nSun.\, June 14 @ 3pm \nThu.\, June 19 @ 6:30pm \nFri.\, June 20 @ 6:30pm \nSat.\, June 21 @ 6:30pm \nSun.\, June 22 @ 3pm \nAt Ridgeview High School
URL:https://highdesertbits.com/event/ovation-pa-presents-newsies-3/
LOCATION:Ridgeview High School\, 4555 SW Elkhorn Ave\, Redmond\, OR\, 97756
ORGANIZER;CN="Ovation Performing Arts":MAILTO:theatre@ovationpa.com
END:VEVENT
BEGIN:VEVENT
DTSTART;TZID=UTC:20250619T080000
DTEND;TZID=UTC:20250619T170000
DTSTAMP:20260425T152847
CREATED:20250604T132143Z
LAST-MODIFIED:20250604T132143Z
UID:1539-1750320000-1750352400@highdesertbits.com
SUMMARY:CTC presents CAT ON A HOT TIN ROOF
DESCRIPTION:CTC presents CAT ON A HOT TIN ROOF \nby Tennessee Williams \nFri.\, 6/13 @ 7:30pm \nSat.\, 6/14 @ 7:30pm \nSun.\, 6/15 @ 2pm \n  \nThu.\, 6/19 @ 7:30pm \nFri.\, 6/20 @7:30pm \nSat.\, 6/21 @ 7:30pm \nSun.\, 6/22 @ 2pm \n  \nThu.\, 6/26 @ 7:30pm \nFri.\, 6/27 @ 7:30pm \nSat.\, 6/28 @ 7:30pm \nSun.\, 6/29 @ 2pm
URL:https://highdesertbits.com/event/ctc-presents-cat-on-a-hot-tin-roof-4/
LOCATION:CTC Cascade Theatrical Company\, 148 NW Greenwood Ave\, Bend\, OR\, 97703
ORGANIZER;CN="CTC Cascade Theatrical Company":MAILTO:ctcinfo@cascadestheatrical.org
END:VEVENT
BEGIN:VEVENT
DTSTART;TZID=UTC:20250615T150000
DTEND;TZID=UTC:20250615T170000
DTSTAMP:20260425T152847
CREATED:20250608T215518Z
LAST-MODIFIED:20250608T215518Z
UID:1613-1749999600-1750006800@highdesertbits.com
SUMMARY:Ovation PA presents NEWSIES
DESCRIPTION:Ovation PA presents NEWSIES \nBased on the Disney film\, Newsies.  Music by Alan Menken\, lyrics by Jack Feldman\, book by Harvey Fierstein. Based on the screenplay by Bob Tzudiker and Noni White. \nSat.\, June 14 @ 6:30pm \nSun.\, June 15 @ 3pm \nThu.\, June 19 @ 6:30pm \nFri.\, June 20 @ 6:30pm \nSat.\, June 21 @ 6:30pm \nSun.\, June 22 @ 3pm \nAt Ridgeview High School
URL:https://highdesertbits.com/event/ovation-pa-presents-newsies-7/
LOCATION:Ridgeview High School\, 4555 SW Elkhorn Ave\, Redmond\, OR\, 97756
ORGANIZER;CN="Ovation Performing Arts":MAILTO:theatre@ovationpa.com
END:VEVENT
END:VCALENDAR