BEGIN:VCALENDAR
VERSION:2.0
PRODID:-//High Desert B.I.T.S. - ECPv6.15.20//NONSGML v1.0//EN
CALSCALE:GREGORIAN
METHOD:PUBLISH
X-ORIGINAL-URL:https://highdesertbits.com
X-WR-CALDESC:Events for High Desert B.I.T.S.
REFRESH-INTERVAL;VALUE=DURATION:PT1H
X-Robots-Tag:noindex
X-PUBLISHED-TTL:PT1H
BEGIN:VTIMEZONE
TZID:UTC
BEGIN:STANDARD
TZOFFSETFROM:+0000
TZOFFSETTO:+0000
TZNAME:UTC
DTSTART:20250101T000000
END:STANDARD
END:VTIMEZONE
BEGIN:VEVENT
DTSTART;TZID=UTC:20260509T193000
DTEND;TZID=UTC:20260509T213000
DTSTAMP:20260423T223040
CREATED:20250908T132518Z
LAST-MODIFIED:20250908T132518Z
UID:2048-1778355000-1778362200@highdesertbits.com
SUMMARY:Cascade Theatrical Company presents AMERICAN BUFFALO
DESCRIPTION:Cascade Theatrical Company presents AMERICAN BUFFALO \nBy David Mamet \nSat.\, 5/9 @ 7:30pm \nSun.\, 5/10 @ 2pm
URL:https://highdesertbits.com/event/cascade-theatrical-company-presents-american-buffalo-10/
LOCATION:CTC Cascade Theatrical Company\, 148 NW Greenwood Ave\, Bend\, OR\, 97703
ORGANIZER;CN="CTC Cascade Theatrical Company":MAILTO:ctcinfo@cascadestheatrical.org
END:VEVENT
BEGIN:VEVENT
DTSTART;TZID=UTC:20260510T080000
DTEND;TZID=UTC:20260510T170000
DTSTAMP:20260423T223040
CREATED:20250908T132636Z
LAST-MODIFIED:20250908T132636Z
UID:2050-1778400000-1778432400@highdesertbits.com
SUMMARY:Cascade Theatrical Company presents AMERICAN BUFFALO
DESCRIPTION:Cascade Theatrical Company presents AMERICAN BUFFALO \nBy David Mamet \nSun.\, 5/10 @ 2pm
URL:https://highdesertbits.com/event/cascade-theatrical-company-presents-american-buffalo-11/
LOCATION:CTC Cascade Theatrical Company\, 148 NW Greenwood Ave\, Bend\, OR\, 97703
ORGANIZER;CN="CTC Cascade Theatrical Company":MAILTO:ctcinfo@cascadestheatrical.org
END:VEVENT
BEGIN:VEVENT
DTSTART;TZID=UTC:20260515T190000
DTEND;TZID=UTC:20260515T210000
DTSTAMP:20260423T223040
CREATED:20260407T184357Z
LAST-MODIFIED:20260407T184357Z
UID:2539-1778871600-1778878800@highdesertbits.com
SUMMARY:Caldera High School presents NEWSIES
DESCRIPTION:Caldera High School presents NEWSIES \nWith music by Alan Menken\, lyrics by Jack Feldman\, and a book by Harvey Fierstein. \n  \nFri.\, 5/15 @ 7pm \nSat.\, 5/16 @ 2pm and 7pm
URL:https://highdesertbits.com/event/caldera-high-school-presents-newsies-4/
LOCATION:Caldera High School\, 60925 SE 15th St\,\, Bend\, OR\, 97702\, United States
END:VEVENT
BEGIN:VEVENT
DTSTART;TZID=UTC:20260516T140000
DTEND;TZID=UTC:20260516T160000
DTSTAMP:20260423T223040
CREATED:20260407T184759Z
LAST-MODIFIED:20260407T184759Z
UID:2543-1778940000-1778947200@highdesertbits.com
SUMMARY:Caldera High School presents NEWSIES
DESCRIPTION:Caldera High School presents NEWSIES \nWith music by Alan Menken\, lyrics by Jack Feldman\, and a book by Harvey Fierstein. \nSat.\, 5/16 @ 2pm and 7pm
URL:https://highdesertbits.com/event/caldera-high-school-presents-newsies-6/
LOCATION:Caldera High School\, 60925 SE 15th St\,\, Bend\, OR\, 97702\, United States
END:VEVENT
BEGIN:VEVENT
DTSTART;TZID=UTC:20260516T190000
DTEND;TZID=UTC:20260516T210000
DTSTAMP:20260423T223040
CREATED:20260407T184545Z
LAST-MODIFIED:20260407T184545Z
UID:2541-1778958000-1778965200@highdesertbits.com
SUMMARY:Caldera High School presents NEWSIES
DESCRIPTION:Caldera High School presents NEWSIES \nWith music by Alan Menken\, lyrics by Jack Feldman\, and a book by Harvey Fierstein. \nSat.\, 5/16 @ 7pm
URL:https://highdesertbits.com/event/caldera-high-school-presents-newsies-5/
LOCATION:Caldera High School\, 60925 SE 15th St\,\, Bend\, OR\, 97702\, United States
END:VEVENT
BEGIN:VEVENT
DTSTART;TZID=UTC:20260524T000000
DTEND;TZID=UTC:20260524T235959
DTSTAMP:20260423T223040
CREATED:20250915T132812Z
LAST-MODIFIED:20250915T132812Z
UID:2088-1779580800-1779667199@highdesertbits.com
SUMMARY:OperaBend hosts Ping and Woof production of THE MEDIUM
DESCRIPTION:OperaBend hosts Ping and Woof production of THE MEDIUM \nSun.\, May 24 TBD \nCOCC Campus
URL:https://highdesertbits.com/event/operabend-hosts-ping-and-woof-production-of-the-medium/
LOCATION:OR
ORGANIZER;CN="OperaBend":MAILTO:mail@operabend.org
END:VEVENT
BEGIN:VEVENT
DTSTART;TZID=UTC:20260601T000000
DTEND;TZID=UTC:20260601T235959
DTSTAMP:20260423T223040
CREATED:20250301T144632Z
LAST-MODIFIED:20250301T144632Z
UID:1270-1780272000-1780358399@highdesertbits.com
SUMMARY:Ellipse Theatre Community presents RABBIT HOLE
DESCRIPTION:Ellipse Theatre Community presents RABBIT HOLE \nby David Lindsay-Abaire \nJune 2026 TBD
URL:https://highdesertbits.com/event/ellipse-theatre-community-presents-rabbit-hole/
LOCATION:OR
ORGANIZER;CN="ETC Ellipse Theatre Community":MAILTO:https://www.etcbend.org/contact
END:VEVENT
BEGIN:VEVENT
DTSTART;TZID=UTC:20260601T080000
DTEND;TZID=UTC:20260601T170000
DTSTAMP:20260423T223040
CREATED:20250120T033617Z
LAST-MODIFIED:20250120T033617Z
UID:1074-1780300800-1780333200@highdesertbits.com
SUMMARY:Ponderosa Players present ONCE UPON A MATTRESS in June 2026
DESCRIPTION:Ponderosa Players present ONCE UPON A MATTRESS in June 2026 \nDates and times TBD
URL:https://highdesertbits.com/event/ponderosa-players-present-once-upon-a-mattress-in-june-2026/
LOCATION:OR
END:VEVENT
BEGIN:VEVENT
DTSTART;TZID=UTC:20260601T080000
DTEND;TZID=UTC:20260601T170000
DTSTAMP:20260423T223040
CREATED:20250604T142649Z
LAST-MODIFIED:20250721T123443Z
UID:1606-1780300800-1780333200@highdesertbits.com
SUMMARY:Ellipse Theater Community presents THE RABBIT HOLE
DESCRIPTION:Ellipse Theater Community presents THE RABBIT HOLE \nWritten by David Lindsay Abaire \nJune 2026 \nMore to come
URL:https://highdesertbits.com/event/ellipse-theater-community-presents-the-rabbit-hole/
LOCATION:OR
ORGANIZER;CN="ETC Ellipse Theatre Community":MAILTO:https://www.etcbend.org/contact
END:VEVENT
BEGIN:VEVENT
DTSTART;TZID=UTC:20260605T193000
DTEND;TZID=UTC:20260605T213000
DTSTAMP:20260423T223040
CREATED:20250908T133228Z
LAST-MODIFIED:20250908T133228Z
UID:2052-1780687800-1780695000@highdesertbits.com
SUMMARY:Cascade Theatrical Company presents THE WEDDING SINGER
DESCRIPTION:Cascade Theatrical Company presents THE WEDDING SINGER \nMusic by Matthew Sklar\, book by Chad Beguelin\, Tim Herlihy\, lyrics by Chad Beguelin. Based on the New Line Cinema film written by Tim Herlihy \nFri.\, 6/5 @ 7:30pm \nSat.\, 6/6 @ 7:30pm \nSun.\, 6/7 @ 2pm \n  \nThu.\, 6/11 @ 7:30pm \nFri.\, 6/12 @ 7:30pm \nSat.\, 6/13 @ 7:30pm \nSun.\, 6/14 @ 2pm \n  \nThu.\, 6/18 @ 7:30pm \nFri.\, 6/19 @ 7:30pm \nSat.\, 6/20 @ 7:30pm \nSun.\, 6/21 @ 2pm
URL:https://highdesertbits.com/event/cascade-theatrical-company-presents-the-wedding-singer/
LOCATION:CTC Cascade Theatrical Company\, 148 NW Greenwood Ave\, Bend\, OR\, 97703
ORGANIZER;CN="CTC Cascade Theatrical Company":MAILTO:ctcinfo@cascadestheatrical.org
END:VEVENT
BEGIN:VEVENT
DTSTART;TZID=UTC:20260606T193000
DTEND;TZID=UTC:20260606T213000
DTSTAMP:20260423T223040
CREATED:20250908T133352Z
LAST-MODIFIED:20250908T133352Z
UID:2054-1780774200-1780781400@highdesertbits.com
SUMMARY:Cascade Theatrical Company presents THE WEDDING SINGER
DESCRIPTION:Cascade Theatrical Company presents THE WEDDING SINGER \nMusic by Matthew Sklar\, book by Chad Beguelin\, Tim Herlihy\, lyrics by Chad Beguelin. Based on the New Line Cinema film written by Tim Herlihy \nSat.\, 6/6 @ 7:30pm \nSun.\, 6/7 @ 2pm \n  \nThu.\, 6/11 @ 7:30pm \nFri.\, 6/12 @ 7:30pm \nSat.\, 6/13 @ 7:30pm \nSun.\, 6/14 @ 2pm \n  \nThu.\, 6/18 @ 7:30pm \nFri.\, 6/19 @ 7:30pm \nSat.\, 6/20 @ 7:30pm \nSun.\, 6/21 @ 2pm
URL:https://highdesertbits.com/event/cascade-theatrical-company-presents-the-wedding-singer-2/
LOCATION:CTC Cascade Theatrical Company\, 148 NW Greenwood Ave\, Bend\, OR\, 97703
ORGANIZER;CN="CTC Cascade Theatrical Company":MAILTO:ctcinfo@cascadestheatrical.org
END:VEVENT
BEGIN:VEVENT
DTSTART;TZID=UTC:20260607T140000
DTEND;TZID=UTC:20260607T160000
DTSTAMP:20260423T223040
CREATED:20250908T133508Z
LAST-MODIFIED:20250908T133508Z
UID:2056-1780840800-1780848000@highdesertbits.com
SUMMARY:Cascade Theatrical Company presents THE WEDDING SINGER
DESCRIPTION:Cascade Theatrical Company presents THE WEDDING SINGER \nMusic by Matthew Sklar\, book by Chad Beguelin\, Tim Herlihy\, lyrics by Chad Beguelin. Based on the New Line Cinema film written by Tim Herlihy \nSun.\, 6/7 @ 2pm \n  \nThu.\, 6/11 @ 7:30pm \nFri.\, 6/12 @ 7:30pm \nSat.\, 6/13 @ 7:30pm \nSun.\, 6/14 @ 2pm \n  \nThu.\, 6/18 @ 7:30pm \nFri.\, 6/19 @ 7:30pm \nSat.\, 6/20 @ 7:30pm \nSun.\, 6/21 @ 2pm
URL:https://highdesertbits.com/event/cascade-theatrical-company-presents-the-wedding-singer-3/
LOCATION:CTC Cascade Theatrical Company\, 148 NW Greenwood Ave\, Bend\, OR\, 97703
ORGANIZER;CN="CTC Cascade Theatrical Company":MAILTO:ctcinfo@cascadestheatrical.org
END:VEVENT
BEGIN:VEVENT
DTSTART;TZID=UTC:20260611T193000
DTEND;TZID=UTC:20260611T213000
DTSTAMP:20260423T223040
CREATED:20250908T133638Z
LAST-MODIFIED:20250908T133638Z
UID:2058-1781206200-1781213400@highdesertbits.com
SUMMARY:Cascade Theatrical Company presents THE WEDDING SINGER
DESCRIPTION:Cascade Theatrical Company presents THE WEDDING SINGER \nMusic by Matthew Sklar\, book by Chad Beguelin\, Tim Herlihy\, lyrics by Chad Beguelin. Based on the New Line Cinema film written by Tim Herlihy \nThu.\, 6/11 @ 7:30pm \nFri.\, 6/12 @ 7:30pm \nSat.\, 6/13 @ 7:30pm \nSun.\, 6/14 @ 2pm \n  \nThu.\, 6/18 @ 7:30pm \nFri.\, 6/19 @ 7:30pm \nSat.\, 6/20 @ 7:30pm \nSun.\, 6/21 @ 2pm
URL:https://highdesertbits.com/event/cascade-theatrical-company-presents-the-wedding-singer-4/
LOCATION:CTC Cascade Theatrical Company\, 148 NW Greenwood Ave\, Bend\, OR\, 97703
ORGANIZER;CN="CTC Cascade Theatrical Company":MAILTO:ctcinfo@cascadestheatrical.org
END:VEVENT
BEGIN:VEVENT
DTSTART;TZID=UTC:20260612T193000
DTEND;TZID=UTC:20260612T213000
DTSTAMP:20260423T223040
CREATED:20250908T133751Z
LAST-MODIFIED:20250908T133751Z
UID:2060-1781292600-1781299800@highdesertbits.com
SUMMARY:Cascade Theatrical Company presents THE WEDDING SINGER
DESCRIPTION:Cascade Theatrical Company presents THE WEDDING SINGER \nMusic by Matthew Sklar\, book by Chad Beguelin\, Tim Herlihy\, lyrics by Chad Beguelin. Based on the New Line Cinema film written by Tim Herlihy \nFri.\, 6/12 @ 7:30pm \nSat.\, 6/13 @ 7:30pm \nSun.\, 6/14 @ 2pm \n  \nThu.\, 6/18 @ 7:30pm \nFri.\, 6/19 @ 7:30pm \nSat.\, 6/20 @ 7:30pm \nSun.\, 6/21 @ 2pm
URL:https://highdesertbits.com/event/cascade-theatrical-company-presents-the-wedding-singer-5/
LOCATION:CTC Cascade Theatrical Company\, 148 NW Greenwood Ave\, Bend\, OR\, 97703
ORGANIZER;CN="CTC Cascade Theatrical Company":MAILTO:ctcinfo@cascadestheatrical.org
END:VEVENT
BEGIN:VEVENT
DTSTART;TZID=UTC:20260613T193000
DTEND;TZID=UTC:20260613T213000
DTSTAMP:20260423T223040
CREATED:20250908T133902Z
LAST-MODIFIED:20250908T133902Z
UID:2062-1781379000-1781386200@highdesertbits.com
SUMMARY:Cascade Theatrical Company presents THE WEDDING SINGER
DESCRIPTION:Cascade Theatrical Company presents THE WEDDING SINGER \nMusic by Matthew Sklar\, book by Chad Beguelin\, Tim Herlihy\, lyrics by Chad Beguelin. Based on the New Line Cinema film written by Tim Herlihy \nSat.\, 6/13 @ 7:30pm \nSun.\, 6/14 @ 2pm \n  \nThu.\, 6/18 @ 7:30pm \nFri.\, 6/19 @ 7:30pm \nSat.\, 6/20 @ 7:30pm \nSun.\, 6/21 @ 2pm
URL:https://highdesertbits.com/event/cascade-theatrical-company-presents-the-wedding-singer-6/
LOCATION:CTC Cascade Theatrical Company\, 148 NW Greenwood Ave\, Bend\, OR\, 97703
ORGANIZER;CN="CTC Cascade Theatrical Company":MAILTO:ctcinfo@cascadestheatrical.org
END:VEVENT
BEGIN:VEVENT
DTSTART;TZID=UTC:20260614T140000
DTEND;TZID=UTC:20260614T160000
DTSTAMP:20260423T223040
CREATED:20250908T134012Z
LAST-MODIFIED:20250908T134012Z
UID:2064-1781445600-1781452800@highdesertbits.com
SUMMARY:Cascade Theatrical Company presents THE WEDDING SINGER
DESCRIPTION:Cascade Theatrical Company presents THE WEDDING SINGER \nMusic by Matthew Sklar\, book by Chad Beguelin\, Tim Herlihy\, lyrics by Chad Beguelin. Based on the New Line Cinema film written by Tim Herlihy \nSun.\, 6/14 @ 2pm \n  \nThu.\, 6/18 @ 7:30pm \nFri.\, 6/19 @ 7:30pm \nSat.\, 6/20 @ 7:30pm \nSun.\, 6/21 @ 2pm
URL:https://highdesertbits.com/event/cascade-theatrical-company-presents-the-wedding-singer-7/
LOCATION:CTC Cascade Theatrical Company\, 148 NW Greenwood Ave\, Bend\, OR\, 97703
ORGANIZER;CN="CTC Cascade Theatrical Company":MAILTO:ctcinfo@cascadestheatrical.org
END:VEVENT
BEGIN:VEVENT
DTSTART;TZID=UTC:20260618T080000
DTEND;TZID=UTC:20260618T170000
DTSTAMP:20260423T223040
CREATED:20250908T134120Z
LAST-MODIFIED:20250908T134120Z
UID:2066-1781769600-1781802000@highdesertbits.com
SUMMARY:Cascade Theatrical Company presents THE WEDDING SINGER
DESCRIPTION:Cascade Theatrical Company presents THE WEDDING SINGER \nMusic by Matthew Sklar\, book by Chad Beguelin\, Tim Herlihy\, lyrics by Chad Beguelin. Based on the New Line Cinema film written by Tim Herlihy \nThu.\, 6/18 @ 7:30pm \nFri.\, 6/19 @ 7:30pm \nSat.\, 6/20 @ 7:30pm \nSun.\, 6/21 @ 2pm
URL:https://highdesertbits.com/event/cascade-theatrical-company-presents-the-wedding-singer-8/
LOCATION:CTC Cascade Theatrical Company\, 148 NW Greenwood Ave\, Bend\, OR\, 97703
ORGANIZER;CN="CTC Cascade Theatrical Company":MAILTO:ctcinfo@cascadestheatrical.org
END:VEVENT
BEGIN:VEVENT
DTSTART;TZID=UTC:20260618T190000
DTEND;TZID=UTC:20260618T220000
DTSTAMP:20260423T223040
CREATED:20250907T151808Z
LAST-MODIFIED:20250907T151808Z
UID:1875-1781809200-1781820000@highdesertbits.com
SUMMARY:Ponderosa Players presents ONCE UPON A MATTRESS
DESCRIPTION:Ponderosa Players presents ONCE UPON A MATTRESS \nMusic by Mary Rodgers\, lyrics by Marchall Barer\, and book by Jay Thompson\, Dean Fuller\, and Marshall Barer. \nJune 18 @ 7pm \nJune 19 @ 7pm \nJune 20 @ 2pm and 7pm \nJune 21 @ 2pm \n  \nJune 25 @ 7pm \nJune 26 @ 7pm \nJune 27 @ 2pm and 7pm
URL:https://highdesertbits.com/event/ponderosa-players-presents-once-upon-a-mattress/
LOCATION:Ponderosa Players\, 705 NE Majesty Ln\, Bend\, OR\, 97701
END:VEVENT
BEGIN:VEVENT
DTSTART;TZID=UTC:20260618T190000
DTEND;TZID=UTC:20260618T220000
DTSTAMP:20260423T223040
CREATED:20260422T151540Z
LAST-MODIFIED:20260422T151540Z
UID:2577-1781809200-1781820000@highdesertbits.com
SUMMARY:Ponderosa Players presents ONCE UPON A MATTRESS
DESCRIPTION:Ponderosa Players presents ONCE UPON A MATTRESS \nMusic by Mary Rodgers\, lyrics by Marshall Barer and book by Jay Thompson\, Dean Fuller and Marshall Barer \nThu.\, 6/18 @ 7pm \nFri.\, 6/19 @ 7pm \nSat.\, 6/20 @  2pm and 7pm \nSun.\, 6/21 @ 2pm \n  \nThu.\, 6/25 @ 7pm \nFri.\, 6/26 @ 7pm \nSat.\,  6/27 @ 2pm and 7pm
URL:https://highdesertbits.com/event/ponderosa-players-presents-once-upon-a-mattress-2/
LOCATION:Ponderosa Players\, 705 NE Majesty Ln\, Bend\, OR\, 97701
END:VEVENT
BEGIN:VEVENT
DTSTART;TZID=UTC:20260619T000000
DTEND;TZID=UTC:20260619T235959
DTSTAMP:20260423T223040
CREATED:20250915T133109Z
LAST-MODIFIED:20250915T133109Z
UID:2090-1781827200-1781913599@highdesertbits.com
SUMMARY:OperaBend presents DIE FLEDERMAUS
DESCRIPTION:OperaBend presents DIE FLEDERMAUS \nFri.\, June 19 \nSun.\, June 26th \nTime and location TBD
URL:https://highdesertbits.com/event/operabend-presents-die-fledermaus/
LOCATION:OR
ORGANIZER;CN="OperaBend":MAILTO:mail@operabend.org
END:VEVENT
BEGIN:VEVENT
DTSTART;TZID=UTC:20260619T190000
DTEND;TZID=UTC:20260619T220000
DTSTAMP:20260423T223040
CREATED:20250907T152024Z
LAST-MODIFIED:20250907T152024Z
UID:1877-1781895600-1781906400@highdesertbits.com
SUMMARY:Ponderosa Players present ONCE UPON A MATTRESS
DESCRIPTION:Ponderosa Players presents ONCE UPON A MATTRESS \nMusic by Mary Rodgers\, lyrics by Marchall Barer\, and book by Jay Thompson\, Dean Fuller\, and Marshall Barer. \nThu.\, June 18 @ 7pm \nFri.\, June 19 @ 7pm \nSat.\, June 20 @ 2pm and 7pm \nSun.\, June 21 @ 2pm \n  \nThu.\, June 25 @ 7pm \nFri.\, June 26 @ 7pm \nSat.\, June 27 @ 2pm and 7pm
URL:https://highdesertbits.com/event/ponderosa-players-present-once-upon-a-mattress/
LOCATION:Ponderosa Playhouse\, 211 NE Revere Ave\, Suite #4\, Bend\, OR
END:VEVENT
BEGIN:VEVENT
DTSTART;TZID=UTC:20260619T190000
DTEND;TZID=UTC:20260619T220000
DTSTAMP:20260423T223040
CREATED:20260422T151704Z
LAST-MODIFIED:20260422T151704Z
UID:2580-1781895600-1781906400@highdesertbits.com
SUMMARY:Ponderosa Players presents ONCE UPON A MATTRESS
DESCRIPTION:Ponderosa Players presents ONCE UPON A MATTRESS \nMusic by Mary Rodgers\, lyrics by Marshall Barer and book by Jay Thompson\, Dean Fuller and Marshall Barer \nFri.\, 6/19 @ 7pm \nSat.\, 6/20 @  2pm and 7pm \nSun.\, 6/21 @ 2pm \n  \nThu.\, 6/25 @ 7pm \nFri.\, 6/26 @ 7pm \nSat.\,  6/27 @ 2pm and 7pm
URL:https://highdesertbits.com/event/ponderosa-players-presents-once-upon-a-mattress-3/
LOCATION:Ponderosa Playhouse\, 211 NE Revere Ave\, Suite #4\, Bend\, OR
END:VEVENT
BEGIN:VEVENT
DTSTART;TZID=UTC:20260619T193000
DTEND;TZID=UTC:20260619T213000
DTSTAMP:20260423T223040
CREATED:20250908T134233Z
LAST-MODIFIED:20250908T134233Z
UID:2068-1781897400-1781904600@highdesertbits.com
SUMMARY:Cascade Theatrical Company presents THE WEDDING SINGER
DESCRIPTION:Cascade Theatrical Company presents THE WEDDING SINGER \nMusic by Matthew Sklar\, book by Chad Beguelin\, Tim Herlihy\, lyrics by Chad Beguelin. Based on the New Line Cinema film written by Tim Herlihy \nFri.\, 6/19 @ 7:30pm \nSat.\, 6/20 @ 7:30pm \nSun.\, 6/21 @ 2pm
URL:https://highdesertbits.com/event/cascade-theatrical-company-presents-the-wedding-singer-9/
LOCATION:CTC Cascade Theatrical Company\, 148 NW Greenwood Ave\, Bend\, OR\, 97703
ORGANIZER;CN="CTC Cascade Theatrical Company":MAILTO:ctcinfo@cascadestheatrical.org
END:VEVENT
BEGIN:VEVENT
DTSTART;TZID=UTC:20260620T140000
DTEND;TZID=UTC:20260620T170000
DTSTAMP:20260423T223040
CREATED:20250907T152148Z
LAST-MODIFIED:20250907T152148Z
UID:1879-1781964000-1781974800@highdesertbits.com
SUMMARY:Ponderosa Players present ONCE UPON A MATTRESS
DESCRIPTION:Ponderosa Players presents ONCE UPON A MATTRESS \nMusic by Mary Rodgers\, lyrics by Marchall Barer\, and book by Jay Thompson\, Dean Fuller\, and Marshall Barer. \nThu.\, June 18 @ 7pm \nFri.\, June 19 @ 7pm \nSat.\, June 20 @ 2pm and 7pm \nSun.\, June 21 @ 2pm \n  \nThu.\, June 25 @ 7pm \nFri.\, June 26 @ 7pm \nSat.\, June 27 @ 2pm and 7pm
URL:https://highdesertbits.com/event/ponderosa-players-present-once-upon-a-mattress-2/
LOCATION:Ponderosa Playhouse\, 211 NE Revere Ave\, Suite #4\, Bend\, OR
END:VEVENT
BEGIN:VEVENT
DTSTART;TZID=UTC:20260620T140000
DTEND;TZID=UTC:20260620T170000
DTSTAMP:20260423T223040
CREATED:20260422T151832Z
LAST-MODIFIED:20260422T151832Z
UID:2582-1781964000-1781974800@highdesertbits.com
SUMMARY:Ponderosa Players presents ONCE UPON A MATTRESS
DESCRIPTION:Ponderosa Players presents ONCE UPON A MATTRESS \nMusic by Mary Rodgers\, lyrics by Marshall Barer and book by Jay Thompson\, Dean Fuller and Marshall Barer \nSat.\, 6/20 @  2pm and 7pm \nSun.\, 6/21 @ 2pm \n  \nThu.\, 6/25 @ 7pm \nFri.\, 6/26 @ 7pm \nSat.\,  6/27 @ 2pm and 7pm
URL:https://highdesertbits.com/event/ponderosa-players-presents-once-upon-a-mattress-4/
LOCATION:Ponderosa Playhouse\, 211 NE Revere Ave\, Suite #4\, Bend\, OR
END:VEVENT
BEGIN:VEVENT
DTSTART;TZID=UTC:20260620T190000
DTEND;TZID=UTC:20260620T220000
DTSTAMP:20260423T223040
CREATED:20250907T152314Z
LAST-MODIFIED:20250907T152314Z
UID:1881-1781982000-1781992800@highdesertbits.com
SUMMARY:Ponderosa Players present ONCE UPON A MATTRESS
DESCRIPTION:Ponderosa Players presents ONCE UPON A MATTRESS \nMusic by Mary Rodgers\, lyrics by Marchall Barer\, and book by Jay Thompson\, Dean Fuller\, and Marshall Barer. \nThu.\, June 18 @ 7pm \nFri.\, June 19 @ 7pm \nSat.\, June 20 @ 2pm and 7pm \nSun.\, June 21 @ 2pm \n  \nThu.\, June 25 @ 7pm \nFri.\, June 26 @ 7pm \nSat.\, June 27 @ 2pm and 7pm
URL:https://highdesertbits.com/event/ponderosa-players-present-once-upon-a-mattress-3/
LOCATION:Ponderosa Playhouse\, 211 NE Revere Ave\, Suite #4\, Bend\, OR
END:VEVENT
BEGIN:VEVENT
DTSTART;TZID=UTC:20260620T190000
DTEND;TZID=UTC:20260620T220000
DTSTAMP:20260423T223040
CREATED:20260422T152127Z
LAST-MODIFIED:20260422T152127Z
UID:2584-1781982000-1781992800@highdesertbits.com
SUMMARY:Ponderosa Players presents ONCE UPON A MATTRESS
DESCRIPTION:Ponderosa Players presents ONCE UPON A MATTRESS \nMusic by Mary Rodgers\, lyrics by Marshall Barer and book by Jay Thompson\, Dean Fuller and Marshall Barer \nSat.\, 6/20 @  7pm \nSun.\, 6/21 @ 2pm \n  \nThu.\, 6/25 @ 7pm \nFri.\, 6/26 @ 7pm \nSat.\,  6/27 @ 2pm and 7pm
URL:https://highdesertbits.com/event/ponderosa-players-presents-once-upon-a-mattress-5/
LOCATION:Ponderosa Players\, 705 NE Majesty Ln\, Bend\, OR\, 97701
END:VEVENT
BEGIN:VEVENT
DTSTART;TZID=UTC:20260620T193000
DTEND;TZID=UTC:20260620T213000
DTSTAMP:20260423T223040
CREATED:20250908T134419Z
LAST-MODIFIED:20250908T134419Z
UID:2070-1781983800-1781991000@highdesertbits.com
SUMMARY:Cascade Theatrical Company presents THE WEDDING SINGER
DESCRIPTION:Cascade Theatrical Company presents THE WEDDING SINGER \nMusic by Matthew Sklar\, book by Chad Beguelin\, Tim Herlihy\, lyrics by Chad Beguelin. Based on the New Line Cinema film written by Tim Herlihy \nSat.\, 6/20 @ 7:30pm \nSun.\, 6/21 @ 2pm
URL:https://highdesertbits.com/event/cascade-theatrical-company-presents-the-wedding-singer-10/
LOCATION:CTC Cascade Theatrical Company\, 148 NW Greenwood Ave\, Bend\, OR\, 97703
ORGANIZER;CN="CTC Cascade Theatrical Company":MAILTO:ctcinfo@cascadestheatrical.org
END:VEVENT
BEGIN:VEVENT
DTSTART;TZID=UTC:20260621T000000
DTEND;TZID=UTC:20260621T235959
DTSTAMP:20260423T223040
CREATED:20250915T133236Z
LAST-MODIFIED:20250915T133236Z
UID:2092-1782000000-1782086399@highdesertbits.com
SUMMARY:OperaBend presents DIE FLEDERMAUS
DESCRIPTION:OperaBend presents DIE FLEDERMAUS \nFri.\, June 19 \nSun.\, June 21 \nTime and location TBD
URL:https://highdesertbits.com/event/operabend-presents-die-fledermaus-2/
LOCATION:OR
ORGANIZER;CN="OperaBend":MAILTO:mail@operabend.org
END:VEVENT
BEGIN:VEVENT
DTSTART;TZID=UTC:20260621T140000
DTEND;TZID=UTC:20260621T160000
DTSTAMP:20260423T223040
CREATED:20250908T134548Z
LAST-MODIFIED:20250908T134548Z
UID:2072-1782050400-1782057600@highdesertbits.com
SUMMARY:Cascade Theatrical Company presents THE WEDDING SINGER
DESCRIPTION:Cascade Theatrical Company presents THE WEDDING SINGER \nMusic by Matthew Sklar\, book by Chad Beguelin\, Tim Herlihy\, lyrics by Chad Beguelin. Based on the New Line Cinema film written by Tim Herlihy \nSun.\, 6/21 @ 2pm
URL:https://highdesertbits.com/event/cascade-theatrical-company-presents-the-wedding-singer-11/
LOCATION:CTC Cascade Theatrical Company\, 148 NW Greenwood Ave\, Bend\, OR\, 97703
ORGANIZER;CN="CTC Cascade Theatrical Company":MAILTO:ctcinfo@cascadestheatrical.org
END:VEVENT
END:VCALENDAR