BEGIN:VCALENDAR
VERSION:2.0
PRODID:-//High Desert B.I.T.S. - ECPv6.15.20//NONSGML v1.0//EN
CALSCALE:GREGORIAN
METHOD:PUBLISH
X-WR-CALNAME:High Desert B.I.T.S.
X-ORIGINAL-URL:https://highdesertbits.com
X-WR-CALDESC:Events for High Desert B.I.T.S.
REFRESH-INTERVAL;VALUE=DURATION:PT1H
X-Robots-Tag:noindex
X-PUBLISHED-TTL:PT1H
BEGIN:VTIMEZONE
TZID:UTC
BEGIN:STANDARD
TZOFFSETFROM:+0000
TZOFFSETTO:+0000
TZNAME:UTC
DTSTART:20230101T000000
END:STANDARD
END:VTIMEZONE
BEGIN:VEVENT
DTSTART;TZID=UTC:20241005T120000
DTEND;TZID=UTC:20241005T150000
DTSTAMP:20260425T115905
CREATED:20240928T221429Z
LAST-MODIFIED:20240928T221429Z
UID:485-1728129600-1728140400@highdesertbits.com
SUMMARY:AUDITIONS for CTC's THE PROM
DESCRIPTION:The Prom \nMusic by Matthew Sklar \nBook by Bob Martin\, Chad Beguelin \nLyrics by Chad Beguelin \nOct. 4\, 6-9pm \nOct. 5\, noon-3pm \nOct 6\, noon-3pm \nShow dates jan 10-19\, 2025 \nRole details on CTC website
URL:https://highdesertbits.com/event/auditions-for-ctcs-the-prom-2/
LOCATION:CTC Cascade Theatrical Company\, 148 NW Greenwood Ave\, Bend\, OR\, 97703
END:VEVENT
BEGIN:VEVENT
DTSTART;TZID=UTC:20241004T190000
DTEND;TZID=UTC:20241004T210000
DTSTAMP:20260425T115905
CREATED:20240929T011351Z
LAST-MODIFIED:20240929T011351Z
UID:543-1728068400-1728075600@highdesertbits.com
SUMMARY:Meadow Sky Productions presents A MIDSUMMER NIGHT'S DREAM
DESCRIPTION:Meadow Sky Producitons presents Shakespear’s A MIDSUMMER NIGHT’S Dream \n10/4 @7pm \n10/5 @ 2pm and 7pm \n10/11 @ 7pm \n10/12 @ 2pm and 7pm \n 
URL:https://highdesertbits.com/event/meadow-sky-productions-presents-a-midsummer-nights-dream/
LOCATION:High Desert Music Hall\, 818 SW Forest Ave\, Redmond\, OR\, 97756
END:VEVENT
BEGIN:VEVENT
DTSTART;TZID=UTC:20241004T160000
DTEND;TZID=UTC:20241004T180000
DTSTAMP:20260425T115905
CREATED:20240928T221316Z
LAST-MODIFIED:20240930T024626Z
UID:483-1728057600-1728064800@highdesertbits.com
SUMMARY:AUDITIONS for CTC's THE PROM
DESCRIPTION:The Prom \nMusic by Matthew Sklar \nBook by Bob Martin\, Chad Beguelin \nLyrics by Chad Beguelin \nOct. 4\, 6-9pm \nOct. 5\, noon-3pm \nOct 6\, noon-3pm \nShow dates jan 10-19\, 2025 \nRole details on CTC website
URL:https://highdesertbits.com/event/auditions-for-ctcs-the-prom/
LOCATION:CTC Cascade Theatrical Company\, 148 NW Greenwood Ave\, Bend\, OR\, 97703
ATTACH;FMTTYPE=image/png:https://highdesertbits.com/wp-content/uploads/2024/09/Copy-of-CTC-Logo-HD.png
END:VEVENT
BEGIN:VEVENT
DTSTART;TZID=UTC:20240929T190000
DTEND;TZID=UTC:20240929T210000
DTSTAMP:20260425T115905
CREATED:20240919T151241Z
LAST-MODIFIED:20240919T151241Z
UID:180-1727636400-1727643600@highdesertbits.com
SUMMARY:Ellipse Theatre Community presents LAST TRAIN TO NIBROC
DESCRIPTION:
URL:https://highdesertbits.com/event/ellipse-theatre-community-presents-last-train-to-nibroc-7/
LOCATION:High Desert Music Hall\, 818 SW Forest Ave\, Redmond\, OR\, 97756
ORGANIZER;CN="ETC Ellipse Theatre Community":MAILTO:https://www.etcbend.org/contact
END:VEVENT
BEGIN:VEVENT
DTSTART;TZID=UTC:20240929T180000
DTEND;TZID=UTC:20240929T210000
DTSTAMP:20260425T115905
CREATED:20240928T222539Z
LAST-MODIFIED:20240928T222539Z
UID:489-1727632800-1727643600@highdesertbits.com
SUMMARY:AUDITIONS for CTC'S WINTER WONDERETTES
DESCRIPTION:Winter Wonderettes by Roger Bean \nThe Wonderettes are back! This seasonal celebration finds the girls entertaining at the annual Harper’s Hardware Holiday Party. \nShow runs Nov. 29-Dec. 22. \n  \nAuditions \nSun.\, 9/29\, 6-9pm \nMon.\, 9/30\, 6-8pm (call backs) \nhttps://cascadetheatrical.org/winter-wonderettes/ \n 
URL:https://highdesertbits.com/event/auditions-for-ctcs-winter-wonderettes/
LOCATION:CTC Cascade Theatrical Company\, 148 NW Greenwood Ave\, Bend\, OR\, 97703
END:VEVENT
BEGIN:VEVENT
DTSTART;TZID=UTC:20240929T140000
DTEND;TZID=UTC:20240929T160000
DTSTAMP:20260425T115905
CREATED:20240919T151115Z
LAST-MODIFIED:20240919T151115Z
UID:177-1727618400-1727625600@highdesertbits.com
SUMMARY:Ellipse Theatre Community presents LAST TRAIN TO NIBROC
DESCRIPTION:
URL:https://highdesertbits.com/event/ellipse-theatre-community-presents-last-train-to-nibroc-6/
LOCATION:High Desert Music Hall\, 818 SW Forest Ave\, Redmond\, OR\, 97756
ORGANIZER;CN="ETC Ellipse Theatre Community":MAILTO:https://www.etcbend.org/contact
END:VEVENT
BEGIN:VEVENT
DTSTART;TZID=UTC:20240928T190000
DTEND;TZID=UTC:20240928T210000
DTSTAMP:20260425T115905
CREATED:20240919T150746Z
LAST-MODIFIED:20240925T013934Z
UID:175-1727550000-1727557200@highdesertbits.com
SUMMARY:Ellipse Theatre Community presents LAST TRAIN TO NIBROC
DESCRIPTION:
URL:https://highdesertbits.com/event/ellipse-theatre-community-presents-last-train-to-nibroc-5/
LOCATION:LaPine Activity Center\, 16450 Victory Way\, LaPine\, OR\, 97739\, United States
ORGANIZER;CN="ETC Ellipse Theatre Community":MAILTO:https://www.etcbend.org/contact
END:VEVENT
BEGIN:VEVENT
DTSTART;TZID=UTC:20240928T140000
DTEND;TZID=UTC:20240928T160000
DTSTAMP:20260425T115905
CREATED:20240919T150538Z
LAST-MODIFIED:20240919T150538Z
UID:171-1727532000-1727539200@highdesertbits.com
SUMMARY:Ellipse Theatre Community presents LAST TRAIN TO NIBROC
DESCRIPTION:
URL:https://highdesertbits.com/event/ellipse-theatre-community-presents-last-train-to-nibroc-4/
LOCATION:LaPine Activity Center\, 16450 Victory Way\, LaPine\, OR\, 97739\, United States
ORGANIZER;CN="ETC Ellipse Theatre Community":MAILTO:https://www.etcbend.org/contact
END:VEVENT
BEGIN:VEVENT
DTSTART;TZID=UTC:20240921T190000
DTEND;TZID=UTC:20240921T210000
DTSTAMP:20260425T115905
CREATED:20240918T130039Z
LAST-MODIFIED:20240918T130039Z
UID:143-1726945200-1726952400@highdesertbits.com
SUMMARY:Ellipse Theatre Community presents Last Train to Nibroc
DESCRIPTION:Sweet two character piece set in pre-WWII\, and performed throughout the Central Oregon area.
URL:https://highdesertbits.com/event/ellipse-theatre-community-presents-last-train-to-nibroc-3/
LOCATION:Open Space Event Studio\, 220 NE Lafayette Ave\, Bend\, OR\, 97701
END:VEVENT
BEGIN:VEVENT
DTSTART;TZID=UTC:20240921T140000
DTEND;TZID=UTC:20240921T160000
DTSTAMP:20260425T115905
CREATED:20240918T125737Z
LAST-MODIFIED:20240918T125737Z
UID:141-1726927200-1726934400@highdesertbits.com
SUMMARY:Ellipse Theatre Community presents Last Train to Nibroc
DESCRIPTION:Sweet two character show pre-WWII and performed throughout the Central Oregon area.
URL:https://highdesertbits.com/event/ellipse-theatre-community-presents-last-train-to-nibroc-2/
LOCATION:Open Space Event Studio\, 220 NE Lafayette Ave\, Bend\, OR\, 97701
END:VEVENT
BEGIN:VEVENT
DTSTART;TZID=UTC:20240920T140000
DTEND;TZID=UTC:20240920T160000
DTSTAMP:20260425T115905
CREATED:20240830T060941Z
LAST-MODIFIED:20240918T001158Z
UID:100-1726840800-1726848000@highdesertbits.com
SUMMARY:Ellipse Theater Community presents LAST TRAIN TO NIBROC
DESCRIPTION:Ellipse Theater Community presents LAST TRAIN TO NIBROC \nWritten by Arlene Hutton \nSept. 20-Oct 13\, 2024 \nThis production is part of the ETC Roadshow Program which sees our productions touring across multiple venues throughout Central Oregon.
URL:https://highdesertbits.com/event/ellipse-theater-community-presents-last-train-to-nibroc/
LOCATION:OR
END:VEVENT
BEGIN:VEVENT
DTSTART;TZID=UTC:20240918T080000
DTEND;TZID=UTC:20240918T170000
DTSTAMP:20260425T115905
CREATED:20240829T031053Z
LAST-MODIFIED:20240829T031611Z
UID:41-1726646400-1726678800@highdesertbits.com
SUMMARY:Anita's Show
DESCRIPTION:This is my show…..come to it.
URL:https://highdesertbits.com/event/anitas-show/
LOCATION:Tower Theatre\, 835 NW Wall St\, Bend\, OR\, 97703\, United States
END:VEVENT
BEGIN:VEVENT
DTSTART;TZID=UTC:20240829T193000
DTEND;TZID=UTC:20240831T170000
DTSTAMP:20260425T115905
CREATED:20240829T023226Z
LAST-MODIFIED:20240829T032419Z
UID:30-1724959800-1725123600@highdesertbits.com
SUMMARY:Proof
DESCRIPTION:Proof by David Auburn\nFrom Greenhouse Cabaret: \nProof is the story of an enigmatic young woman\, Catherine\, her manipulative sister\, their brilliant father\, and an unexpected suitor. They are all pieces of the puzzle in the search for the truth behind a mysterious mathematical proof. \nIn Proof\, the young but guarded Catherine grieves over the loss of her father\, a famous mathematician who had become a legend at the local university for solving complicated proofs\, and for suffering from dementia. Just as Catherine begins to give in to her fear that she\, too\, might suffer from her father’s condition\, Catherine’s older sister Claire returns home to help “settle” family affairs and Hal\, one of the father’s old students\, starts to poke around the house. What Hal discovers in an old speckle-bound notebook brings to light a buried family secret. \nIt tests the sisters’ kinship as well as the romantic feelings growing between Catherine and Hal. \nThis poignant drama about love and reconciliation unfolds on the back porch of a house settled in a suburban university town\, that is\, like David Auburn’s writing\, both simple and elegant.
URL:https://highdesertbits.com/event/proof/
LOCATION:Greenhouse Cabaret\, 1017 NE 2nd St.\, Bend\, OR\, 97701\, United States
END:VEVENT
END:VCALENDAR