BEGIN:VCALENDAR
VERSION:2.0
PRODID:-//High Desert B.I.T.S. - ECPv6.15.20//NONSGML v1.0//EN
CALSCALE:GREGORIAN
METHOD:PUBLISH
X-WR-CALNAME:High Desert B.I.T.S.
X-ORIGINAL-URL:https://highdesertbits.com
X-WR-CALDESC:Events for High Desert B.I.T.S.
REFRESH-INTERVAL;VALUE=DURATION:PT1H
X-Robots-Tag:noindex
X-PUBLISHED-TTL:PT1H
BEGIN:VTIMEZONE
TZID:UTC
BEGIN:STANDARD
TZOFFSETFROM:+0000
TZOFFSETTO:+0000
TZNAME:UTC
DTSTART:20240101T000000
END:STANDARD
END:VTIMEZONE
BEGIN:VEVENT
DTSTART;TZID=UTC:20250205T190000
DTEND;TZID=UTC:20250205T210000
DTSTAMP:20260425T102821
CREATED:20250125T155500Z
LAST-MODIFIED:20250125T155500Z
UID:1084-1738782000-1738789200@highdesertbits.com
SUMMARY:Crook County High School presents MUCH ADO ABOUT NOTHING
DESCRIPTION:Crook County High School presents MUCH ADO ABOUT NOTHING by William Shakespeare \nWed.\, Feb 5 @ 7pm \nThu.\, Feb 6 @ 7pm \nFri.\, Feb 7 @ 7pm \nSat.\, Feb 8 @ 7pm \nSun.\, Feb 9 @ 2pm \nTickets at the door!
URL:https://highdesertbits.com/event/crook-county-high-school-presents-much-ado-about-nothing/
LOCATION:Crook County High School\, 1100 SE Lynn Blvd\, Prineville\, OR\, 97754
END:VEVENT
BEGIN:VEVENT
DTSTART;TZID=UTC:20250206T190000
DTEND;TZID=UTC:20250206T210000
DTSTAMP:20260425T102821
CREATED:20250125T155630Z
LAST-MODIFIED:20250125T155630Z
UID:1086-1738868400-1738875600@highdesertbits.com
SUMMARY:Crook County High School presents MUCH ADO ABOUT NOTHING
DESCRIPTION:Crook County High School presents MUCH ADO ABOUT NOTHING by William Shakespeare \nWed.\, Feb 5 @ 7pm \nThu.\, Feb 6 @ 7pm \nFri.\, Feb 7 @ 7pm \nSat.\, Feb 8 @ 7pm \nSun.\, Feb 9 @ 2pm \nTickets at the door!
URL:https://highdesertbits.com/event/crook-county-high-school-presents-much-ado-about-nothing-2/
LOCATION:Crook County High School\, 1100 SE Lynn Blvd\, Prineville\, OR\, 97754
END:VEVENT
BEGIN:VEVENT
DTSTART;TZID=UTC:20250207T190000
DTEND;TZID=UTC:20250207T210000
DTSTAMP:20260425T102821
CREATED:20250113T014404Z
LAST-MODIFIED:20250113T014404Z
UID:1021-1738954800-1738962000@highdesertbits.com
SUMMARY:BEAT Childrens Theatre presents FINDING NEMO
DESCRIPTION:BEAT Childrens Theatre presents FINDING NEMO at Summit High School \nMusic by Kristen Anderson-Lopez and Robert Lopez\, book adapted by Lindsay Anderson \nFri.\, 2/7 @ 7pm \nSat.\, 2/8 @ 2pm and @ 7pm \nSun.\, 2/9 @ 2pm \n 
URL:https://highdesertbits.com/event/beat-childrens-theatre-presents-finding-nemo/
LOCATION:Summit High School\, 2855 NW Clearwater Dr\,\, Bend\, OR\, 97703\, United States
END:VEVENT
BEGIN:VEVENT
DTSTART;TZID=UTC:20250207T190000
DTEND;TZID=UTC:20250207T210000
DTSTAMP:20260425T102821
CREATED:20250125T155746Z
LAST-MODIFIED:20250125T155746Z
UID:1088-1738954800-1738962000@highdesertbits.com
SUMMARY:Crook County High School presents MUCH ADO ABOUT NOTHING
DESCRIPTION:Crook County High School presents MUCH ADO ABOUT NOTHING by William Shakespeare \nWed.\, Feb 5 @ 7pm \nThu.\, Feb 6 @ 7pm \nFri.\, Feb 7 @ 7pm \nSat.\, Feb 8 @ 7pm \nSun.\, Feb 9 @ 2pm \nTickets at the door!
URL:https://highdesertbits.com/event/crook-county-high-school-presents-much-ado-about-nothing-3/
LOCATION:Crook County High School\, 1100 SE Lynn Blvd\, Prineville\, OR\, 97754
END:VEVENT
BEGIN:VEVENT
DTSTART;TZID=UTC:20250207T193000
DTEND;TZID=UTC:20250207T213000
DTSTAMP:20260425T102821
CREATED:20250112T180202Z
LAST-MODIFIED:20250112T180202Z
UID:994-1738956600-1738963800@highdesertbits.com
SUMMARY:TMP presents ANNIE at the Tower Theatre
DESCRIPTION:TMP presents ANNIE at the Tower Theatre \nMusic by Charles Strousse\, lyrics by Martin Charnin and book by Thomas Meehan \nFri\, 2/7 @ 7:30pm \nSat.\, 2/8 @ 2pm and 7:30pm \nSun.\, 2/9 at 2pm \n  \nFri.\, 2/14 @ 7:30pm \nSat.\, 2/15 @ 2pm and 7:30pm \nSun.\, 2/16 @ 2pm
URL:https://highdesertbits.com/event/tmp-presents-annie-at-the-tower-theatre/
LOCATION:Tower Theatre\, 835 NW Wall St\, Bend\, OR\, 97703\, United States
ORGANIZER;CN="TMP Thoroughly Modern Productions":MAILTO:tmpbend@gmail.com
END:VEVENT
BEGIN:VEVENT
DTSTART;TZID=UTC:20250208T140000
DTEND;TZID=UTC:20250208T160000
DTSTAMP:20260425T102821
CREATED:20250112T180415Z
LAST-MODIFIED:20250112T180415Z
UID:997-1739023200-1739030400@highdesertbits.com
SUMMARY:TMP presents ANNIE at the Tower Theatre
DESCRIPTION:TMP presents ANNIE at the Tower Theatre \nMusic by Charles Strousse\, lyrics by Martin Charnin and book by Thomas Meehan \nFri\, 2/7 @ 7:30pm \nSat.\, 2/8 @ 2pm and 7:30pm \nSun.\, 2/9 at 2pm \n  \nFri.\, 2/14 @ 7:30pm \nSat.\, 2/15 @ 2pm and 7:30pm \nSun.\, 2/16 @ 2pm
URL:https://highdesertbits.com/event/tmp-presents-annie-at-the-tower-theatre-2/
LOCATION:Tower Theatre\, 835 NW Wall St\, Bend\, OR\, 97703\, United States
ORGANIZER;CN="TMP Thoroughly Modern Productions":MAILTO:tmpbend@gmail.com
END:VEVENT
BEGIN:VEVENT
DTSTART;TZID=UTC:20250208T140000
DTEND;TZID=UTC:20250208T160000
DTSTAMP:20260425T102821
CREATED:20250113T014545Z
LAST-MODIFIED:20250208T182013Z
UID:1023-1739023200-1739030400@highdesertbits.com
SUMMARY:Beat Childrens Theatre presents FINDING NEMO
DESCRIPTION:BEAT Childrens Theatre presents FINDING NEMO at Summit High School \nMusic by Kristen Anderson-Lopez and Robert Lopez\, book adapted by Lindsay Anderson \nFri.\, 2/7 @ 7pm \nSat.\, 2/8 @ 2pm and @ 7pm \nSun.\, 2/9 @ 2pm
URL:https://highdesertbits.com/event/beat-childrens-theatre-presents-finding-nemo-2/
LOCATION:Summit High School\, 2855 NW Clearwater Dr\,\, Bend\, OR\, 97703\, United States
END:VEVENT
BEGIN:VEVENT
DTSTART;TZID=UTC:20250208T190000
DTEND;TZID=UTC:20250208T210000
DTSTAMP:20260425T102821
CREATED:20250113T014718Z
LAST-MODIFIED:20250113T014718Z
UID:1025-1739041200-1739048400@highdesertbits.com
SUMMARY:BEAT Childrens Theatre presents FINDING NEMO
DESCRIPTION:BEAT Childrens Theatre presents FINDING NEMO at Summit High School \nMusic by Kristen Anderson-Lopez and Robert Lopez\, book adapted by Lindsay Anderson \nFri.\, 2/7 @ 7pm \nSat.\, 2/8 @ 2pm and @ 7pm \nSun.\, 2/9 @ 2pm
URL:https://highdesertbits.com/event/beat-childrens-theatre-presents-finding-nemo-3/
LOCATION:Summit High School\, 2855 NW Clearwater Dr\,\, Bend\, OR\, 97703\, United States
END:VEVENT
BEGIN:VEVENT
DTSTART;TZID=UTC:20250208T190000
DTEND;TZID=UTC:20250208T210000
DTSTAMP:20260425T102821
CREATED:20250125T155919Z
LAST-MODIFIED:20250125T155919Z
UID:1090-1739041200-1739048400@highdesertbits.com
SUMMARY:Crook County High School presents MUCH ADO ABOUT NOTHING
DESCRIPTION:Crook County High School presents MUCH ADO ABOUT NOTHING by William Shakespeare \nWed.\, Feb 5 @ 7pm \nThu.\, Feb 6 @ 7pm \nFri.\, Feb 7 @ 7pm \nSat.\, Feb 8 @ 7pm \nSun.\, Feb 9 @ 2pm \nTickets at the door!
URL:https://highdesertbits.com/event/crook-county-high-school-presents-much-ado-about-nothing-4/
LOCATION:Crook County High School\, 1100 SE Lynn Blvd\, Prineville\, OR\, 97754
END:VEVENT
BEGIN:VEVENT
DTSTART;TZID=UTC:20250208T193000
DTEND;TZID=UTC:20250208T213000
DTSTAMP:20260425T102821
CREATED:20250112T180602Z
LAST-MODIFIED:20250112T180602Z
UID:999-1739043000-1739050200@highdesertbits.com
SUMMARY:
DESCRIPTION:TMP presents ANNIE at the Tower Theatre \nMusic by Charles Strousse\, lyrics by Martin Charnin and book by Thomas Meehan \nFri\, 2/7 @ 7:30pm \nSat.\, 2/8 @ 2pm and 7:30pm \nSun.\, 2/9 at 2pm \n  \nFri.\, 2/14 @ 7:30pm \nSat.\, 2/15 @ 2pm and 7:30pm \nSun.\, 2/16 @ 2pm
URL:https://highdesertbits.com/event/999/
LOCATION:Tower Theatre\, 835 NW Wall St\, Bend\, OR\, 97703\, United States
ORGANIZER;CN="TMP Thoroughly Modern Productions":MAILTO:tmpbend@gmail.com
END:VEVENT
BEGIN:VEVENT
DTSTART;TZID=UTC:20250209T140000
DTEND;TZID=UTC:20250209T160000
DTSTAMP:20260425T102821
CREATED:20250112T180748Z
LAST-MODIFIED:20250112T180748Z
UID:1001-1739109600-1739116800@highdesertbits.com
SUMMARY:TMP presents ANNIE at the Tower Theatre
DESCRIPTION:TMP presents ANNIE at the Tower Theatre \nMusic by Charles Strousse\, lyrics by Martin Charnin and book by Thomas Meehan \nFri\, 2/7 @ 7:30pm \nSat.\, 2/8 @ 2pm and 7:30pm \nSun.\, 2/9 at 2pm \n  \nFri.\, 2/14 @ 7:30pm \nSat.\, 2/15 @ 2pm and 7:30pm \nSun.\, 2/16 @ 2pm
URL:https://highdesertbits.com/event/tmp-presents-annie-at-the-tower-theatre-3/
LOCATION:Tower Theatre\, 835 NW Wall St\, Bend\, OR\, 97703\, United States
ORGANIZER;CN="TMP Thoroughly Modern Productions":MAILTO:tmpbend@gmail.com
END:VEVENT
BEGIN:VEVENT
DTSTART;TZID=UTC:20250209T140000
DTEND;TZID=UTC:20250209T160000
DTSTAMP:20260425T102821
CREATED:20250113T014828Z
LAST-MODIFIED:20250113T014828Z
UID:1027-1739109600-1739116800@highdesertbits.com
SUMMARY:BEAT Childrens Theatre presents FINDING NEMO
DESCRIPTION:BEAT Childrens Theatre presents FINDING NEMO at Summit High School \nMusic by Kristen Anderson-Lopez and Robert Lopez\, book adapted by Lindsay Anderson \nFri.\, 2/7 @ 7pm \nSat.\, 2/8 @ 2pm and @ 7pm \nSun.\, 2/9 @ 2pm
URL:https://highdesertbits.com/event/beat-childrens-theatre-presents-finding-nemo-4/
LOCATION:Summit High School\, 2855 NW Clearwater Dr\,\, Bend\, OR\, 97703\, United States
END:VEVENT
BEGIN:VEVENT
DTSTART;TZID=UTC:20250209T160000
DTEND;TZID=UTC:20250209T190000
DTSTAMP:20260425T102821
CREATED:20250112T023818Z
LAST-MODIFIED:20250112T023818Z
UID:909-1739116800-1739127600@highdesertbits.com
SUMMARY:AUDITONS for ETC's TINY BEAUTIFUL THINGS
DESCRIPTION:AUDITONS for ETC’s TINY BEAUTIFUL THINGS \nBased on the book by Cheryl Strayed\, adapted for the stage by Nia Vardalos \nSunday\, Feb 9th from 4-7pm \n  \nHoly Communion Church \n1245 SE 3rd St c10\, Bend\, OR 97702
URL:https://highdesertbits.com/event/auditons-for-etcs-tiny-beautiful-things/
LOCATION:Holy Communion Church\, 1245 SE 3rd St\, Bend\, OR\, 97702
ORGANIZER;CN="ETC Ellipse Theatre Community":MAILTO:https://www.etcbend.org/contact
END:VEVENT
BEGIN:VEVENT
DTSTART;TZID=UTC:20250209T190000
DTEND;TZID=UTC:20250209T210000
DTSTAMP:20260425T102821
CREATED:20250125T160033Z
LAST-MODIFIED:20250125T160033Z
UID:1092-1739127600-1739134800@highdesertbits.com
SUMMARY:Crook County High School presents MUCH ADO ABOUT NOTHING
DESCRIPTION:Crook County High School presents MUCH ADO ABOUT NOTHING by William Shakespeare \nWed.\, Feb 5 @ 7pm \nThu.\, Feb 6 @ 7pm \nFri.\, Feb 7 @ 7pm \nSat.\, Feb 8 @ 7pm \nSun.\, Feb 9 @ 2pm \nTickets at the door!
URL:https://highdesertbits.com/event/crook-county-high-school-presents-much-ado-about-nothing-5/
LOCATION:Crook County High School\, 1100 SE Lynn Blvd\, Prineville\, OR\, 97754
END:VEVENT
BEGIN:VEVENT
DTSTART;TZID=UTC:20250213T190000
DTEND;TZID=UTC:20250213T210000
DTSTAMP:20260425T102821
CREATED:20250213T165415Z
LAST-MODIFIED:20250213T165415Z
UID:1170-1739473200-1739480400@highdesertbits.com
SUMMARY:Ridgeview High School presents PETER PAN
DESCRIPTION:Ridgeview High School presents PETER PAN \nby J.M. Barrie \nThur.\, Feb 13 @ 7pm \nFri.\, Feb 14 @ 7pm \nSat.\, Feb 15 @ 2pm and 7pm \nThur.\, Feb 20 @ 7pm \nFri.\, Feb 21 @ 7pm \nSat.\, Feb 22 @ 2pm and 7pm
URL:https://highdesertbits.com/event/ridgeview-high-school-presents-peter-pan/
LOCATION:Ridgeview High School\, 4555 SW Elkhorn Ave\, Redmond\, OR\, 97756
END:VEVENT
BEGIN:VEVENT
DTSTART;TZID=UTC:20250214T190000
DTEND;TZID=UTC:20250214T210000
DTSTAMP:20260425T102821
CREATED:20250213T165532Z
LAST-MODIFIED:20250213T165532Z
UID:1172-1739559600-1739566800@highdesertbits.com
SUMMARY:Ridgeview High School presents PETER PAN
DESCRIPTION:Ridgeview High School presents PETER PAN \nby J.M. Barrie \nThur.\, Feb 13 @ 7pm \nFri.\, Feb 14 @ 7pm \nSat.\, Feb 15 @ 2pm and 7pm \nThur.\, Feb 20 @ 7pm \nFri.\, Feb 21 @ 7pm \nSat.\, Feb 22 @ 2pm and 7pm
URL:https://highdesertbits.com/event/ridgeview-high-school-presents-peter-pan-2/
LOCATION:Ridgeview High School\, 4555 SW Elkhorn Ave\, Redmond\, OR\, 97756
END:VEVENT
BEGIN:VEVENT
DTSTART;TZID=UTC:20250214T193000
DTEND;TZID=UTC:20250214T213000
DTSTAMP:20260425T102821
CREATED:20250112T031331Z
LAST-MODIFIED:20250112T031331Z
UID:936-1739561400-1739568600@highdesertbits.com
SUMMARY:CTC presents GRAND HORIZONS
DESCRIPTION:CTC presents GRAND HORIZONS \nby Bess Wohl \nThu.\, 2/20 @ 7:30pm                    Thu.\, 2/27 @ 7:30pm \nFri.\, 2/14 @ 7:30pm                   Fri.\, 2/21 @ 7:30pm                      Fri.\, 2/28 @ 7:30pm \nSat.\, 2/15 @ 7:30pm                   Sat.\, 2/22 @ 7:30pm                     Sat.\, 3/1 @ 7:30pm \nSun.\, 2/16 @ 2pm                       Sun.\, 2/23 @ 2pm                         Sun.\, 3/2 @ 2pm
URL:https://highdesertbits.com/event/ctc-presents-grand-horizons-8/
LOCATION:CTC Cascade Theatrical Company\, 148 NW Greenwood Ave\, Bend\, OR\, 97703
ORGANIZER;CN="CTC Cascade Theatrical Company":MAILTO:ctcinfo@cascadestheatrical.org
END:VEVENT
BEGIN:VEVENT
DTSTART;TZID=UTC:20250214T193000
DTEND;TZID=UTC:20250214T213000
DTSTAMP:20260425T102821
CREATED:20250112T180923Z
LAST-MODIFIED:20250112T180923Z
UID:1003-1739561400-1739568600@highdesertbits.com
SUMMARY:TMP presents ANNIE at the Tower Theatre
DESCRIPTION:TMP presents ANNIE at the Tower Theatre \nMusic by Charles Strousse\, lyrics by Martin Charnin and book by Thomas Meehan \nFri\, 2/7 @ 7:30pm \nSat.\, 2/8 @ 2pm and 7:30pm \nSun.\, 2/9 at 2pm \n  \nFri.\, 2/14 @ 7:30pm \nSat.\, 2/15 @ 2pm and 7:30pm \nSun.\, 2/16 @ 2pm
URL:https://highdesertbits.com/event/tmp-presents-annie-at-the-tower-theatre-4/
LOCATION:Tower Theatre\, 835 NW Wall St\, Bend\, OR\, 97703\, United States
ORGANIZER;CN="TMP Thoroughly Modern Productions":MAILTO:tmpbend@gmail.com
END:VEVENT
BEGIN:VEVENT
DTSTART;TZID=UTC:20250215T140000
DTEND;TZID=UTC:20250215T160000
DTSTAMP:20260425T102821
CREATED:20250112T181100Z
LAST-MODIFIED:20250112T181100Z
UID:1005-1739628000-1739635200@highdesertbits.com
SUMMARY:TMP presents ANNIE at the Tower Theatre
DESCRIPTION:TMP presents ANNIE at the Tower Theatre \nMusic by Charles Strousse\, lyrics by Martin Charnin and book by Thomas Meehan \nFri\, 2/7 @ 7:30pm \nSat.\, 2/8 @ 2pm and 7:30pm \nSun.\, 2/9 at 2pm \n  \nFri.\, 2/14 @ 7:30pm \nSat.\, 2/15 @ 2pm and 7:30pm \nSun.\, 2/16 @ 2pm
URL:https://highdesertbits.com/event/tmp-presents-annie-at-the-tower-theatre-5/
LOCATION:Tower Theatre\, 835 NW Wall St\, Bend\, OR\, 97703\, United States
ORGANIZER;CN="TMP Thoroughly Modern Productions":MAILTO:tmpbend@gmail.com
END:VEVENT
BEGIN:VEVENT
DTSTART;TZID=UTC:20250215T140000
DTEND;TZID=UTC:20250215T160000
DTSTAMP:20260425T102821
CREATED:20250213T165700Z
LAST-MODIFIED:20250213T165700Z
UID:1174-1739628000-1739635200@highdesertbits.com
SUMMARY:Ridgeview High School presents PETER PAN
DESCRIPTION:Ridgeview High School presents PETER PAN \nby J.M. Barrie \nThur.\, Feb 13 @ 7pm \nFri.\, Feb 14 @ 7pm \nSat.\, Feb 15 @ 2pm and 7pm \nThur.\, Feb 20 @ 7pm \nFri.\, Feb 21 @ 7pm \nSat.\, Feb 22 @ 2pm and 7pm
URL:https://highdesertbits.com/event/ridgeview-high-school-presents-peter-pan-3/
LOCATION:Ridgeview High School\, 4555 SW Elkhorn Ave\, Redmond\, OR\, 97756
END:VEVENT
BEGIN:VEVENT
DTSTART;TZID=UTC:20250215T190000
DTEND;TZID=UTC:20250215T210000
DTSTAMP:20260425T102821
CREATED:20250213T165819Z
LAST-MODIFIED:20250213T165819Z
UID:1176-1739646000-1739653200@highdesertbits.com
SUMMARY:Ridgeview High School presents PETER PAN
DESCRIPTION:Ridgeview High School presents PETER PAN \nby J.M. Barrie \nThur.\, Feb 13 @ 7pm \nFri.\, Feb 14 @ 7pm \nSat.\, Feb 15 @ 2pm and 7pm \nThur.\, Feb 20 @ 7pm \nFri.\, Feb 21 @ 7pm \nSat.\, Feb 22 @ 2pm and 7pm
URL:https://highdesertbits.com/event/ridgeview-high-school-presents-peter-pan-4/
LOCATION:Ridgeview High School\, 4555 SW Elkhorn Ave\, Redmond\, OR\, 97756
END:VEVENT
BEGIN:VEVENT
DTSTART;TZID=UTC:20250215T193000
DTEND;TZID=UTC:20250215T213000
DTSTAMP:20260425T102821
CREATED:20240928T144207Z
LAST-MODIFIED:20240928T144239Z
UID:460-1739647800-1739655000@highdesertbits.com
SUMMARY:CTC presents GRAND HORIZONS
DESCRIPTION:CTC presents Grand Horizons by Sean Grennan \nRomantic Comedy \nFeb 14-March 2\, 2024
URL:https://highdesertbits.com/event/ctc-presents-grand-horizons/
LOCATION:CTC Cascade Theatrical Company\, 148 NW Greenwood Ave\, Bend\, OR\, 97703
END:VEVENT
BEGIN:VEVENT
DTSTART;TZID=UTC:20250215T193000
DTEND;TZID=UTC:20250215T213000
DTSTAMP:20260425T102821
CREATED:20250112T181245Z
LAST-MODIFIED:20250112T181245Z
UID:1007-1739647800-1739655000@highdesertbits.com
SUMMARY:TMP presents ANNIE at the Tower Theatre
DESCRIPTION:TMP presents ANNIE at the Tower Theatre \nMusic by Charles Strousse\, lyrics by Martin Charnin and book by Thomas Meehan \nFri\, 2/7 @ 7:30pm \nSat.\, 2/8 @ 2pm and 7:30pm \nSun.\, 2/9 at 2pm \n  \nFri.\, 2/14 @ 7:30pm \nSat.\, 2/15 @ 2pm and 7:30pm \nSun.\, 2/16 @ 2pm
URL:https://highdesertbits.com/event/tmp-presents-annie-at-the-tower-theatre-6/
LOCATION:Tower Theatre\, 835 NW Wall St\, Bend\, OR\, 97703\, United States
ORGANIZER;CN="TMP Thoroughly Modern Productions":MAILTO:tmpbend@gmail.com
END:VEVENT
BEGIN:VEVENT
DTSTART;TZID=UTC:20250216T140000
DTEND;TZID=UTC:20250216T160000
DTSTAMP:20260425T102821
CREATED:20250112T181423Z
LAST-MODIFIED:20250112T181423Z
UID:1009-1739714400-1739721600@highdesertbits.com
SUMMARY:TMP presents ANNIE at the Tower Theatre
DESCRIPTION:TMP presents ANNIE at the Tower Theatre \nMusic by Charles Strousse\, lyrics by Martin Charnin and book by Thomas Meehan \nFri\, 2/7 @ 7:30pm \nSat.\, 2/8 @ 2pm and 7:30pm \nSun.\, 2/9 at 2pm \n  \nFri.\, 2/14 @ 7:30pm \nSat.\, 2/15 @ 2pm and 7:30pm \nSun.\, 2/16 @ 2pm
URL:https://highdesertbits.com/event/tmp-presents-annie-at-the-tower-theatre-7/
LOCATION:Tower Theatre\, 835 NW Wall St\, Bend\, OR\, 97703\, United States
ORGANIZER;CN="TMP Thoroughly Modern Productions":MAILTO:tmpbend@gmail.com
END:VEVENT
BEGIN:VEVENT
DTSTART;TZID=UTC:20250216T193000
DTEND;TZID=UTC:20250216T213000
DTSTAMP:20260425T102821
CREATED:20250112T031725Z
LAST-MODIFIED:20250112T031725Z
UID:940-1739734200-1739741400@highdesertbits.com
SUMMARY:CTC presents GRAND HORIZONS
DESCRIPTION:CTC presents GRAND HORIZONS \nby Bess Wohl \n_____                                             Thu.\, 2/20 @ 7:30pm                    Thu.\, 2/27 @ 7:30pm \nFri.\, 2/14 @ 7:30pm                   Fri.\, 2/21 @ 7:30pm                      Fri.\, 2/28 @ 7:30pm \nSat.\, 2/15 @ 7:30pm                   Sat.\, 2/22 @ 7:30pm                     Sat.\, 3/1 @ 7:30pm \nSun.\, 2/16 @ 2pm                       Sun.\, 2/23 @ 2pm                         Sun.\, 3/2 @ 2pm
URL:https://highdesertbits.com/event/ctc-presents-grand-horizons-10/
LOCATION:CTC Cascade Theatrical Company\, 148 NW Greenwood Ave\, Bend\, OR\, 97703
ORGANIZER;CN="CTC Cascade Theatrical Company":MAILTO:ctcinfo@cascadestheatrical.org
END:VEVENT
BEGIN:VEVENT
DTSTART;TZID=UTC:20250219T190000
DTEND;TZID=UTC:20250219T210000
DTSTAMP:20260425T102821
CREATED:20250113T011801Z
LAST-MODIFIED:20250113T011801Z
UID:1011-1739991600-1739998800@highdesertbits.com
SUMMARY:Ponderosa Players  present RIDE THE CYCLONE
DESCRIPTION:Ponderosa Players present RIDE THE CYCLONE (HS edition) at Open Space Event Studios \nMusic\, lyrics and book by Jacob Richmond and Brooke Maxwell \nWed.\, 2/19 @ 7pm \nThur.\, 2/20 @ 7pm \nFri.\, 2/21 @ 7pm \nSat.\, 2/22 @ 2pm and @ 7pm
URL:https://highdesertbits.com/event/ponderosa-players-present-ride-the-cyclone/
LOCATION:Open Space Event Studio\, 220 NE Lafayette Ave\, Bend\, OR\, 97701
END:VEVENT
BEGIN:VEVENT
DTSTART;TZID=UTC:20250220T190000
DTEND;TZID=UTC:20250220T210000
DTSTAMP:20260425T102821
CREATED:20250102T055451Z
LAST-MODIFIED:20250102T055451Z
UID:854-1740078000-1740085200@highdesertbits.com
SUMMARY:Ellipse Theatre Community presents THE LIFESPAN OF A FACT
DESCRIPTION:Ellipse Theatre Community presents THE LIFESPAN OF A FACT \nby Jeremy Kareken\, David Murrell and Gordon Farrell (Based on the book by John D’Agata and Jim Fingal) \nThu.\, 2/20 @ 7pm at Unity Community Central Oregon \nFri.\, 2/21 @7pm  Same \nSat.\, 2/22 @ 2pm Same \nSat.\, 2/22 @ 7pm Same
URL:https://highdesertbits.com/event/ellipse-theatre-community-presents-the-lifespan-of-a-fact/
LOCATION:Unity Community Central Oregon\, 63645 Scenic Dr\, Bend\, OR\, 97701
ORGANIZER;CN="ETC Ellipse Theatre Community":MAILTO:https://www.etcbend.org/contact
END:VEVENT
BEGIN:VEVENT
DTSTART;TZID=UTC:20250220T190000
DTEND;TZID=UTC:20250220T210000
DTSTAMP:20260425T102821
CREATED:20250113T012052Z
LAST-MODIFIED:20250113T012052Z
UID:1013-1740078000-1740085200@highdesertbits.com
SUMMARY:Ponderosa Players present RIDE THE CYCLONE
DESCRIPTION:Ponderosa Players present RIDE THE CYCLONE (HS edition) at Open Space Event Studios \nMusic\, lyrics and book by Jacob Richmond and Brooke Maxwell \nWed.\, 2/19 @ 7pm \nThur.\, 2/20 @ 7pm \nFri.\, 2/21 @ 7pm \nSat.\, 2/22 @ 2pm and @ 7pm
URL:https://highdesertbits.com/event/ponderosa-players-present-ride-the-cyclone-2/
LOCATION:Open Space Event Studio\, 220 NE Lafayette Ave\, Bend\, OR\, 97701
END:VEVENT
BEGIN:VEVENT
DTSTART;TZID=UTC:20250220T190000
DTEND;TZID=UTC:20250220T210000
DTSTAMP:20260425T102821
CREATED:20250213T165933Z
LAST-MODIFIED:20250213T165933Z
UID:1178-1740078000-1740085200@highdesertbits.com
SUMMARY:Ridgeview High School presents PETER PAN
DESCRIPTION:Ridgeview High School presents PETER PAN \nby J.M. Barrie \nThur.\, Feb 13 @ 7pm \nFri.\, Feb 14 @ 7pm \nSat.\, Feb 15 @ 2pm and 7pm \nThur.\, Feb 20 @ 7pm \nFri.\, Feb 21 @ 7pm \nSat.\, Feb 22 @ 2pm and 7pm
URL:https://highdesertbits.com/event/ridgeview-high-school-presents-peter-pan-5/
LOCATION:Ridgeview High School\, 4555 SW Elkhorn Ave\, Redmond\, OR\, 97756
END:VEVENT
BEGIN:VEVENT
DTSTART;TZID=UTC:20250220T193000
DTEND;TZID=UTC:20250220T213000
DTSTAMP:20260425T102821
CREATED:20250112T031852Z
LAST-MODIFIED:20250112T031852Z
UID:942-1740079800-1740087000@highdesertbits.com
SUMMARY:CTC presents GRAND HORIZONS
DESCRIPTION:CTC presents GRAND HORIZONS \nby Bess Wohl \n_____                                             Thu.\, 2/20 @ 7:30pm                    Thu.\, 2/27 @ 7:30pm \nFri.\, 2/14 @ 7:30pm                   Fri.\, 2/21 @ 7:30pm                      Fri.\, 2/28 @ 7:30pm \nSat.\, 2/15 @ 7:30pm                   Sat.\, 2/22 @ 7:30pm                     Sat.\, 3/1 @ 7:30pm \nSun.\, 2/16 @ 2pm                       Sun.\, 2/23 @ 2pm                         Sun.\, 3/2 @ 2pm
URL:https://highdesertbits.com/event/ctc-presents-grand-horizons-11/
LOCATION:CTC Cascade Theatrical Company\, 148 NW Greenwood Ave\, Bend\, OR\, 97703
ORGANIZER;CN="CTC Cascade Theatrical Company":MAILTO:ctcinfo@cascadestheatrical.org
END:VEVENT
END:VCALENDAR