BEGIN:VCALENDAR
VERSION:2.0
PRODID:-//High Desert B.I.T.S. - ECPv6.15.20//NONSGML v1.0//EN
CALSCALE:GREGORIAN
METHOD:PUBLISH
X-ORIGINAL-URL:https://highdesertbits.com
X-WR-CALDESC:Events for High Desert B.I.T.S.
REFRESH-INTERVAL;VALUE=DURATION:PT1H
X-Robots-Tag:noindex
X-PUBLISHED-TTL:PT1H
BEGIN:VTIMEZONE
TZID:UTC
BEGIN:STANDARD
TZOFFSETFROM:+0000
TZOFFSETTO:+0000
TZNAME:UTC
DTSTART:20230101T000000
END:STANDARD
END:VTIMEZONE
BEGIN:VEVENT
DTSTART;TZID=UTC:20241117T190000
DTEND;TZID=UTC:20241117T210000
DTSTAMP:20260425T133427
CREATED:20240928T140418Z
LAST-MODIFIED:20240928T140418Z
UID:427-1731870000-1731877200@highdesertbits.com
SUMMARY:Greenhouse Cabaret presents SWEENEY TODD
DESCRIPTION:Greenhouse Cabaret presents SWEENEY TODD \nMusic and lyrics by Stephen Sondheim \nBook by Hugh Wheeler \n  \nOct. 25-Nov. 23
URL:https://highdesertbits.com/event/greenhouse-cabaret-presents-sweeney-todd-14/
LOCATION:Greenhouse Cabaret\, 1017 NE 2nd St.\, Bend\, OR\, 97701\, United States
END:VEVENT
BEGIN:VEVENT
DTSTART;TZID=UTC:20241121T190000
DTEND;TZID=UTC:20241121T210000
DTSTAMP:20260425T133427
CREATED:20240928T140518Z
LAST-MODIFIED:20240928T140518Z
UID:429-1732215600-1732222800@highdesertbits.com
SUMMARY:Greenhouse Cabaret presents SWEENEY TODD
DESCRIPTION:Greenhouse Cabaret presents SWEENEY TODD \nMusic and lyrics by Stephen Sondheim \nBook by Hugh Wheeler \n  \nOct. 25-Nov. 23
URL:https://highdesertbits.com/event/greenhouse-cabaret-presents-sweeney-todd-15/
LOCATION:Greenhouse Cabaret\, 1017 NE 2nd St.\, Bend\, OR\, 97701\, United States
END:VEVENT
BEGIN:VEVENT
DTSTART;TZID=UTC:20241122T190000
DTEND;TZID=UTC:20241122T210000
DTSTAMP:20260425T133427
CREATED:20240928T140621Z
LAST-MODIFIED:20240928T140621Z
UID:431-1732302000-1732309200@highdesertbits.com
SUMMARY:Greenhouse Cabaret presents SWEENEY TODD
DESCRIPTION:Greenhouse Cabaret presents SWEENEY TODD \nMusic and lyrics by Stephen Sondheim \nBook by Hugh Wheeler \n  \nOct. 25-Nov. 23
URL:https://highdesertbits.com/event/greenhouse-cabaret-presents-sweeney-todd-16/
LOCATION:Greenhouse Cabaret\, 1017 NE 2nd St.\, Bend\, OR\, 97701\, United States
END:VEVENT
BEGIN:VEVENT
DTSTART;TZID=UTC:20241122T190000
DTEND;TZID=UTC:20241122T210000
DTSTAMP:20260425T133427
CREATED:20241022T143217Z
LAST-MODIFIED:20241118T054344Z
UID:677-1732302000-1732309200@highdesertbits.com
SUMMARY:Ochoco Players presents Two Mysteries at the Bowman Museum
DESCRIPTION:Ochoco Players presents MURDER AT GREY’S HOUND MANSION and a one Act Comedy Mystery at the Bowman Museum in Prineville \nFriday Nov 22 @7pm \nSaturday Nov 23 @7pm \nSunday Nov 24 @ 2pm \n  \nDonations accepted at the door
URL:https://highdesertbits.com/event/ochoco-players-presents-two-mysteries/
LOCATION:Bowman Historical Museum\, 246 N Main Street\, Prineville\, OR\, 97754\, United States
END:VEVENT
BEGIN:VEVENT
DTSTART;TZID=UTC:20241123T190000
DTEND;TZID=UTC:20241123T210000
DTSTAMP:20260425T133427
CREATED:20240928T140724Z
LAST-MODIFIED:20240928T140724Z
UID:433-1732388400-1732395600@highdesertbits.com
SUMMARY:Greenhouse Cabaret presents SWEENEY TODD
DESCRIPTION:Greenhouse Cabaret presents SWEENEY TODD \nMusic and lyrics by Stephen Sondheim \nBook by Hugh Wheeler \n  \nOct. 25-Nov. 23
URL:https://highdesertbits.com/event/greenhouse-cabaret-presents-sweeney-todd-17/
LOCATION:Greenhouse Cabaret\, 1017 NE 2nd St.\, Bend\, OR\, 97701\, United States
END:VEVENT
BEGIN:VEVENT
DTSTART;TZID=UTC:20241123T190000
DTEND;TZID=UTC:20241123T210000
DTSTAMP:20260425T133427
CREATED:20241022T143407Z
LAST-MODIFIED:20241118T054503Z
UID:680-1732388400-1732395600@highdesertbits.com
SUMMARY:Ochoco Players presents Two Mysteries
DESCRIPTION:Ochoco Players presents MURDER AT GREY’S HOUND MANSION and a one Act Comedy Mystery at the Bowman Museum in Prineville \nFriday Nov 22 @7pm \nSaturday Nov 23 @7pm \nSunday Nov 24 @ 2pm \n  \nDonations accepted at the door.
URL:https://highdesertbits.com/event/ochoco-players-presents-two-mysteries-2/
LOCATION:Bowman Historical Museum\, 246 N Main Street\, Prineville\, OR\, 97754\, United States
END:VEVENT
BEGIN:VEVENT
DTSTART;TZID=UTC:20241124T140000
DTEND;TZID=UTC:20241124T160000
DTSTAMP:20260425T133427
CREATED:20241022T143536Z
LAST-MODIFIED:20241118T054556Z
UID:682-1732456800-1732464000@highdesertbits.com
SUMMARY:Ochoco Players presents Two Mysteries Matinee
DESCRIPTION:Ochoco Players presents MURDER AT GREY’S HOUND MANSION and a one Act Comedy Mystery at the Bowman Museum in Prineville \nFriday Nov 22 @7pm \nSaturday Nov 23 @7pm \nSunday Nov 24 @ 2pm \n  \nDonations accepted at the door.
URL:https://highdesertbits.com/event/ochoco-players-presents-two-mysteries-3/
LOCATION:Bowman Historical Museum\, 246 N Main Street\, Prineville\, OR\, 97754\, United States
END:VEVENT
BEGIN:VEVENT
DTSTART;TZID=UTC:20241129T193000
DTEND;TZID=UTC:20241129T213000
DTSTAMP:20260425T133427
CREATED:20240928T224555Z
LAST-MODIFIED:20240928T224555Z
UID:492-1732908600-1732915800@highdesertbits.com
SUMMARY:CTC presents WINTER WONDERETTES
DESCRIPTION:Winter Wonderettes written by Roger Bean \nThe Wonderettes are back! This seasonal celebration finds the girls entertaining at the annual Harper’s Hardware Holiday Party. \nShow runs Nov. 29-Dec. 22. \nhttps://cascadetheatrical.org/winter-wonderettes/
URL:https://highdesertbits.com/event/ctc-presents-winter-wonderettes/
LOCATION:CTC Cascade Theatrical Company\, 148 NW Greenwood Ave\, Bend\, OR\, 97703
END:VEVENT
BEGIN:VEVENT
DTSTART;TZID=UTC:20241130T193000
DTEND;TZID=UTC:20241130T213000
DTSTAMP:20260425T133427
CREATED:20240928T224701Z
LAST-MODIFIED:20240928T224701Z
UID:494-1732995000-1733002200@highdesertbits.com
SUMMARY:CTC presents WINTER WONDERETTES
DESCRIPTION:Winter Wonderettes by Roger Bean \nThe Wonderettes are back! This seasonal celebration finds the girls entertaining at the annual Harper’s Hardware Holiday Party. \nShow runs Nov. 29-Dec. 22. \n  \nAuditions \nSun.\, 9/29\, 6-9pm \nMon.\, 9/30\, 6-8pm (call backs) \nhttps://cascadetheatrical.org/winter-wonderettes/ \n 
URL:https://highdesertbits.com/event/ctc-presents-winter-wonderettes-2/
LOCATION:CTC Cascade Theatrical Company\, 148 NW Greenwood Ave\, Bend\, OR\, 97703
END:VEVENT
BEGIN:VEVENT
DTSTART;TZID=UTC:20241201T140000
DTEND;TZID=UTC:20241201T160000
DTSTAMP:20260425T133427
CREATED:20240928T224815Z
LAST-MODIFIED:20240928T224815Z
UID:496-1733061600-1733068800@highdesertbits.com
SUMMARY:CTC presents WINTER WONDERETTES
DESCRIPTION:Winter Wonderettes by Roger Bean \nThe Wonderettes are back! This seasonal celebration finds the girls entertaining at the annual Harper’s Hardware Holiday Party. \nShow runs Nov. 29-Dec. 22. \n  \nAuditions \nSun.\, 9/29\, 6-9pm \nMon.\, 9/30\, 6-8pm (call backs) \nhttps://cascadetheatrical.org/winter-wonderettes/ \n 
URL:https://highdesertbits.com/event/ctc-presents-winter-wonderettes-3/
LOCATION:CTC Cascade Theatrical Company\, 148 NW Greenwood Ave\, Bend\, OR\, 97703
END:VEVENT
BEGIN:VEVENT
DTSTART;TZID=UTC:20241205T190000
DTEND;TZID=UTC:20241205T210000
DTSTAMP:20260425T133427
CREATED:20241106T010851Z
LAST-MODIFIED:20241106T010851Z
UID:733-1733425200-1733432400@highdesertbits.com
SUMMARY:Caldera High School presents THE ODESSEY: A SOLDIER'S JOURNEY HOME
DESCRIPTION:Caldera High School presents THE ODESSEY: A SOLDIER’S JOURNEY HOME \nadapted by Rosemary Cole \n12/5 at 7pm \n12/6 at 7pm \n12/7 at 7pm \n12/8 at 2pm
URL:https://highdesertbits.com/event/caldera-high-school-presents-the-odessey-a-soldiers-journey-home/
LOCATION:Caldera High School\, 60925 SE 15th St\,\, Bend\, OR\, 97702\, United States
END:VEVENT
BEGIN:VEVENT
DTSTART;TZID=UTC:20241205T193000
DTEND;TZID=UTC:20241205T213000
DTSTAMP:20260425T133427
CREATED:20240928T224925Z
LAST-MODIFIED:20240928T224925Z
UID:498-1733427000-1733434200@highdesertbits.com
SUMMARY:CTC presents WINTER WONDERETTES
DESCRIPTION:Winter Wonderettes by Roger Bean \nThe Wonderettes are back! This seasonal celebration finds the girls entertaining at the annual Harper’s Hardware Holiday Party. \nShow runs Nov. 29-Dec. 22. \n  \nAuditions \nSun.\, 9/29\, 6-9pm \nMon.\, 9/30\, 6-8pm (call backs) \nhttps://cascadetheatrical.org/winter-wonderettes/ \n 
URL:https://highdesertbits.com/event/ctc-presents-winter-wonderettes-4/
LOCATION:CTC Cascade Theatrical Company\, 148 NW Greenwood Ave\, Bend\, OR\, 97703
END:VEVENT
BEGIN:VEVENT
DTSTART;TZID=UTC:20241205T193000
DTEND;TZID=UTC:20241205T213000
DTSTAMP:20260425T133427
CREATED:20241202T155204Z
LAST-MODIFIED:20241202T155204Z
UID:771-1733427000-1733434200@highdesertbits.com
SUMMARY:Silent Echo Theatre Company presents WHAT THE DICKENS
DESCRIPTION:Silent Echo Theatre Company presents WHAT THE DICKENS by Matt Austin \nAt the Sisters Middle School \nTh – 12/5 @ 7:30pm \nFr – 12/6 @ 7:30pm \nSa – 12/7 @ 2pm AND 7:30pm \nSu – 12/8 @ 2pm \nTh – 12/12 @ 7:30pm \nFr – 12/13 @7:30pm \nSa – 12/14 @ 7:30pm \nSu – 12/15 @ 2pm \nPG-13 – Contains material that may be inappropriate for children under 13
URL:https://highdesertbits.com/event/silent-echo-theatre-company-presents-what-the-dickens/
LOCATION:Sisters Middle School\, 15200 McKenzie Hwy\, Sisters\, Oregon\, 97759
ORGANIZER;CN="Silent Echo Theatre Company":MAILTO:silentechotheatercompany@gmail.com
END:VEVENT
BEGIN:VEVENT
DTSTART;TZID=UTC:20241206T190000
DTEND;TZID=UTC:20241206T210000
DTSTAMP:20260425T133427
CREATED:20241106T002824Z
LAST-MODIFIED:20241125T162013Z
UID:719-1733511600-1733518800@highdesertbits.com
SUMMARY:Summit High School presents MEAN GIRLS
DESCRIPTION:Summit High School presents MEAN GIRLS \nBook by Tina Fey\, Music by Jeff Richmond and Lyrics by Nell Benjamin \nhttps://www.stspotlight.org/ \nFri.\, 12/6 at 7pm \nSat.\, 12/7 at 7pm \nSun.\, 12/8 at 2pm \nFri.\, 12/12 at 7pm \nSat.\, 12/13 at 7pm \nSun.\, 12/14 at 7pm
URL:https://highdesertbits.com/event/summit-high-school-presents-mean-girls/
LOCATION:Summit High School\, 2855 NW Clearwater Dr\,\, Bend\, OR\, 97703\, United States
END:VEVENT
BEGIN:VEVENT
DTSTART;TZID=UTC:20241206T190000
DTEND;TZID=UTC:20241206T210000
DTSTAMP:20260425T133427
CREATED:20241106T011007Z
LAST-MODIFIED:20241106T011007Z
UID:737-1733511600-1733518800@highdesertbits.com
SUMMARY:Caldera High School presents THE ODESSEY: A SOLDIER'S JOURNEY HOME
DESCRIPTION:Caldera High School presents THE ODESSEY: A SOLDIER’S JOURNEY HOME \nadapted by Rosemary Cole \n12/5 at 7pm \n12/6 at 7pm \n12/7 at 7pm \n12/8 at 2pm
URL:https://highdesertbits.com/event/caldera-high-school-presents-the-odessey-a-soldiers-journey-home-2/
LOCATION:Caldera High School\, 60925 SE 15th St\,\, Bend\, OR\, 97702\, United States
END:VEVENT
BEGIN:VEVENT
DTSTART;TZID=UTC:20241206T193000
DTEND;TZID=UTC:20241206T213000
DTSTAMP:20260425T133427
CREATED:20240928T225044Z
LAST-MODIFIED:20240928T225044Z
UID:500-1733513400-1733520600@highdesertbits.com
SUMMARY:CTC presents WINTER WONDERETTES
DESCRIPTION:Winter Wonderettes by Roger Bean \nThe Wonderettes are back! This seasonal celebration finds the girls entertaining at the annual Harper’s Hardware Holiday Party. \nShow runs Nov. 29-Dec. 22. \n  \n  \n 
URL:https://highdesertbits.com/event/ctc-presents-winter-wonderettes-5/
LOCATION:CTC Cascade Theatrical Company\, 148 NW Greenwood Ave\, Bend\, OR\, 97703
END:VEVENT
BEGIN:VEVENT
DTSTART;TZID=UTC:20241206T193000
DTEND;TZID=UTC:20241206T213000
DTSTAMP:20260425T133427
CREATED:20241202T155901Z
LAST-MODIFIED:20241202T155901Z
UID:777-1733513400-1733520600@highdesertbits.com
SUMMARY:Silent Echo Theatre Company presents WHAT THE DICKENS
DESCRIPTION:Silent Echo Theatre Company presents WHAT THE DICKENS by Matt Austin \nAt the Sisters Middle School \nTh – 12/5 @ 7:30pm \nFr – 12/6 @ 7:30pm \nSa – 12/7 @ 2pm AND 7:30pm \nSu – 12/8 @ 2pm \nTh – 12/12 @ 7:30pm \nFr – 12/13 @7:30pm \nSa – 12/14 @ 7:30pm \nSu – 12/15 @ 2pm \nPG-13 – Contains material that may be inappropriate for children under 13
URL:https://highdesertbits.com/event/silent-echo-theatre-company-presents-what-the-dickens-2/
LOCATION:Sisters Middle School\, 15200 McKenzie Hwy\, Sisters\, OR\, 97759
ORGANIZER;CN="Silent Echo Theatre Company":MAILTO:silentechotheatercompany@gmail.com
END:VEVENT
BEGIN:VEVENT
DTSTART;TZID=UTC:20241207T000000
DTEND;TZID=UTC:20241207T235959
DTSTAMP:20260425T133427
CREATED:20241113T201022Z
LAST-MODIFIED:20241113T201022Z
UID:759-1733529600-1733615999@highdesertbits.com
SUMMARY:Ponderosa Players Audition Registration opens for GUYS and DOLLS
DESCRIPTION:Ponderosa Players Audition Registration for GUYS AND DOLLS \nStudents 11-18 \nAudition dates March 7 and March 8 \nProduction Dates June 25-28 at The Hayshed \n 
URL:https://highdesertbits.com/event/ponderosa-players-audition-registration-opens-for-guys-and-dolls/
LOCATION:Ponderosa Players\, 705 NE Majesty Ln\, Bend\, OR\, 97701
END:VEVENT
BEGIN:VEVENT
DTSTART;TZID=UTC:20241207T140000
DTEND;TZID=UTC:20241207T160000
DTSTAMP:20260425T133427
CREATED:20241202T160107Z
LAST-MODIFIED:20241202T160107Z
UID:779-1733580000-1733587200@highdesertbits.com
SUMMARY:Silent Echo Theatre Company presents WHAT THE DICKENS
DESCRIPTION:Silent Echo Theatre Company presents WHAT THE DICKENS by Matt Austin \nAt the Sisters Middle School \nTh – 12/5 @ 7:30pm \nFr – 12/6 @ 7:30pm \nSa – 12/7 @ 2pm AND 7:30pm \nSu – 12/8 @ 2pm \nTh – 12/12 @ 7:30pm \nFr – 12/13 @7:30pm \nSa – 12/14 @ 7:30pm \nSu – 12/15 @ 2pm \nPG-13 – Contains material that may be inappropriate for children under 13
URL:https://highdesertbits.com/event/silent-echo-theatre-company-presents-what-the-dickens-3/
LOCATION:Sisters Middle School\, 15200 McKenzie Hwy\, Sisters\, OR\, 97759
ORGANIZER;CN="Silent Echo Theatre Company":MAILTO:silentechotheatercompany@gmail.com
END:VEVENT
BEGIN:VEVENT
DTSTART;TZID=UTC:20241207T190000
DTEND;TZID=UTC:20241207T210000
DTSTAMP:20260425T133427
CREATED:20241106T004106Z
LAST-MODIFIED:20241125T161847Z
UID:722-1733598000-1733605200@highdesertbits.com
SUMMARY:Summit High School presents MEAN GIRLS
DESCRIPTION:Summit High School presents MEAN GIRLS \nBook by Tina Fey\, Music by Jeff Richmond and Lyrics by Nell Benjamin \nhttps://www.stspotlight.org/ \nFri.\, 12/6 at 7pm \nSat.\, 12/7 at 7pm \nSun.\, 12/8 at 7pm \nFri.\, 12/12 at 7pm \nSat.\, 12/13 at 7pm \nSun.\, 12/14 at 7pm
URL:https://highdesertbits.com/event/summit-high-school-presents-mean-girls-2/
LOCATION:Summit High School\, 2855 NW Clearwater Dr\,\, Bend\, OR\, 97703\, United States
END:VEVENT
BEGIN:VEVENT
DTSTART;TZID=UTC:20241207T190000
DTEND;TZID=UTC:20241207T210000
DTSTAMP:20260425T133427
CREATED:20241106T011123Z
LAST-MODIFIED:20241106T011123Z
UID:739-1733598000-1733605200@highdesertbits.com
SUMMARY:Caldera High School presents THE ODESSEY: A SOLDIER'S JOURNEY HOME
DESCRIPTION:Caldera High School presents THE ODESSEY: A SOLDIER’S JOURNEY HOME \nadapted by Rosemary Cole \n12/5 at 7pm \n12/6 at 7pm \n12/7 at 7pm \n12/8 at 2pm
URL:https://highdesertbits.com/event/caldera-high-school-presents-the-odessey-a-soldiers-journey-home-3/
LOCATION:Caldera High School\, 60925 SE 15th St\,\, Bend\, OR\, 97702\, United States
END:VEVENT
BEGIN:VEVENT
DTSTART;TZID=UTC:20241207T193000
DTEND;TZID=UTC:20241207T213000
DTSTAMP:20260425T133427
CREATED:20240928T225143Z
LAST-MODIFIED:20240928T225143Z
UID:502-1733599800-1733607000@highdesertbits.com
SUMMARY:CTC presents WINTER WONDERETTES
DESCRIPTION:Winter Wonderettes by Roger Bean \nThe Wonderettes are back! This seasonal celebration finds the girls entertaining at the annual Harper’s Hardware Holiday Party. \nShow runs Nov. 29-Dec. 22. \n  \n 
URL:https://highdesertbits.com/event/ctc-presents-winter-wonderettes-6/
LOCATION:CTC Cascade Theatrical Company\, 148 NW Greenwood Ave\, Bend\, OR\, 97703
END:VEVENT
BEGIN:VEVENT
DTSTART;TZID=UTC:20241207T193000
DTEND;TZID=UTC:20241207T213000
DTSTAMP:20260425T133427
CREATED:20241202T160253Z
LAST-MODIFIED:20241202T160253Z
UID:781-1733599800-1733607000@highdesertbits.com
SUMMARY:Silent Echo Theatre Company presents WHAT THE DICKENS
DESCRIPTION:Silent Echo Theatre Company presents WHAT THE DICKENS by Matt Austin \nAt the Sisters Middle School \nTh – 12/5 @ 7:30pm \nFr – 12/6 @ 7:30pm \nSa – 12/7 @ 2pm AND 7:30pm \nSu – 12/8 @ 2pm \nTh – 12/12 @ 7:30pm \nFr – 12/13 @7:30pm \nSa – 12/14 @ 7:30pm \nSu – 12/15 @ 2pm \nPG-13 – Contains material that may be inappropriate for children under 13
URL:https://highdesertbits.com/event/silent-echo-theatre-company-presents-what-the-dickens-4/
LOCATION:Sisters Middle School\, 15200 McKenzie Hwy\, Sisters\, Oregon\, 97759
ORGANIZER;CN="Silent Echo Theatre Company":MAILTO:silentechotheatercompany@gmail.com
END:VEVENT
BEGIN:VEVENT
DTSTART;TZID=UTC:20241208T140000
DTEND;TZID=UTC:20241208T160000
DTSTAMP:20260425T133427
CREATED:20240928T225259Z
LAST-MODIFIED:20240928T225259Z
UID:504-1733666400-1733673600@highdesertbits.com
SUMMARY:CTC presents WINTER WONDERETTES matinee
DESCRIPTION:Winter Wonderettes by Roger Bean \nThe Wonderettes are back! This seasonal celebration finds the girls entertaining at the annual Harper’s Hardware Holiday Party. \nShow runs Nov. 29-Dec. 22. \n  \n 
URL:https://highdesertbits.com/event/ctc-presents-winter-wonderettes-matinee/
LOCATION:CTC Cascade Theatrical Company\, 148 NW Greenwood Ave\, Bend\, OR\, 97703
END:VEVENT
BEGIN:VEVENT
DTSTART;TZID=UTC:20241208T140000
DTEND;TZID=UTC:20241208T160000
DTSTAMP:20260425T133427
CREATED:20241106T004207Z
LAST-MODIFIED:20241125T161759Z
UID:724-1733666400-1733673600@highdesertbits.com
SUMMARY:Summit High School presents MEAN GIRLS
DESCRIPTION:Summit High School presents MEAN GIRLS \nBook by Tina Fey\, Music by Jeff Richmond and Lyrics by Nell Benjamin \nhttps://www.stspotlight.org/ \nFri.\, 12/6 at 7pm \nSat.\, 12/7 at 7pm \nSun.\, 12/8 at 2pm \nFri.\, 12/12 at 7pm \nSat.\, 12/13 at 7pm \nSun.\, 12/14 at 7pm
URL:https://highdesertbits.com/event/summit-high-school-presents-mean-girls-3/
LOCATION:Summit High School\, 2855 NW Clearwater Dr\,\, Bend\, OR\, 97703\, United States
END:VEVENT
BEGIN:VEVENT
DTSTART;TZID=UTC:20241208T140000
DTEND;TZID=UTC:20241208T160000
DTSTAMP:20260425T133427
CREATED:20241106T011249Z
LAST-MODIFIED:20241106T011249Z
UID:741-1733666400-1733673600@highdesertbits.com
SUMMARY:Caldera High School presents THE ODESSEY: A SOLDIER'S JOURNEY HOME
DESCRIPTION:Caldera High School presents THE ODESSEY: A SOLDIER’S JOURNEY HOME \nadapted by Rosemary Cole \n12/5 at 7pm \n12/6 at 7pm \n12/7 at 7pm \n12/8 at 2pm
URL:https://highdesertbits.com/event/caldera-high-school-presents-the-odessey-a-soldiers-journey-home-4/
LOCATION:Caldera High School\, 60925 SE 15th St\,\, Bend\, OR\, 97702\, United States
END:VEVENT
BEGIN:VEVENT
DTSTART;TZID=UTC:20241208T140000
DTEND;TZID=UTC:20241208T160000
DTSTAMP:20260425T133427
CREATED:20241202T160431Z
LAST-MODIFIED:20241202T160431Z
UID:783-1733666400-1733673600@highdesertbits.com
SUMMARY:Silent Echo Theatre Company presents WHAT THE DICKENS
DESCRIPTION:Silent Echo Theatre Company presents WHAT THE DICKENS by Matt Austin \nAt the Sisters Middle School \nTh – 12/5 @ 7:30pm \nFr – 12/6 @ 7:30pm \nSa – 12/7 @ 2pm AND 7:30pm \nSu – 12/8 @ 2pm \nTh – 12/12 @ 7:30pm \nFr – 12/13 @7:30pm \nSa – 12/14 @ 7:30pm \nSu – 12/15 @ 2pm \nPG-13 – Contains material that may be inappropriate for children under 13
URL:https://highdesertbits.com/event/silent-echo-theatre-company-presents-what-the-dickens-5/
LOCATION:Sisters Middle School\, 15200 McKenzie Hwy\, Sisters\, Oregon\, 97759
ORGANIZER;CN="Silent Echo Theatre Company":MAILTO:silentechotheatercompany@gmail.com
END:VEVENT
BEGIN:VEVENT
DTSTART;TZID=UTC:20241212T190000
DTEND;TZID=UTC:20241212T210000
DTSTAMP:20260425T133427
CREATED:20241106T004317Z
LAST-MODIFIED:20241109T044133Z
UID:726-1734030000-1734037200@highdesertbits.com
SUMMARY:Summit High School presents MEAN GIRLS
DESCRIPTION:Summit High School presents MEAN GIRLS \nBook by Tina Fey\, Music by Jeff Richmond and Lyrics by Nell Benjamin \n  \nFri.\, 12/6 at 7pm \nSat.\, 12/7 at 7pm \nSun.\, 12/8 at 2pm \nFri.\, 12/12 at 7pm \nSat.\, 12/13 at 7pm \nSun.\, 12/14 at 7pm
URL:https://highdesertbits.com/event/summit-high-school-presents-mean-girls-4/
LOCATION:Summit High School\, 2855 NW Clearwater Dr\,\, Bend\, OR\, 97703\, United States
END:VEVENT
BEGIN:VEVENT
DTSTART;TZID=UTC:20241212T193000
DTEND;TZID=UTC:20241212T213000
DTSTAMP:20260425T133427
CREATED:20240928T225419Z
LAST-MODIFIED:20240928T225419Z
UID:506-1734031800-1734039000@highdesertbits.com
SUMMARY:CTC presents WINTER WONDERETTES
DESCRIPTION:Winter Wonderettes by Roger Bean \nThe Wonderettes are back! This seasonal celebration finds the girls entertaining at the annual Harper’s Hardware Holiday Party. \nShow runs Nov. 29-Dec. 22.
URL:https://highdesertbits.com/event/ctc-presents-winter-wonderettes-7/
LOCATION:CTC Cascade Theatrical Company\, 148 NW Greenwood Ave\, Bend\, OR\, 97703
END:VEVENT
BEGIN:VEVENT
DTSTART;TZID=UTC:20241212T193000
DTEND;TZID=UTC:20241212T213000
DTSTAMP:20260425T133427
CREATED:20241202T160611Z
LAST-MODIFIED:20241202T161351Z
UID:785-1734031800-1734039000@highdesertbits.com
SUMMARY:Silent Echo Theatre Company presents WHAT THE DICKENS
DESCRIPTION:Silent Echo Theatre Company presents WHAT THE DICKENS by Matt Austin \nAt the Sisters Middle School \nTh – 12/5 @ 7:30pm \nFr – 12/6 @ 7:30pm \nSa – 12/7 @ 2pm AND 7:30pm \nSu – 12/8 @ 2pm \nTh – 12/12 @ 7:30pm \nFr – 12/13 @7:30pm \nSa – 12/14 @ 7:30pm \nSu – 12/15 @ 2pm \nPG-13 – Contains material that may be inappropriate for children under 13
URL:https://highdesertbits.com/event/silent-echo-theatre-compnay-presents-what-the-dickens/
LOCATION:Sisters Middle School\, 15200 McKenzie Hwy\, Sisters\, OR\, 97759
ORGANIZER;CN="Silent Echo Theatre Company":MAILTO:silentechotheatercompany@gmail.com
END:VEVENT
END:VCALENDAR